BEGIN:VCALENDAR
VERSION:2.0
PRODID:-//Tracy Memorial Library - ECPv6.15.20//NONSGML v1.0//EN
CALSCALE:GREGORIAN
METHOD:PUBLISH
X-WR-CALNAME:Tracy Memorial Library
X-ORIGINAL-URL:https://tracylibrary.org
X-WR-CALDESC:Events for Tracy Memorial Library
REFRESH-INTERVAL;VALUE=DURATION:PT1H
X-Robots-Tag:noindex
X-PUBLISHED-TTL:PT1H
BEGIN:VTIMEZONE
TZID:America/New_York
BEGIN:DAYLIGHT
TZOFFSETFROM:-0500
TZOFFSETTO:-0400
TZNAME:EDT
DTSTART:20240310T070000
END:DAYLIGHT
BEGIN:STANDARD
TZOFFSETFROM:-0400
TZOFFSETTO:-0500
TZNAME:EST
DTSTART:20241103T060000
END:STANDARD
BEGIN:DAYLIGHT
TZOFFSETFROM:-0500
TZOFFSETTO:-0400
TZNAME:EDT
DTSTART:20250309T070000
END:DAYLIGHT
BEGIN:STANDARD
TZOFFSETFROM:-0400
TZOFFSETTO:-0500
TZNAME:EST
DTSTART:20251102T060000
END:STANDARD
BEGIN:DAYLIGHT
TZOFFSETFROM:-0500
TZOFFSETTO:-0400
TZNAME:EDT
DTSTART:20260308T070000
END:DAYLIGHT
BEGIN:STANDARD
TZOFFSETFROM:-0400
TZOFFSETTO:-0500
TZNAME:EST
DTSTART:20261101T060000
END:STANDARD
END:VTIMEZONE
BEGIN:VEVENT
DTSTART;TZID=America/New_York:20250801T110000
DTEND;TZID=America/New_York:20250801T120000
DTSTAMP:20260423T230211
CREATED:20250618T143103Z
LAST-MODIFIED:20250618T143103Z
UID:9423-1754046000-1754049600@tracylibrary.org
SUMMARY:Book Bike Story Time
DESCRIPTION:Meet us at Elkins Beach for sunshine and stories. Ben will be riding our Book and and will bring some fun summer themed books to share.
URL:https://tracylibrary.org/event/book-bike-story-time/2025-08-01/
ATTACH;FMTTYPE=image/jpeg:https://tracylibrary.org/wp-content/uploads/2024/08/IMG_20240628_105630549_HDR-scaled.jpg
END:VEVENT
BEGIN:VEVENT
DTSTART;TZID=America/New_York:20250725T110000
DTEND;TZID=America/New_York:20250725T120000
DTSTAMP:20260423T230211
CREATED:20250618T143103Z
LAST-MODIFIED:20250618T143103Z
UID:9422-1753441200-1753444800@tracylibrary.org
SUMMARY:Book Bike Story Time
DESCRIPTION:Meet us at Elkins Beach for sunshine and stories. Ben will be riding our Book and and will bring some fun summer themed books to share.
URL:https://tracylibrary.org/event/book-bike-story-time/2025-07-25/
ATTACH;FMTTYPE=image/jpeg:https://tracylibrary.org/wp-content/uploads/2024/08/IMG_20240628_105630549_HDR-scaled.jpg
END:VEVENT
BEGIN:VEVENT
DTSTART;TZID=America/New_York:20250718T110000
DTEND;TZID=America/New_York:20250718T120000
DTSTAMP:20260423T230211
CREATED:20250618T143103Z
LAST-MODIFIED:20250618T143103Z
UID:9421-1752836400-1752840000@tracylibrary.org
SUMMARY:Book Bike Story Time
DESCRIPTION:Meet us at Elkins Beach for sunshine and stories. Ben will be riding our Book and and will bring some fun summer themed books to share.
URL:https://tracylibrary.org/event/book-bike-story-time/2025-07-18/
ATTACH;FMTTYPE=image/jpeg:https://tracylibrary.org/wp-content/uploads/2024/08/IMG_20240628_105630549_HDR-scaled.jpg
END:VEVENT
BEGIN:VEVENT
DTSTART;TZID=America/New_York:20250711T110000
DTEND;TZID=America/New_York:20250711T120000
DTSTAMP:20260423T230211
CREATED:20250618T143103Z
LAST-MODIFIED:20250618T143103Z
UID:9420-1752231600-1752235200@tracylibrary.org
SUMMARY:Book Bike Story Time
DESCRIPTION:Meet us at Elkins Beach for sunshine and stories. Ben will be riding our Book and and will bring some fun summer themed books to share.
URL:https://tracylibrary.org/event/book-bike-story-time/2025-07-11/
ATTACH;FMTTYPE=image/jpeg:https://tracylibrary.org/wp-content/uploads/2024/08/IMG_20240628_105630549_HDR-scaled.jpg
END:VEVENT
BEGIN:VEVENT
DTSTART;TZID=America/New_York:20250627T110000
DTEND;TZID=America/New_York:20250627T120000
DTSTAMP:20260423T230211
CREATED:20250618T143103Z
LAST-MODIFIED:20250618T143103Z
UID:9418-1751022000-1751025600@tracylibrary.org
SUMMARY:Book Bike Story Time
DESCRIPTION:Meet us at Elkins Beach for sunshine and stories. Ben will be riding our Book and and will bring some fun summer themed books to share.
URL:https://tracylibrary.org/event/book-bike-story-time/2025-06-27/
ATTACH;FMTTYPE=image/jpeg:https://tracylibrary.org/wp-content/uploads/2024/08/IMG_20240628_105630549_HDR-scaled.jpg
END:VEVENT
END:VCALENDAR