BEGIN:VCALENDAR
VERSION:2.0
PRODID:-//Tracy Memorial Library - ECPv6.15.20//NONSGML v1.0//EN
CALSCALE:GREGORIAN
METHOD:PUBLISH
X-WR-CALNAME:Tracy Memorial Library
X-ORIGINAL-URL:https://tracylibrary.org
X-WR-CALDESC:Events for Tracy Memorial Library
REFRESH-INTERVAL;VALUE=DURATION:PT1H
X-Robots-Tag:noindex
X-PUBLISHED-TTL:PT1H
BEGIN:VTIMEZONE
TZID:America/New_York
BEGIN:DAYLIGHT
TZOFFSETFROM:-0500
TZOFFSETTO:-0400
TZNAME:EDT
DTSTART:20230312T070000
END:DAYLIGHT
BEGIN:STANDARD
TZOFFSETFROM:-0400
TZOFFSETTO:-0500
TZNAME:EST
DTSTART:20231105T060000
END:STANDARD
BEGIN:DAYLIGHT
TZOFFSETFROM:-0500
TZOFFSETTO:-0400
TZNAME:EDT
DTSTART:20240310T070000
END:DAYLIGHT
BEGIN:STANDARD
TZOFFSETFROM:-0400
TZOFFSETTO:-0500
TZNAME:EST
DTSTART:20241103T060000
END:STANDARD
BEGIN:DAYLIGHT
TZOFFSETFROM:-0500
TZOFFSETTO:-0400
TZNAME:EDT
DTSTART:20250309T070000
END:DAYLIGHT
BEGIN:STANDARD
TZOFFSETFROM:-0400
TZOFFSETTO:-0500
TZNAME:EST
DTSTART:20251102T060000
END:STANDARD
BEGIN:DAYLIGHT
TZOFFSETFROM:-0500
TZOFFSETTO:-0400
TZNAME:EDT
DTSTART:20260308T070000
END:DAYLIGHT
BEGIN:STANDARD
TZOFFSETFROM:-0400
TZOFFSETTO:-0500
TZNAME:EST
DTSTART:20261101T060000
END:STANDARD
BEGIN:DAYLIGHT
TZOFFSETFROM:-0500
TZOFFSETTO:-0400
TZNAME:EDT
DTSTART:20270314T070000
END:DAYLIGHT
BEGIN:STANDARD
TZOFFSETFROM:-0400
TZOFFSETTO:-0500
TZNAME:EST
DTSTART:20271107T060000
END:STANDARD
END:VTIMEZONE
BEGIN:VEVENT
DTSTART;TZID=America/New_York:20260421T100000
DTEND;TZID=America/New_York:20260421T110000
DTSTAMP:20260423T133443
CREATED:20241107T201138Z
LAST-MODIFIED:20241107T201138Z
UID:10434-1776765600-1776769200@tracylibrary.org
SUMMARY:Cookbook Club
DESCRIPTION:Join the Tracy Library’s Cookbook Club.  Every other month we try recipes from a new cookbook and share our experiences.  Samples are always welcome but never required.  Open to all.  Cookbooks available a couple of weeks before the meeting at the circulation desk.
URL:https://tracylibrary.org/event/cookbook-club/2026-04-21/
ATTACH;FMTTYPE=image/jpeg:https://tracylibrary.org/wp-content/uploads/2025/08/Recipe-for-Success.jpg
END:VEVENT
BEGIN:VEVENT
DTSTART;TZID=America/New_York:20251216T100000
DTEND;TZID=America/New_York:20251216T110000
DTSTAMP:20260423T133443
CREATED:20241107T201138Z
LAST-MODIFIED:20260316T195052Z
UID:9871-1765879200-1765882800@tracylibrary.org
SUMMARY:Cookbook Club
DESCRIPTION:Join the Tracy Library’s Cookbook Club.  Every other month we try recipes from a new cookbook and share our experiences.  Samples are always welcome but never required.  Open to all.  Cookbooks available a couple of weeks before the meeting at the circulation desk.
URL:https://tracylibrary.org/event/cookbook-club/2025-12-16/
ATTACH;FMTTYPE=image/jpeg:https://tracylibrary.org/wp-content/uploads/2025/08/Recipe-for-Success.jpg
END:VEVENT
BEGIN:VEVENT
DTSTART;TZID=America/New_York:20251021T100000
DTEND;TZID=America/New_York:20251021T110000
DTSTAMP:20260423T133443
CREATED:20241107T201138Z
LAST-MODIFIED:20260316T195051Z
UID:9628-1761040800-1761044400@tracylibrary.org
SUMMARY:Cookbook Club
DESCRIPTION:Join the Tracy Library’s Cookbook Club.  Every other month we try recipes from a new cookbook and share our experiences.  Samples are always welcome but never required.  Open to all.  Cookbooks available a couple of weeks before the meeting at the circulation desk.
URL:https://tracylibrary.org/event/cookbook-club/2025-10-21/
ATTACH;FMTTYPE=image/jpeg:https://tracylibrary.org/wp-content/uploads/2025/08/Recipe-for-Success.jpg
END:VEVENT
BEGIN:VEVENT
DTSTART;TZID=America/New_York:20250805T100000
DTEND;TZID=America/New_York:20250805T110000
DTSTAMP:20260423T133443
CREATED:20241107T201138Z
LAST-MODIFIED:20260316T195050Z
UID:9436-1754388000-1754391600@tracylibrary.org
SUMMARY:Cookbook Club
DESCRIPTION:Join the Tracy Library’s Cookbook Club.  Every other month we try recipes from a new cookbook and share our experiences.  Samples are always welcome but never required.  Open to all.  Cookbooks available a couple of weeks before the meeting at the circulation desk.
URL:https://tracylibrary.org/event/cookbook-club/2025-08-05/
ATTACH;FMTTYPE=image/jpeg:https://tracylibrary.org/wp-content/uploads/2025/08/Recipe-for-Success.jpg
END:VEVENT
BEGIN:VEVENT
DTSTART;TZID=America/New_York:20250520T110000
DTEND;TZID=America/New_York:20250520T120000
DTSTAMP:20260423T133443
CREATED:20241107T201138Z
LAST-MODIFIED:20260316T195047Z
UID:9077-1747738800-1747742400@tracylibrary.org
SUMMARY:Cookbook Club
DESCRIPTION:Join the Tracy Library’s Cookbook Club.  Every other month we try recipes from a new cookbook and share our experiences.  Samples are always welcome but never required.  Open to all.  Cookbooks available a couple of weeks before the meeting at the circulation desk.
URL:https://tracylibrary.org/event/cookbook-club/2025-05-20/
ATTACH;FMTTYPE=image/jpeg:https://tracylibrary.org/wp-content/uploads/2025/08/Recipe-for-Success.jpg
END:VEVENT
BEGIN:VEVENT
DTSTART;TZID=America/New_York:20250318T100000
DTEND;TZID=America/New_York:20250318T110000
DTSTAMP:20260423T133443
CREATED:20241107T201138Z
LAST-MODIFIED:20260316T195045Z
UID:8995-1742292000-1742295600@tracylibrary.org
SUMMARY:Cookbook Club
DESCRIPTION:Join the Tracy Library’s Cookbook Club.  Every other month we try recipes from a new cookbook and share our experiences.  Samples are always welcome but never required.  Open to all.  Cookbooks available a couple of weeks before the meeting at the circulation desk.
URL:https://tracylibrary.org/event/cookbook-club/2025-03-18/
ATTACH;FMTTYPE=image/jpeg:https://tracylibrary.org/wp-content/uploads/2025/08/Recipe-for-Success.jpg
END:VEVENT
BEGIN:VEVENT
DTSTART;TZID=America/New_York:20241119T100000
DTEND;TZID=America/New_York:20241119T110000
DTSTAMP:20260423T133443
CREATED:20241107T201138Z
LAST-MODIFIED:20260316T195039Z
UID:8537-1732010400-1732014000@tracylibrary.org
SUMMARY:Cookbook Club
DESCRIPTION:Join the Tracy Library’s Cookbook Club.  Every other month we try recipes from a new cookbook and share our experiences.  Samples are always welcome but never required.  Open to all.  Cookbooks available a couple of weeks before the meeting at the circulation desk.
URL:https://tracylibrary.org/event/cookbook-club/2024-11-19/
ATTACH;FMTTYPE=image/jpeg:https://tracylibrary.org/wp-content/uploads/2025/08/Recipe-for-Success.jpg
END:VEVENT
END:VCALENDAR