BEGIN:VCALENDAR
VERSION:2.0
PRODID:-//Tracy Memorial Library - ECPv6.15.20//NONSGML v1.0//EN
CALSCALE:GREGORIAN
METHOD:PUBLISH
X-WR-CALNAME:Tracy Memorial Library
X-ORIGINAL-URL:https://tracylibrary.org
X-WR-CALDESC:Events for Tracy Memorial Library
REFRESH-INTERVAL;VALUE=DURATION:PT1H
X-Robots-Tag:noindex
X-PUBLISHED-TTL:PT1H
BEGIN:VTIMEZONE
TZID:America/New_York
BEGIN:DAYLIGHT
TZOFFSETFROM:-0500
TZOFFSETTO:-0400
TZNAME:EDT
DTSTART:20230312T070000
END:DAYLIGHT
BEGIN:STANDARD
TZOFFSETFROM:-0400
TZOFFSETTO:-0500
TZNAME:EST
DTSTART:20231105T060000
END:STANDARD
BEGIN:DAYLIGHT
TZOFFSETFROM:-0500
TZOFFSETTO:-0400
TZNAME:EDT
DTSTART:20240310T070000
END:DAYLIGHT
BEGIN:STANDARD
TZOFFSETFROM:-0400
TZOFFSETTO:-0500
TZNAME:EST
DTSTART:20241103T060000
END:STANDARD
BEGIN:DAYLIGHT
TZOFFSETFROM:-0500
TZOFFSETTO:-0400
TZNAME:EDT
DTSTART:20250309T070000
END:DAYLIGHT
BEGIN:STANDARD
TZOFFSETFROM:-0400
TZOFFSETTO:-0500
TZNAME:EST
DTSTART:20251102T060000
END:STANDARD
END:VTIMEZONE
BEGIN:VEVENT
DTSTART;TZID=America/New_York:20240911T100000
DTEND;TZID=America/New_York:20240911T110000
DTSTAMP:20260425T061858
CREATED:20240820T202610Z
LAST-MODIFIED:20241212T145258Z
UID:8035-1726048800-1726052400@tracylibrary.org
SUMMARY:Story Time
DESCRIPTION:Weekly on Wednesdays at 10 AM.\nJoin us in the meeting room. Each week has a unique theme. We also have themed take and make craft bag that you can complete at home.
URL:https://tracylibrary.org/event/story-time-2/2024-09-11/
ATTACH;FMTTYPE=image/jpeg:https://tracylibrary.org/wp-content/uploads/2022/08/IMG_20220803_101018772-scaled.jpg
END:VEVENT
BEGIN:VEVENT
DTSTART;TZID=America/New_York:20240911T150000
DTEND;TZID=America/New_York:20240911T160000
DTSTAMP:20260425T061858
CREATED:20240910T153411Z
LAST-MODIFIED:20240910T153411Z
UID:8408-1726066800-1726070400@tracylibrary.org
SUMMARY:Universal Yums (Teens and Tweens)
DESCRIPTION:Once a month on Wednesday we will sample the food from a subscription box and try to guess which country the food is from. We will discuss some geographical and historical information about the country as well. This program is for independent youth ages 10 and up.
URL:https://tracylibrary.org/event/universal-yums-teens-and-tweens-4/
ATTACH;FMTTYPE=image/jpeg:https://tracylibrary.org/wp-content/uploads/2019/09/Universal-Yums2.jpg
END:VEVENT
END:VCALENDAR