BEGIN:VCALENDAR
VERSION:2.0
PRODID:-//Tracy Memorial Library - ECPv6.15.20//NONSGML v1.0//EN
CALSCALE:GREGORIAN
METHOD:PUBLISH
X-WR-CALNAME:Tracy Memorial Library
X-ORIGINAL-URL:https://tracylibrary.org
X-WR-CALDESC:Events for Tracy Memorial Library
REFRESH-INTERVAL;VALUE=DURATION:PT1H
X-Robots-Tag:noindex
X-PUBLISHED-TTL:PT1H
BEGIN:VTIMEZONE
TZID:America/New_York
BEGIN:DAYLIGHT
TZOFFSETFROM:-0500
TZOFFSETTO:-0400
TZNAME:EDT
DTSTART:20240310T070000
END:DAYLIGHT
BEGIN:STANDARD
TZOFFSETFROM:-0400
TZOFFSETTO:-0500
TZNAME:EST
DTSTART:20241103T060000
END:STANDARD
BEGIN:DAYLIGHT
TZOFFSETFROM:-0500
TZOFFSETTO:-0400
TZNAME:EDT
DTSTART:20250309T070000
END:DAYLIGHT
BEGIN:STANDARD
TZOFFSETFROM:-0400
TZOFFSETTO:-0500
TZNAME:EST
DTSTART:20251102T060000
END:STANDARD
BEGIN:DAYLIGHT
TZOFFSETFROM:-0500
TZOFFSETTO:-0400
TZNAME:EDT
DTSTART:20260308T070000
END:DAYLIGHT
BEGIN:STANDARD
TZOFFSETFROM:-0400
TZOFFSETTO:-0500
TZNAME:EST
DTSTART:20261101T060000
END:STANDARD
END:VTIMEZONE
BEGIN:VEVENT
DTSTART;TZID=America/New_York:20250612T100000
DTEND;TZID=America/New_York:20250612T113000
DTSTAMP:20260424T081317
CREATED:20250520T183210Z
LAST-MODIFIED:20250520T183210Z
UID:9175-1749722400-1749727800@tracylibrary.org
SUMMARY:Find Your Next Summer Read
DESCRIPTION:Join staff and community members for a brief description of their favorite books of the last few years and share your own.  What bestseller might you have missed\, what gems in the rough might be unearthed?  Open to all.  Light refreshments served.
URL:https://tracylibrary.org/event/find-your-next-summer-read/
CATEGORIES:Adults
ATTACH;FMTTYPE=image/jpeg:https://tracylibrary.org/wp-content/uploads/2022/02/book-heart2.jpg
END:VEVENT
BEGIN:VEVENT
DTSTART;TZID=America/New_York:20250612T150000
DTEND;TZID=America/New_York:20250612T160000
DTSTAMP:20260424T081317
CREATED:20231011T172219Z
LAST-MODIFIED:20260302T161409Z
UID:9202-1749740400-1749744000@tracylibrary.org
SUMMARY:Game Day
DESCRIPTION:This program is for independent gamers ages 10 to 17. Try your hand at Nintendo Switch games as well as classic board games.
URL:https://tracylibrary.org/event/game-day-2-2024-09-12-2024-09-12-2024-12-26/2025-06-12/
ATTACH;FMTTYPE=image/jpeg:https://tracylibrary.org/wp-content/uploads/2022/11/Game-Day-cover-photo-1-1.jpg
END:VEVENT
BEGIN:VEVENT
DTSTART;TZID=America/New_York:20250612T173000
DTEND;TZID=America/New_York:20250612T190000
DTSTAMP:20260424T081317
CREATED:20250520T183624Z
LAST-MODIFIED:20250520T183624Z
UID:9177-1749749400-1749754800@tracylibrary.org
SUMMARY:Affordable Housing Program presented by KCLT
DESCRIPTION:Kawasiwajo Community Land Trust (KCLT) is a relatively new non-profit organization located in the Kearsarge region focused on developing affordable housing options and land access for our communities. Join us for an evening presentation to meet some of the board members\, learn more about the mission of KCLT and efforts to purchase their first property\, and share your own housing stories. Light refreshments will be provided.
URL:https://tracylibrary.org/event/affordable-housing-program-presented-by-kclt/
ATTACH;FMTTYPE=image/png:https://tracylibrary.org/wp-content/uploads/2025/05/WebsiteHeaderLogo.png
END:VEVENT
END:VCALENDAR