BEGIN:VCALENDAR
VERSION:2.0
PRODID:-//Tracy Memorial Library - ECPv6.15.20//NONSGML v1.0//EN
CALSCALE:GREGORIAN
METHOD:PUBLISH
X-WR-CALNAME:Tracy Memorial Library
X-ORIGINAL-URL:https://tracylibrary.org
X-WR-CALDESC:Events for Tracy Memorial Library
REFRESH-INTERVAL;VALUE=DURATION:PT1H
X-Robots-Tag:noindex
X-PUBLISHED-TTL:PT1H
BEGIN:VTIMEZONE
TZID:America/New_York
BEGIN:DAYLIGHT
TZOFFSETFROM:-0500
TZOFFSETTO:-0400
TZNAME:EDT
DTSTART:20240310T070000
END:DAYLIGHT
BEGIN:STANDARD
TZOFFSETFROM:-0400
TZOFFSETTO:-0500
TZNAME:EST
DTSTART:20241103T060000
END:STANDARD
BEGIN:DAYLIGHT
TZOFFSETFROM:-0500
TZOFFSETTO:-0400
TZNAME:EDT
DTSTART:20250309T070000
END:DAYLIGHT
BEGIN:STANDARD
TZOFFSETFROM:-0400
TZOFFSETTO:-0500
TZNAME:EST
DTSTART:20251102T060000
END:STANDARD
BEGIN:DAYLIGHT
TZOFFSETFROM:-0500
TZOFFSETTO:-0400
TZNAME:EDT
DTSTART:20260308T070000
END:DAYLIGHT
BEGIN:STANDARD
TZOFFSETFROM:-0400
TZOFFSETTO:-0500
TZNAME:EST
DTSTART:20261101T060000
END:STANDARD
END:VTIMEZONE
BEGIN:VEVENT
DTSTART;TZID=America/New_York:20250630T140000
DTEND;TZID=America/New_York:20250630T160000
DTSTAMP:20260424T081324
CREATED:20250611T204541Z
LAST-MODIFIED:20250611T205804Z
UID:9384-1751292000-1751299200@tracylibrary.org
SUMMARY:C3 Brix Lego Camp
DESCRIPTION:This youth event is for ages 5 and up. Campers will build with thousands of unique LEGO elements\, being led through games and challenges to engage their imagination.\nRun like a Game Show\, campers can win minifigs. Sign up is required. \nSign up Here \nCody Wells is one of the most sought-after custom LEGO artists in the country.\nHis clients range from private collectors and celebrities to the New York Hall of Science\, and beyond.\nCody’s work has been featured on the Steve Harvey Show\, Good Day New York\, Details Magazine\, and\nnumerous other publications. He is an award-winning designer\,
URL:https://tracylibrary.org/event/c3-brix-lego-camp/
ATTACH;FMTTYPE=image/png:https://tracylibrary.org/wp-content/uploads/2025/06/c3brix.png
END:VEVENT
END:VCALENDAR