BEGIN:VCALENDAR
VERSION:2.0
PRODID:-//Tracy Memorial Library - ECPv6.15.20//NONSGML v1.0//EN
CALSCALE:GREGORIAN
METHOD:PUBLISH
X-WR-CALNAME:Tracy Memorial Library
X-ORIGINAL-URL:https://tracylibrary.org
X-WR-CALDESC:Events for Tracy Memorial Library
REFRESH-INTERVAL;VALUE=DURATION:PT1H
X-Robots-Tag:noindex
X-PUBLISHED-TTL:PT1H
BEGIN:VTIMEZONE
TZID:America/New_York
BEGIN:DAYLIGHT
TZOFFSETFROM:-0500
TZOFFSETTO:-0400
TZNAME:EDT
DTSTART:20240310T070000
END:DAYLIGHT
BEGIN:STANDARD
TZOFFSETFROM:-0400
TZOFFSETTO:-0500
TZNAME:EST
DTSTART:20241103T060000
END:STANDARD
BEGIN:DAYLIGHT
TZOFFSETFROM:-0500
TZOFFSETTO:-0400
TZNAME:EDT
DTSTART:20250309T070000
END:DAYLIGHT
BEGIN:STANDARD
TZOFFSETFROM:-0400
TZOFFSETTO:-0500
TZNAME:EST
DTSTART:20251102T060000
END:STANDARD
BEGIN:DAYLIGHT
TZOFFSETFROM:-0500
TZOFFSETTO:-0400
TZNAME:EDT
DTSTART:20260308T070000
END:DAYLIGHT
BEGIN:STANDARD
TZOFFSETFROM:-0400
TZOFFSETTO:-0500
TZNAME:EST
DTSTART:20261101T060000
END:STANDARD
END:VTIMEZONE
BEGIN:VEVENT
DTSTART;TZID=America/New_York:20250911T150000
DTEND;TZID=America/New_York:20250911T160000
DTSTAMP:20260424T033705
CREATED:20231011T172219Z
LAST-MODIFIED:20260302T161500Z
UID:9491-1757602800-1757606400@tracylibrary.org
SUMMARY:Game Day
DESCRIPTION:This program is for independent gamers ages 10 to 17. Try your hand at Nintendo Switch games as well as classic board games.
URL:https://tracylibrary.org/event/game-day-2-2024-09-12-2024-09-12-2024-12-26/2025-09-11/
ATTACH;FMTTYPE=image/jpeg:https://tracylibrary.org/wp-content/uploads/2022/11/Game-Day-cover-photo-1-1.jpg
END:VEVENT
BEGIN:VEVENT
DTSTART;TZID=America/New_York:20250911T170000
DTEND;TZID=America/New_York:20250911T180000
DTSTAMP:20260424T033705
CREATED:20250813T143438Z
LAST-MODIFIED:20250813T143438Z
UID:9478-1757610000-1757613600@tracylibrary.org
SUMMARY:Reader's Advisory Workshop
DESCRIPTION:Join librarians and community members to discuss favorite reads\, and expand your own To Be Read collection.
URL:https://tracylibrary.org/event/readers-advisory-workshop/
CATEGORIES:Adults,Book Discussion
ATTACH;FMTTYPE=image/jpeg:https://tracylibrary.org/wp-content/uploads/2022/02/book-heart2.jpg
END:VEVENT
END:VCALENDAR