BEGIN:VCALENDAR
VERSION:2.0
PRODID:-//Tracy Memorial Library - ECPv6.15.20//NONSGML v1.0//EN
CALSCALE:GREGORIAN
METHOD:PUBLISH
X-WR-CALNAME:Tracy Memorial Library
X-ORIGINAL-URL:https://tracylibrary.org
X-WR-CALDESC:Events for Tracy Memorial Library
REFRESH-INTERVAL;VALUE=DURATION:PT1H
X-Robots-Tag:noindex
X-PUBLISHED-TTL:PT1H
BEGIN:VTIMEZONE
TZID:America/New_York
BEGIN:DAYLIGHT
TZOFFSETFROM:-0500
TZOFFSETTO:-0400
TZNAME:EDT
DTSTART:20230312T070000
END:DAYLIGHT
BEGIN:STANDARD
TZOFFSETFROM:-0400
TZOFFSETTO:-0500
TZNAME:EST
DTSTART:20231105T060000
END:STANDARD
BEGIN:DAYLIGHT
TZOFFSETFROM:-0500
TZOFFSETTO:-0400
TZNAME:EDT
DTSTART:20240310T070000
END:DAYLIGHT
BEGIN:STANDARD
TZOFFSETFROM:-0400
TZOFFSETTO:-0500
TZNAME:EST
DTSTART:20241103T060000
END:STANDARD
BEGIN:DAYLIGHT
TZOFFSETFROM:-0500
TZOFFSETTO:-0400
TZNAME:EDT
DTSTART:20250309T070000
END:DAYLIGHT
BEGIN:STANDARD
TZOFFSETFROM:-0400
TZOFFSETTO:-0500
TZNAME:EST
DTSTART:20251102T060000
END:STANDARD
END:VTIMEZONE
BEGIN:VEVENT
DTSTART;TZID=America/New_York:20240912T163000
DTEND;TZID=America/New_York:20240912T180000
DTSTAMP:20260425T092637
CREATED:20240223T165200Z
LAST-MODIFIED:20240223T165200Z
UID:8181-1726158600-1726164000@tracylibrary.org
SUMMARY:Dungeons and Dragons at the Library
DESCRIPTION:Join Madeline for Dungeons and Dragons at the Library.  Open to ages 10-18.  Generally this program will meet in the meeting room\, but ask at the circulation desk in case it is booked for another event. \n  \n  \nImage courtesy of Wikimedia via a Creative Commons license: https://commons.wikimedia.org/wiki/File:Dragon_-_2.png
URL:https://tracylibrary.org/event/dungeons-and-dragons-at-the-library-2024-04-11-2024-08-29-2024-09-12/
LOCATION:Tracy Memorial Library
CATEGORIES:Youth
ATTACH;FMTTYPE=image/png:https://tracylibrary.org/wp-content/uploads/2024/02/Dragon_-_2-1.png
END:VEVENT
BEGIN:VEVENT
DTSTART;TZID=America/New_York:20240912T163000
DTEND;TZID=America/New_York:20240912T180000
DTSTAMP:20260425T092637
CREATED:20240223T165200Z
LAST-MODIFIED:20240223T165200Z
UID:10397-1726158600-1726164000@tracylibrary.org
SUMMARY:Dungeons and Dragons at the Library
DESCRIPTION:Join Madeline for Dungeons and Dragons at the Library.  Open to ages 10-18.  Generally this program will meet in the meeting room\, but ask at the circulation desk in case it is booked for another event. \n  \n  \nImage courtesy of Wikimedia via a Creative Commons license: https://commons.wikimedia.org/wiki/File:Dragon_-_2.png
URL:https://tracylibrary.org/event/dungeons-and-dragons-at-the-library-2024-04-11/2024-09-12/
LOCATION:Tracy Memorial Library
CATEGORIES:Youth
ATTACH;FMTTYPE=image/png:https://tracylibrary.org/wp-content/uploads/2024/02/Dragon_-_2-1.png
END:VEVENT
END:VCALENDAR