BEGIN:VCALENDAR
VERSION:2.0
PRODID:-//Tracy Memorial Library - ECPv6.15.20//NONSGML v1.0//EN
CALSCALE:GREGORIAN
METHOD:PUBLISH
X-WR-CALNAME:Tracy Memorial Library
X-ORIGINAL-URL:https://tracylibrary.org
X-WR-CALDESC:Events for Tracy Memorial Library
REFRESH-INTERVAL;VALUE=DURATION:PT1H
X-Robots-Tag:noindex
X-PUBLISHED-TTL:PT1H
BEGIN:VTIMEZONE
TZID:America/New_York
BEGIN:DAYLIGHT
TZOFFSETFROM:-0500
TZOFFSETTO:-0400
TZNAME:EDT
DTSTART:20240310T070000
END:DAYLIGHT
BEGIN:STANDARD
TZOFFSETFROM:-0400
TZOFFSETTO:-0500
TZNAME:EST
DTSTART:20241103T060000
END:STANDARD
BEGIN:DAYLIGHT
TZOFFSETFROM:-0500
TZOFFSETTO:-0400
TZNAME:EDT
DTSTART:20250309T070000
END:DAYLIGHT
BEGIN:STANDARD
TZOFFSETFROM:-0400
TZOFFSETTO:-0500
TZNAME:EST
DTSTART:20251102T060000
END:STANDARD
BEGIN:DAYLIGHT
TZOFFSETFROM:-0500
TZOFFSETTO:-0400
TZNAME:EDT
DTSTART:20260308T070000
END:DAYLIGHT
BEGIN:STANDARD
TZOFFSETFROM:-0400
TZOFFSETTO:-0500
TZNAME:EST
DTSTART:20261101T060000
END:STANDARD
END:VTIMEZONE
BEGIN:VEVENT
DTSTART;TZID=America/New_York:20250430T100000
DTEND;TZID=America/New_York:20250430T110000
DTSTAMP:20260425T085328
CREATED:20220505T153033Z
LAST-MODIFIED:20251223T152436Z
UID:7692-1746007200-1746010800@tracylibrary.org
SUMMARY:Story Time
DESCRIPTION:Weekly on Wednesdays at 10 AM.\nJoin us for stories\, songs and rhymes. Each week has a unique theme. We also have themed take and make craft bag that you can complete at home.
URL:https://tracylibrary.org/event/story-time/2025-04-30/
CATEGORIES:Youth
ATTACH;FMTTYPE=image/jpeg:https://tracylibrary.org/wp-content/uploads/2022/02/book-heart2.jpg
ORGANIZER;CN="Ben Cote":MAILTO:bcote@tracylibrary.org
END:VEVENT
BEGIN:VEVENT
DTSTART;TZID=America/New_York:20250506T150000
DTEND;TZID=America/New_York:20250506T160000
DTSTAMP:20260425T085328
CREATED:20220811T183425Z
LAST-MODIFIED:20260302T154838Z
UID:8625-1746543600-1746547200@tracylibrary.org
SUMMARY:Lego Club
DESCRIPTION:  \nJoin us in the meeting room to build with large collection of Lego bricks. Build your own creation or try one of our challenges. This event is intended for ages 5 and up. This is a drop in program and sign up is not required.
URL:https://tracylibrary.org/event/lego-club-2024-09-10-2024-09-17-2024-12-31/2025-05-06/
CATEGORIES:Youth
ATTACH;FMTTYPE=image/jpeg:https://tracylibrary.org/wp-content/uploads/2022/08/lego-gcc3f8363f_1920.jpg
END:VEVENT
BEGIN:VEVENT
DTSTART;TZID=America/New_York:20250507T100000
DTEND;TZID=America/New_York:20250507T110000
DTSTAMP:20260425T085328
CREATED:20220505T153033Z
LAST-MODIFIED:20251223T152438Z
UID:7693-1746612000-1746615600@tracylibrary.org
SUMMARY:Story Time
DESCRIPTION:Weekly on Wednesdays at 10 AM.\nJoin us for stories\, songs and rhymes. Each week has a unique theme. We also have themed take and make craft bag that you can complete at home.
URL:https://tracylibrary.org/event/story-time/2025-05-07/
CATEGORIES:Youth
ATTACH;FMTTYPE=image/jpeg:https://tracylibrary.org/wp-content/uploads/2022/02/book-heart2.jpg
ORGANIZER;CN="Ben Cote":MAILTO:bcote@tracylibrary.org
END:VEVENT
BEGIN:VEVENT
DTSTART;TZID=America/New_York:20250513T150000
DTEND;TZID=America/New_York:20250513T160000
DTSTAMP:20260425T085328
CREATED:20220811T183425Z
LAST-MODIFIED:20260302T154841Z
UID:8626-1747148400-1747152000@tracylibrary.org
SUMMARY:Lego Club
DESCRIPTION:  \nJoin us in the meeting room to build with large collection of Lego bricks. Build your own creation or try one of our challenges. This event is intended for ages 5 and up. This is a drop in program and sign up is not required.
URL:https://tracylibrary.org/event/lego-club-2024-09-10-2024-09-17-2024-12-31/2025-05-13/
CATEGORIES:Youth
ATTACH;FMTTYPE=image/jpeg:https://tracylibrary.org/wp-content/uploads/2022/08/lego-gcc3f8363f_1920.jpg
END:VEVENT
BEGIN:VEVENT
DTSTART;TZID=America/New_York:20250514T100000
DTEND;TZID=America/New_York:20250514T110000
DTSTAMP:20260425T085328
CREATED:20220505T153033Z
LAST-MODIFIED:20251223T152440Z
UID:7694-1747216800-1747220400@tracylibrary.org
SUMMARY:Story Time
DESCRIPTION:Weekly on Wednesdays at 10 AM.\nJoin us for stories\, songs and rhymes. Each week has a unique theme. We also have themed take and make craft bag that you can complete at home.
URL:https://tracylibrary.org/event/story-time/2025-05-14/
CATEGORIES:Youth
ATTACH;FMTTYPE=image/jpeg:https://tracylibrary.org/wp-content/uploads/2022/02/book-heart2.jpg
ORGANIZER;CN="Ben Cote":MAILTO:bcote@tracylibrary.org
END:VEVENT
BEGIN:VEVENT
DTSTART;TZID=America/New_York:20250520T150000
DTEND;TZID=America/New_York:20250520T160000
DTSTAMP:20260425T085328
CREATED:20220811T183425Z
LAST-MODIFIED:20260302T154845Z
UID:8627-1747753200-1747756800@tracylibrary.org
SUMMARY:Lego Club
DESCRIPTION:  \nJoin us in the meeting room to build with large collection of Lego bricks. Build your own creation or try one of our challenges. This event is intended for ages 5 and up. This is a drop in program and sign up is not required.
URL:https://tracylibrary.org/event/lego-club-2024-09-10-2024-09-17-2024-12-31/2025-05-20/
CATEGORIES:Youth
ATTACH;FMTTYPE=image/jpeg:https://tracylibrary.org/wp-content/uploads/2022/08/lego-gcc3f8363f_1920.jpg
END:VEVENT
BEGIN:VEVENT
DTSTART;TZID=America/New_York:20250521T100000
DTEND;TZID=America/New_York:20250521T110000
DTSTAMP:20260425T085328
CREATED:20220505T153033Z
LAST-MODIFIED:20251223T152446Z
UID:7695-1747821600-1747825200@tracylibrary.org
SUMMARY:Story Time
DESCRIPTION:Weekly on Wednesdays at 10 AM.\nJoin us for stories\, songs and rhymes. Each week has a unique theme. We also have themed take and make craft bag that you can complete at home.
URL:https://tracylibrary.org/event/story-time/2025-05-21/
CATEGORIES:Youth
ATTACH;FMTTYPE=image/jpeg:https://tracylibrary.org/wp-content/uploads/2022/02/book-heart2.jpg
ORGANIZER;CN="Ben Cote":MAILTO:bcote@tracylibrary.org
END:VEVENT
BEGIN:VEVENT
DTSTART;TZID=America/New_York:20250527T150000
DTEND;TZID=America/New_York:20250527T160000
DTSTAMP:20260425T085328
CREATED:20220811T183425Z
LAST-MODIFIED:20260302T154848Z
UID:9256-1748358000-1748361600@tracylibrary.org
SUMMARY:Lego Club
DESCRIPTION:  \nJoin us in the meeting room to build with large collection of Lego bricks. Build your own creation or try one of our challenges. This event is intended for ages 5 and up. This is a drop in program and sign up is not required.
URL:https://tracylibrary.org/event/lego-club-2024-09-10-2024-09-17-2024-12-31/2025-05-27/
CATEGORIES:Youth
ATTACH;FMTTYPE=image/jpeg:https://tracylibrary.org/wp-content/uploads/2022/08/lego-gcc3f8363f_1920.jpg
END:VEVENT
BEGIN:VEVENT
DTSTART;TZID=America/New_York:20250528T100000
DTEND;TZID=America/New_York:20250528T110000
DTSTAMP:20260425T085328
CREATED:20220505T153033Z
LAST-MODIFIED:20251223T152448Z
UID:7696-1748426400-1748430000@tracylibrary.org
SUMMARY:Story Time
DESCRIPTION:Weekly on Wednesdays at 10 AM.\nJoin us for stories\, songs and rhymes. Each week has a unique theme. We also have themed take and make craft bag that you can complete at home.
URL:https://tracylibrary.org/event/story-time/2025-05-28/
CATEGORIES:Youth
ATTACH;FMTTYPE=image/jpeg:https://tracylibrary.org/wp-content/uploads/2022/02/book-heart2.jpg
ORGANIZER;CN="Ben Cote":MAILTO:bcote@tracylibrary.org
END:VEVENT
BEGIN:VEVENT
DTSTART;TZID=America/New_York:20250603T150000
DTEND;TZID=America/New_York:20250603T160000
DTSTAMP:20260425T085328
CREATED:20220811T183425Z
LAST-MODIFIED:20260302T154850Z
UID:9257-1748962800-1748966400@tracylibrary.org
SUMMARY:Lego Club
DESCRIPTION:  \nJoin us in the meeting room to build with large collection of Lego bricks. Build your own creation or try one of our challenges. This event is intended for ages 5 and up. This is a drop in program and sign up is not required.
URL:https://tracylibrary.org/event/lego-club-2024-09-10-2024-09-17-2024-12-31/2025-06-03/
CATEGORIES:Youth
ATTACH;FMTTYPE=image/jpeg:https://tracylibrary.org/wp-content/uploads/2022/08/lego-gcc3f8363f_1920.jpg
END:VEVENT
BEGIN:VEVENT
DTSTART;TZID=America/New_York:20250610T150000
DTEND;TZID=America/New_York:20250610T160000
DTSTAMP:20260425T085328
CREATED:20220811T183425Z
LAST-MODIFIED:20260302T154853Z
UID:9258-1749567600-1749571200@tracylibrary.org
SUMMARY:Lego Club
DESCRIPTION:  \nJoin us in the meeting room to build with large collection of Lego bricks. Build your own creation or try one of our challenges. This event is intended for ages 5 and up. This is a drop in program and sign up is not required.
URL:https://tracylibrary.org/event/lego-club-2024-09-10-2024-09-17-2024-12-31/2025-06-10/
CATEGORIES:Youth
ATTACH;FMTTYPE=image/jpeg:https://tracylibrary.org/wp-content/uploads/2022/08/lego-gcc3f8363f_1920.jpg
END:VEVENT
BEGIN:VEVENT
DTSTART;TZID=America/New_York:20250617T150000
DTEND;TZID=America/New_York:20250617T160000
DTSTAMP:20260425T085328
CREATED:20220811T183425Z
LAST-MODIFIED:20260302T154855Z
UID:9259-1750172400-1750176000@tracylibrary.org
SUMMARY:Lego Club
DESCRIPTION:  \nJoin us in the meeting room to build with large collection of Lego bricks. Build your own creation or try one of our challenges. This event is intended for ages 5 and up. This is a drop in program and sign up is not required.
URL:https://tracylibrary.org/event/lego-club-2024-09-10-2024-09-17-2024-12-31/2025-06-17/
CATEGORIES:Youth
ATTACH;FMTTYPE=image/jpeg:https://tracylibrary.org/wp-content/uploads/2022/08/lego-gcc3f8363f_1920.jpg
END:VEVENT
BEGIN:VEVENT
DTSTART;TZID=America/New_York:20250624T150000
DTEND;TZID=America/New_York:20250624T160000
DTSTAMP:20260425T085328
CREATED:20220811T183425Z
LAST-MODIFIED:20260302T154858Z
UID:9260-1750777200-1750780800@tracylibrary.org
SUMMARY:Lego Club
DESCRIPTION:  \nJoin us in the meeting room to build with large collection of Lego bricks. Build your own creation or try one of our challenges. This event is intended for ages 5 and up. This is a drop in program and sign up is not required.
URL:https://tracylibrary.org/event/lego-club-2024-09-10-2024-09-17-2024-12-31/2025-06-24/
CATEGORIES:Youth
ATTACH;FMTTYPE=image/jpeg:https://tracylibrary.org/wp-content/uploads/2022/08/lego-gcc3f8363f_1920.jpg
END:VEVENT
BEGIN:VEVENT
DTSTART;TZID=America/New_York:20250625T100000
DTEND;TZID=America/New_York:20250625T110000
DTSTAMP:20260425T085328
CREATED:20220505T153033Z
LAST-MODIFIED:20251223T152450Z
UID:9314-1750845600-1750849200@tracylibrary.org
SUMMARY:Story Time
DESCRIPTION:Weekly on Wednesdays at 10 AM.\nJoin us for stories\, songs and rhymes. Each week has a unique theme. We also have themed take and make craft bag that you can complete at home.
URL:https://tracylibrary.org/event/story-time/2025-06-25/
CATEGORIES:Youth
ATTACH;FMTTYPE=image/jpeg:https://tracylibrary.org/wp-content/uploads/2022/02/book-heart2.jpg
ORGANIZER;CN="Ben Cote":MAILTO:bcote@tracylibrary.org
END:VEVENT
BEGIN:VEVENT
DTSTART;TZID=America/New_York:20250701T150000
DTEND;TZID=America/New_York:20250701T160000
DTSTAMP:20260425T085328
CREATED:20220811T183425Z
LAST-MODIFIED:20260302T154901Z
UID:9261-1751382000-1751385600@tracylibrary.org
SUMMARY:Lego Club
DESCRIPTION:  \nJoin us in the meeting room to build with large collection of Lego bricks. Build your own creation or try one of our challenges. This event is intended for ages 5 and up. This is a drop in program and sign up is not required.
URL:https://tracylibrary.org/event/lego-club-2024-09-10-2024-09-17-2024-12-31/2025-07-01/
CATEGORIES:Youth
ATTACH;FMTTYPE=image/jpeg:https://tracylibrary.org/wp-content/uploads/2022/08/lego-gcc3f8363f_1920.jpg
END:VEVENT
BEGIN:VEVENT
DTSTART;TZID=America/New_York:20250702T100000
DTEND;TZID=America/New_York:20250702T110000
DTSTAMP:20260425T085328
CREATED:20220505T153033Z
LAST-MODIFIED:20251223T152452Z
UID:9315-1751450400-1751454000@tracylibrary.org
SUMMARY:Story Time
DESCRIPTION:Weekly on Wednesdays at 10 AM.\nJoin us for stories\, songs and rhymes. Each week has a unique theme. We also have themed take and make craft bag that you can complete at home.
URL:https://tracylibrary.org/event/story-time/2025-07-02/
CATEGORIES:Youth
ATTACH;FMTTYPE=image/jpeg:https://tracylibrary.org/wp-content/uploads/2022/02/book-heart2.jpg
ORGANIZER;CN="Ben Cote":MAILTO:bcote@tracylibrary.org
END:VEVENT
BEGIN:VEVENT
DTSTART;TZID=America/New_York:20250708T150000
DTEND;TZID=America/New_York:20250708T160000
DTSTAMP:20260425T085328
CREATED:20220811T183425Z
LAST-MODIFIED:20260302T154903Z
UID:9262-1751986800-1751990400@tracylibrary.org
SUMMARY:Lego Club
DESCRIPTION:  \nJoin us in the meeting room to build with large collection of Lego bricks. Build your own creation or try one of our challenges. This event is intended for ages 5 and up. This is a drop in program and sign up is not required.
URL:https://tracylibrary.org/event/lego-club-2024-09-10-2024-09-17-2024-12-31/2025-07-08/
CATEGORIES:Youth
ATTACH;FMTTYPE=image/jpeg:https://tracylibrary.org/wp-content/uploads/2022/08/lego-gcc3f8363f_1920.jpg
END:VEVENT
BEGIN:VEVENT
DTSTART;TZID=America/New_York:20250709T100000
DTEND;TZID=America/New_York:20250709T110000
DTSTAMP:20260425T085328
CREATED:20220505T153033Z
LAST-MODIFIED:20251223T152456Z
UID:9316-1752055200-1752058800@tracylibrary.org
SUMMARY:Story Time
DESCRIPTION:Weekly on Wednesdays at 10 AM.\nJoin us for stories\, songs and rhymes. Each week has a unique theme. We also have themed take and make craft bag that you can complete at home.
URL:https://tracylibrary.org/event/story-time/2025-07-09/
CATEGORIES:Youth
ATTACH;FMTTYPE=image/jpeg:https://tracylibrary.org/wp-content/uploads/2022/02/book-heart2.jpg
ORGANIZER;CN="Ben Cote":MAILTO:bcote@tracylibrary.org
END:VEVENT
BEGIN:VEVENT
DTSTART;TZID=America/New_York:20250715T150000
DTEND;TZID=America/New_York:20250715T160000
DTSTAMP:20260425T085328
CREATED:20220811T183425Z
LAST-MODIFIED:20260302T154906Z
UID:9263-1752591600-1752595200@tracylibrary.org
SUMMARY:Lego Club
DESCRIPTION:  \nJoin us in the meeting room to build with large collection of Lego bricks. Build your own creation or try one of our challenges. This event is intended for ages 5 and up. This is a drop in program and sign up is not required.
URL:https://tracylibrary.org/event/lego-club-2024-09-10-2024-09-17-2024-12-31/2025-07-15/
CATEGORIES:Youth
ATTACH;FMTTYPE=image/jpeg:https://tracylibrary.org/wp-content/uploads/2022/08/lego-gcc3f8363f_1920.jpg
END:VEVENT
BEGIN:VEVENT
DTSTART;TZID=America/New_York:20250716T100000
DTEND;TZID=America/New_York:20250716T110000
DTSTAMP:20260425T085328
CREATED:20220505T153033Z
LAST-MODIFIED:20251223T152500Z
UID:9317-1752660000-1752663600@tracylibrary.org
SUMMARY:Story Time
DESCRIPTION:Weekly on Wednesdays at 10 AM.\nJoin us for stories\, songs and rhymes. Each week has a unique theme. We also have themed take and make craft bag that you can complete at home.
URL:https://tracylibrary.org/event/story-time/2025-07-16/
CATEGORIES:Youth
ATTACH;FMTTYPE=image/jpeg:https://tracylibrary.org/wp-content/uploads/2022/02/book-heart2.jpg
ORGANIZER;CN="Ben Cote":MAILTO:bcote@tracylibrary.org
END:VEVENT
BEGIN:VEVENT
DTSTART;TZID=America/New_York:20250722T150000
DTEND;TZID=America/New_York:20250722T160000
DTSTAMP:20260425T085328
CREATED:20220811T183425Z
LAST-MODIFIED:20260302T154909Z
UID:9264-1753196400-1753200000@tracylibrary.org
SUMMARY:Lego Club
DESCRIPTION:  \nJoin us in the meeting room to build with large collection of Lego bricks. Build your own creation or try one of our challenges. This event is intended for ages 5 and up. This is a drop in program and sign up is not required.
URL:https://tracylibrary.org/event/lego-club-2024-09-10-2024-09-17-2024-12-31/2025-07-22/
CATEGORIES:Youth
ATTACH;FMTTYPE=image/jpeg:https://tracylibrary.org/wp-content/uploads/2022/08/lego-gcc3f8363f_1920.jpg
END:VEVENT
BEGIN:VEVENT
DTSTART;TZID=America/New_York:20250723T100000
DTEND;TZID=America/New_York:20250723T110000
DTSTAMP:20260425T085328
CREATED:20220505T153033Z
LAST-MODIFIED:20251223T152504Z
UID:9318-1753264800-1753268400@tracylibrary.org
SUMMARY:Story Time
DESCRIPTION:Weekly on Wednesdays at 10 AM.\nJoin us for stories\, songs and rhymes. Each week has a unique theme. We also have themed take and make craft bag that you can complete at home.
URL:https://tracylibrary.org/event/story-time/2025-07-23/
CATEGORIES:Youth
ATTACH;FMTTYPE=image/jpeg:https://tracylibrary.org/wp-content/uploads/2022/02/book-heart2.jpg
ORGANIZER;CN="Ben Cote":MAILTO:bcote@tracylibrary.org
END:VEVENT
BEGIN:VEVENT
DTSTART;TZID=America/New_York:20250729T150000
DTEND;TZID=America/New_York:20250729T160000
DTSTAMP:20260425T085328
CREATED:20220811T183425Z
LAST-MODIFIED:20260302T154915Z
UID:9265-1753801200-1753804800@tracylibrary.org
SUMMARY:Lego Club
DESCRIPTION:  \nJoin us in the meeting room to build with large collection of Lego bricks. Build your own creation or try one of our challenges. This event is intended for ages 5 and up. This is a drop in program and sign up is not required.
URL:https://tracylibrary.org/event/lego-club-2024-09-10-2024-09-17-2024-12-31/2025-07-29/
CATEGORIES:Youth
ATTACH;FMTTYPE=image/jpeg:https://tracylibrary.org/wp-content/uploads/2022/08/lego-gcc3f8363f_1920.jpg
END:VEVENT
BEGIN:VEVENT
DTSTART;TZID=America/New_York:20250730T100000
DTEND;TZID=America/New_York:20250730T110000
DTSTAMP:20260425T085328
CREATED:20220505T153033Z
LAST-MODIFIED:20251223T152505Z
UID:9319-1753869600-1753873200@tracylibrary.org
SUMMARY:Story Time
DESCRIPTION:Weekly on Wednesdays at 10 AM.\nJoin us for stories\, songs and rhymes. Each week has a unique theme. We also have themed take and make craft bag that you can complete at home.
URL:https://tracylibrary.org/event/story-time/2025-07-30/
CATEGORIES:Youth
ATTACH;FMTTYPE=image/jpeg:https://tracylibrary.org/wp-content/uploads/2022/02/book-heart2.jpg
ORGANIZER;CN="Ben Cote":MAILTO:bcote@tracylibrary.org
END:VEVENT
BEGIN:VEVENT
DTSTART;TZID=America/New_York:20250805T150000
DTEND;TZID=America/New_York:20250805T160000
DTSTAMP:20260425T085328
CREATED:20220811T183425Z
LAST-MODIFIED:20260302T154922Z
UID:9266-1754406000-1754409600@tracylibrary.org
SUMMARY:Lego Club
DESCRIPTION:  \nJoin us in the meeting room to build with large collection of Lego bricks. Build your own creation or try one of our challenges. This event is intended for ages 5 and up. This is a drop in program and sign up is not required.
URL:https://tracylibrary.org/event/lego-club-2024-09-10-2024-09-17-2024-12-31/2025-08-05/
CATEGORIES:Youth
ATTACH;FMTTYPE=image/jpeg:https://tracylibrary.org/wp-content/uploads/2022/08/lego-gcc3f8363f_1920.jpg
END:VEVENT
BEGIN:VEVENT
DTSTART;TZID=America/New_York:20250806T100000
DTEND;TZID=America/New_York:20250806T110000
DTSTAMP:20260425T085328
CREATED:20220505T153033Z
LAST-MODIFIED:20251223T152507Z
UID:9320-1754474400-1754478000@tracylibrary.org
SUMMARY:Story Time
DESCRIPTION:Weekly on Wednesdays at 10 AM.\nJoin us for stories\, songs and rhymes. Each week has a unique theme. We also have themed take and make craft bag that you can complete at home.
URL:https://tracylibrary.org/event/story-time/2025-08-06/
CATEGORIES:Youth
ATTACH;FMTTYPE=image/jpeg:https://tracylibrary.org/wp-content/uploads/2022/02/book-heart2.jpg
ORGANIZER;CN="Ben Cote":MAILTO:bcote@tracylibrary.org
END:VEVENT
BEGIN:VEVENT
DTSTART;TZID=America/New_York:20250812T150000
DTEND;TZID=America/New_York:20250812T160000
DTSTAMP:20260425T085328
CREATED:20220811T183425Z
LAST-MODIFIED:20260302T154925Z
UID:9267-1755010800-1755014400@tracylibrary.org
SUMMARY:Lego Club
DESCRIPTION:  \nJoin us in the meeting room to build with large collection of Lego bricks. Build your own creation or try one of our challenges. This event is intended for ages 5 and up. This is a drop in program and sign up is not required.
URL:https://tracylibrary.org/event/lego-club-2024-09-10-2024-09-17-2024-12-31/2025-08-12/
CATEGORIES:Youth
ATTACH;FMTTYPE=image/jpeg:https://tracylibrary.org/wp-content/uploads/2022/08/lego-gcc3f8363f_1920.jpg
END:VEVENT
BEGIN:VEVENT
DTSTART;TZID=America/New_York:20250813T100000
DTEND;TZID=America/New_York:20250813T110000
DTSTAMP:20260425T085328
CREATED:20220505T153033Z
LAST-MODIFIED:20251223T152509Z
UID:9321-1755079200-1755082800@tracylibrary.org
SUMMARY:Story Time
DESCRIPTION:Weekly on Wednesdays at 10 AM.\nJoin us for stories\, songs and rhymes. Each week has a unique theme. We also have themed take and make craft bag that you can complete at home.
URL:https://tracylibrary.org/event/story-time/2025-08-13/
CATEGORIES:Youth
ATTACH;FMTTYPE=image/jpeg:https://tracylibrary.org/wp-content/uploads/2022/02/book-heart2.jpg
ORGANIZER;CN="Ben Cote":MAILTO:bcote@tracylibrary.org
END:VEVENT
BEGIN:VEVENT
DTSTART;TZID=America/New_York:20250819T150000
DTEND;TZID=America/New_York:20250819T160000
DTSTAMP:20260425T085328
CREATED:20220811T183425Z
LAST-MODIFIED:20260302T154929Z
UID:9268-1755615600-1755619200@tracylibrary.org
SUMMARY:Lego Club
DESCRIPTION:  \nJoin us in the meeting room to build with large collection of Lego bricks. Build your own creation or try one of our challenges. This event is intended for ages 5 and up. This is a drop in program and sign up is not required.
URL:https://tracylibrary.org/event/lego-club-2024-09-10-2024-09-17-2024-12-31/2025-08-19/
CATEGORIES:Youth
ATTACH;FMTTYPE=image/jpeg:https://tracylibrary.org/wp-content/uploads/2022/08/lego-gcc3f8363f_1920.jpg
END:VEVENT
BEGIN:VEVENT
DTSTART;TZID=America/New_York:20250820T100000
DTEND;TZID=America/New_York:20250820T110000
DTSTAMP:20260425T085328
CREATED:20220505T153033Z
LAST-MODIFIED:20251223T152511Z
UID:9322-1755684000-1755687600@tracylibrary.org
SUMMARY:Story Time
DESCRIPTION:Weekly on Wednesdays at 10 AM.\nJoin us for stories\, songs and rhymes. Each week has a unique theme. We also have themed take and make craft bag that you can complete at home.
URL:https://tracylibrary.org/event/story-time/2025-08-20/
CATEGORIES:Youth
ATTACH;FMTTYPE=image/jpeg:https://tracylibrary.org/wp-content/uploads/2022/02/book-heart2.jpg
ORGANIZER;CN="Ben Cote":MAILTO:bcote@tracylibrary.org
END:VEVENT
END:VCALENDAR