BEGIN:VCALENDAR
VERSION:2.0
PRODID:-//Tracy Memorial Library - ECPv6.15.20//NONSGML v1.0//EN
CALSCALE:GREGORIAN
METHOD:PUBLISH
X-WR-CALNAME:Tracy Memorial Library
X-ORIGINAL-URL:https://tracylibrary.org
X-WR-CALDESC:Events for Tracy Memorial Library
REFRESH-INTERVAL;VALUE=DURATION:PT1H
X-Robots-Tag:noindex
X-PUBLISHED-TTL:PT1H
BEGIN:VTIMEZONE
TZID:America/New_York
BEGIN:DAYLIGHT
TZOFFSETFROM:-0500
TZOFFSETTO:-0400
TZNAME:EDT
DTSTART:20250309T070000
END:DAYLIGHT
BEGIN:STANDARD
TZOFFSETFROM:-0400
TZOFFSETTO:-0500
TZNAME:EST
DTSTART:20251102T060000
END:STANDARD
BEGIN:DAYLIGHT
TZOFFSETFROM:-0500
TZOFFSETTO:-0400
TZNAME:EDT
DTSTART:20260308T070000
END:DAYLIGHT
BEGIN:STANDARD
TZOFFSETFROM:-0400
TZOFFSETTO:-0500
TZNAME:EST
DTSTART:20261101T060000
END:STANDARD
BEGIN:DAYLIGHT
TZOFFSETFROM:-0500
TZOFFSETTO:-0400
TZNAME:EDT
DTSTART:20270314T070000
END:DAYLIGHT
BEGIN:STANDARD
TZOFFSETFROM:-0400
TZOFFSETTO:-0500
TZNAME:EST
DTSTART:20271107T060000
END:STANDARD
END:VTIMEZONE
BEGIN:VEVENT
DTSTART;TZID=America/New_York:20260106T150000
DTEND;TZID=America/New_York:20260106T160000
DTSTAMP:20260423T182225
CREATED:20220811T183425Z
LAST-MODIFIED:20220811T183425Z
UID:10255-1767711600-1767715200@tracylibrary.org
SUMMARY:Lego Club
DESCRIPTION:  \nJoin us in the meeting room to build with large collection of Lego bricks. Build your own creation or try one of our challenges. This event is intended for ages 5 and up. This is a drop in program and sign up is not required.
URL:https://tracylibrary.org/event/lego-club-2024-09-10-2024-09-17-2024-12-31/2026-01-06/
CATEGORIES:Youth
ATTACH;FMTTYPE=image/jpeg:https://tracylibrary.org/wp-content/uploads/2022/08/lego-gcc3f8363f_1920.jpg
END:VEVENT
BEGIN:VEVENT
DTSTART;TZID=America/New_York:20260106T180000
DTEND;TZID=America/New_York:20260106T193000
DTSTAMP:20260423T182225
CREATED:20241206T192354Z
LAST-MODIFIED:20241206T192354Z
UID:9804-1767722400-1767727800@tracylibrary.org
SUMMARY:TML Knitting Group
DESCRIPTION:Do you knit\, crochet or stitch? Looking to meet fellow practitioners of the fabric arts? Look no further than the Tracy Library. Starting December 10th and continuing on Tuesdays\, the TML Knitting Group will be meeting in the Reading Room from 6-7:30. All skill levels welcome. \nImage “White knitting” by youn-ar-gall is licensed under CC BY-NC-SA 2.0.
URL:https://tracylibrary.org/event/tml-knitting-group/2026-01-06/
CATEGORIES:Adults
ATTACH;FMTTYPE=image/jpeg:https://tracylibrary.org/wp-content/uploads/2024/12/knitting-e1733513828612.jpg
END:VEVENT
BEGIN:VEVENT
DTSTART;TZID=America/New_York:20260107T100000
DTEND;TZID=America/New_York:20260107T110000
DTSTAMP:20260423T182225
CREATED:20220505T153033Z
LAST-MODIFIED:20251223T152554Z
UID:9943-1767780000-1767783600@tracylibrary.org
SUMMARY:Story Time
DESCRIPTION:Weekly on Wednesdays at 10 AM.\nJoin us for stories\, songs and rhymes. Each week has a unique theme. We also have themed take and make craft bag that you can complete at home.
URL:https://tracylibrary.org/event/story-time/2026-01-07/
CATEGORIES:Youth
ATTACH;FMTTYPE=image/jpeg:https://tracylibrary.org/wp-content/uploads/2022/02/book-heart2.jpg
ORGANIZER;CN="Ben Cote":MAILTO:bcote@tracylibrary.org
END:VEVENT
BEGIN:VEVENT
DTSTART;TZID=America/New_York:20260108T150000
DTEND;TZID=America/New_York:20260108T160000
DTSTAMP:20260423T182225
CREATED:20231011T172219Z
LAST-MODIFIED:20231011T172219Z
UID:10324-1767884400-1767888000@tracylibrary.org
SUMMARY:Game Day
DESCRIPTION:This program is for independent gamers ages 10 to 17. Try your hand at Nintendo Switch games as well as classic board games.
URL:https://tracylibrary.org/event/game-day-2-2024-09-12-2024-09-12-2024-12-26/2026-01-08/
ATTACH;FMTTYPE=image/jpeg:https://tracylibrary.org/wp-content/uploads/2022/11/Game-Day-cover-photo-1-1.jpg
END:VEVENT
BEGIN:VEVENT
DTSTART;TZID=America/New_York:20260108T183000
DTEND;TZID=America/New_York:20260108T193000
DTSTAMP:20260423T182225
CREATED:20251210T160532Z
LAST-MODIFIED:20251210T160532Z
UID:9925-1767897000-1767900600@tracylibrary.org
SUMMARY:Evening Book Group
DESCRIPTION:Starting in January the library will be having an evening book group as well as our morning one.  Completion of the book is not required\, but nor is the group spoiler free.  Copies of the book are available at the circulation desk and the next month’s books will be distributed at the meeting.
URL:https://tracylibrary.org/event/evening-book-group/2026-01-08/
CATEGORIES:Book Discussion
ATTACH;FMTTYPE=image/png:https://tracylibrary.org/wp-content/uploads/2022/04/Morning-Book-Discussion-e1696965518696.png
END:VEVENT
BEGIN:VEVENT
DTSTART;TZID=America/New_York:20260113T100000
DTEND;TZID=America/New_York:20260113T110000
DTSTAMP:20260423T182225
CREATED:20221213T210138Z
LAST-MODIFIED:20221213T210138Z
UID:9908-1768298400-1768302000@tracylibrary.org
SUMMARY:Morning Book Discussion
DESCRIPTION:The group meets monthly on the 2nd Tuesday of the month. New members are welcome. Copies of the book to be discussed can be borrowed at the Circulation Desk in the Library.
URL:https://tracylibrary.org/event/morning-book-discussion-3-2023-09-12/2026-01-13/
CATEGORIES:Adults,Book Discussion
ATTACH;FMTTYPE=image/png:https://tracylibrary.org/wp-content/uploads/2022/04/Morning-Book-Discussion-e1696965518696.png
END:VEVENT
BEGIN:VEVENT
DTSTART;TZID=America/New_York:20260113T150000
DTEND;TZID=America/New_York:20260113T160000
DTSTAMP:20260423T182225
CREATED:20220811T183425Z
LAST-MODIFIED:20220811T183425Z
UID:10256-1768316400-1768320000@tracylibrary.org
SUMMARY:Lego Club
DESCRIPTION:  \nJoin us in the meeting room to build with large collection of Lego bricks. Build your own creation or try one of our challenges. This event is intended for ages 5 and up. This is a drop in program and sign up is not required.
URL:https://tracylibrary.org/event/lego-club-2024-09-10-2024-09-17-2024-12-31/2026-01-13/
CATEGORIES:Youth
ATTACH;FMTTYPE=image/jpeg:https://tracylibrary.org/wp-content/uploads/2022/08/lego-gcc3f8363f_1920.jpg
END:VEVENT
BEGIN:VEVENT
DTSTART;TZID=America/New_York:20260113T180000
DTEND;TZID=America/New_York:20260113T193000
DTSTAMP:20260423T182225
CREATED:20241206T192354Z
LAST-MODIFIED:20241206T192354Z
UID:9805-1768327200-1768332600@tracylibrary.org
SUMMARY:TML Knitting Group
DESCRIPTION:Do you knit\, crochet or stitch? Looking to meet fellow practitioners of the fabric arts? Look no further than the Tracy Library. Starting December 10th and continuing on Tuesdays\, the TML Knitting Group will be meeting in the Reading Room from 6-7:30. All skill levels welcome. \nImage “White knitting” by youn-ar-gall is licensed under CC BY-NC-SA 2.0.
URL:https://tracylibrary.org/event/tml-knitting-group/2026-01-13/
CATEGORIES:Adults
ATTACH;FMTTYPE=image/jpeg:https://tracylibrary.org/wp-content/uploads/2024/12/knitting-e1733513828612.jpg
END:VEVENT
BEGIN:VEVENT
DTSTART;TZID=America/New_York:20260114T100000
DTEND;TZID=America/New_York:20260114T110000
DTSTAMP:20260423T182225
CREATED:20220505T153033Z
LAST-MODIFIED:20251223T152556Z
UID:9944-1768384800-1768388400@tracylibrary.org
SUMMARY:Story Time
DESCRIPTION:Weekly on Wednesdays at 10 AM.\nJoin us for stories\, songs and rhymes. Each week has a unique theme. We also have themed take and make craft bag that you can complete at home.
URL:https://tracylibrary.org/event/story-time/2026-01-14/
CATEGORIES:Youth
ATTACH;FMTTYPE=image/jpeg:https://tracylibrary.org/wp-content/uploads/2022/02/book-heart2.jpg
ORGANIZER;CN="Ben Cote":MAILTO:bcote@tracylibrary.org
END:VEVENT
BEGIN:VEVENT
DTSTART;TZID=America/New_York:20260114T150000
DTEND;TZID=America/New_York:20260114T160000
DTSTAMP:20260423T182225
CREATED:20250910T134931Z
LAST-MODIFIED:20260408T131632Z
UID:9606-1768402800-1768406400@tracylibrary.org
SUMMARY:Universal Yums
DESCRIPTION:Join us for Universal Yums.  Youth 10 and up can sample snacks from another country. Guess which country they are from and decide which snack is the best.
URL:https://tracylibrary.org/event/universal-yums-5/2026-01-14/
ATTACH;FMTTYPE=image/jpeg:https://tracylibrary.org/wp-content/uploads/2025/08/Hero-768x771-1.jpg
END:VEVENT
BEGIN:VEVENT
DTSTART;TZID=America/New_York:20260115T150000
DTEND;TZID=America/New_York:20260115T160000
DTSTAMP:20260423T182225
CREATED:20231011T172219Z
LAST-MODIFIED:20231011T172219Z
UID:10325-1768489200-1768492800@tracylibrary.org
SUMMARY:Game Day
DESCRIPTION:This program is for independent gamers ages 10 to 17. Try your hand at Nintendo Switch games as well as classic board games.
URL:https://tracylibrary.org/event/game-day-2-2024-09-12-2024-09-12-2024-12-26/2026-01-15/
ATTACH;FMTTYPE=image/jpeg:https://tracylibrary.org/wp-content/uploads/2022/11/Game-Day-cover-photo-1-1.jpg
END:VEVENT
BEGIN:VEVENT
DTSTART;TZID=America/New_York:20260115T180000
DTEND;TZID=America/New_York:20260115T200000
DTSTAMP:20260423T182225
CREATED:20251210T160753Z
LAST-MODIFIED:20251210T160753Z
UID:9930-1768500000-1768507200@tracylibrary.org
SUMMARY:Roleplaying Session Zero
DESCRIPTION:Over the last couple of years\, we have been excited to see an interest in roleplaying games at the Tracy Library.  We hope to continue this in 2026\, but what this looks like will depend on what our community wants.  The term Session Zero is used in a number of roleplaying games\, though other terms such as World Burning are also used.  Basically it is an opportunity for players to determine the ruleset\, world\, characters and how these all work together.  It is also an opportunity to determine logistics like how many players will be at a table and if everyone will be in one group or if multiple groups will be meeting.  I will present some broad options but much of the initial direction of the campaign will be determined at this session.  Attendance is not mandatory to play in future sessions\, but it is the best opportunity to have the greatest impact on what the game looks like.  Open to all\, no RSVP required.
URL:https://tracylibrary.org/event/roleplaying-session-zero/
CATEGORIES:Adults
ATTACH;FMTTYPE=image/png:https://tracylibrary.org/wp-content/uploads/2024/02/Dragon_-_2-1.png
END:VEVENT
BEGIN:VEVENT
DTSTART;TZID=America/New_York:20260120T100000
DTEND;TZID=America/New_York:20260120T120000
DTSTAMP:20260423T182225
CREATED:20251210T155840Z
LAST-MODIFIED:20251210T155840Z
UID:9923-1768903200-1768910400@tracylibrary.org
SUMMARY:Beginner Crochet Workshop
DESCRIPTION:This is a 2-hour\, hands-on Crochet Workshop designed for absolute beginners! If you’ve never held a crochet hook before\, this class is for you!  Open to all but registration is required as space is limited to 12.  Sign up at this link: https://forms.gle/MtrHL5iuCYkSq7Vr5 or by calling the library at 603-526-4656.
URL:https://tracylibrary.org/event/beginner-crochet-workshop/
ATTACH;FMTTYPE=image/avif:https://tracylibrary.org/wp-content/uploads/2025/12/crochet.avif
END:VEVENT
BEGIN:VEVENT
DTSTART;TZID=America/New_York:20260120T150000
DTEND;TZID=America/New_York:20260120T160000
DTSTAMP:20260423T182225
CREATED:20220811T183425Z
LAST-MODIFIED:20220811T183425Z
UID:10257-1768921200-1768924800@tracylibrary.org
SUMMARY:Lego Club
DESCRIPTION:  \nJoin us in the meeting room to build with large collection of Lego bricks. Build your own creation or try one of our challenges. This event is intended for ages 5 and up. This is a drop in program and sign up is not required.
URL:https://tracylibrary.org/event/lego-club-2024-09-10-2024-09-17-2024-12-31/2026-01-20/
CATEGORIES:Youth
ATTACH;FMTTYPE=image/jpeg:https://tracylibrary.org/wp-content/uploads/2022/08/lego-gcc3f8363f_1920.jpg
END:VEVENT
BEGIN:VEVENT
DTSTART;TZID=America/New_York:20260120T180000
DTEND;TZID=America/New_York:20260120T193000
DTSTAMP:20260423T182225
CREATED:20241206T192354Z
LAST-MODIFIED:20241206T192354Z
UID:9806-1768932000-1768937400@tracylibrary.org
SUMMARY:TML Knitting Group
DESCRIPTION:Do you knit\, crochet or stitch? Looking to meet fellow practitioners of the fabric arts? Look no further than the Tracy Library. Starting December 10th and continuing on Tuesdays\, the TML Knitting Group will be meeting in the Reading Room from 6-7:30. All skill levels welcome. \nImage “White knitting” by youn-ar-gall is licensed under CC BY-NC-SA 2.0.
URL:https://tracylibrary.org/event/tml-knitting-group/2026-01-20/
CATEGORIES:Adults
ATTACH;FMTTYPE=image/jpeg:https://tracylibrary.org/wp-content/uploads/2024/12/knitting-e1733513828612.jpg
END:VEVENT
BEGIN:VEVENT
DTSTART;TZID=America/New_York:20260121T100000
DTEND;TZID=America/New_York:20260121T110000
DTSTAMP:20260423T182225
CREATED:20220505T153033Z
LAST-MODIFIED:20251223T152558Z
UID:9945-1768989600-1768993200@tracylibrary.org
SUMMARY:Story Time
DESCRIPTION:Weekly on Wednesdays at 10 AM.\nJoin us for stories\, songs and rhymes. Each week has a unique theme. We also have themed take and make craft bag that you can complete at home.
URL:https://tracylibrary.org/event/story-time/2026-01-21/
CATEGORIES:Youth
ATTACH;FMTTYPE=image/jpeg:https://tracylibrary.org/wp-content/uploads/2022/02/book-heart2.jpg
ORGANIZER;CN="Ben Cote":MAILTO:bcote@tracylibrary.org
END:VEVENT
BEGIN:VEVENT
DTSTART;TZID=America/New_York:20260122T150000
DTEND;TZID=America/New_York:20260122T160000
DTSTAMP:20260423T182225
CREATED:20231011T172219Z
LAST-MODIFIED:20231011T172219Z
UID:10326-1769094000-1769097600@tracylibrary.org
SUMMARY:Game Day
DESCRIPTION:This program is for independent gamers ages 10 to 17. Try your hand at Nintendo Switch games as well as classic board games.
URL:https://tracylibrary.org/event/game-day-2-2024-09-12-2024-09-12-2024-12-26/2026-01-22/
ATTACH;FMTTYPE=image/jpeg:https://tracylibrary.org/wp-content/uploads/2022/11/Game-Day-cover-photo-1-1.jpg
END:VEVENT
BEGIN:VEVENT
DTSTART;TZID=America/New_York:20260122T180000
DTEND;TZID=America/New_York:20260122T200000
DTSTAMP:20260423T182225
CREATED:20240429T190505Z
LAST-MODIFIED:20260423T193109Z
UID:10164-1769104800-1769112000@tracylibrary.org
SUMMARY:Dungeons and Dragons at the Library for Adults
DESCRIPTION:A new D&D adventure is starting in 2026.  Ages 18 and up. Beginners welcome — no prior experience necessary!  If you are interested in participating\, please email Matthew at mgunby@tracylibrary.org to get your character set up and determine which of the two tables will be a better fit.
URL:https://tracylibrary.org/event/dungeons-and-dragons-at-the-library-for-adults/2026-01-22/
LOCATION:Tracy Memorial Library
CATEGORIES:Adults
ATTACH;FMTTYPE=image/png:https://tracylibrary.org/wp-content/uploads/2024/02/Dragon_-_2-1.png
END:VEVENT
BEGIN:VEVENT
DTSTART;TZID=America/New_York:20260127T150000
DTEND;TZID=America/New_York:20260127T160000
DTSTAMP:20260423T182225
CREATED:20220811T183425Z
LAST-MODIFIED:20220811T183425Z
UID:10258-1769526000-1769529600@tracylibrary.org
SUMMARY:Lego Club
DESCRIPTION:  \nJoin us in the meeting room to build with large collection of Lego bricks. Build your own creation or try one of our challenges. This event is intended for ages 5 and up. This is a drop in program and sign up is not required.
URL:https://tracylibrary.org/event/lego-club-2024-09-10-2024-09-17-2024-12-31/2026-01-27/
CATEGORIES:Youth
ATTACH;FMTTYPE=image/jpeg:https://tracylibrary.org/wp-content/uploads/2022/08/lego-gcc3f8363f_1920.jpg
END:VEVENT
BEGIN:VEVENT
DTSTART;TZID=America/New_York:20260127T180000
DTEND;TZID=America/New_York:20260127T193000
DTSTAMP:20260423T182225
CREATED:20241206T192354Z
LAST-MODIFIED:20241206T192354Z
UID:9807-1769536800-1769542200@tracylibrary.org
SUMMARY:TML Knitting Group
DESCRIPTION:Do you knit\, crochet or stitch? Looking to meet fellow practitioners of the fabric arts? Look no further than the Tracy Library. Starting December 10th and continuing on Tuesdays\, the TML Knitting Group will be meeting in the Reading Room from 6-7:30. All skill levels welcome. \nImage “White knitting” by youn-ar-gall is licensed under CC BY-NC-SA 2.0.
URL:https://tracylibrary.org/event/tml-knitting-group/2026-01-27/
CATEGORIES:Adults
ATTACH;FMTTYPE=image/jpeg:https://tracylibrary.org/wp-content/uploads/2024/12/knitting-e1733513828612.jpg
END:VEVENT
BEGIN:VEVENT
DTSTART;TZID=America/New_York:20260128T100000
DTEND;TZID=America/New_York:20260128T110000
DTSTAMP:20260423T182225
CREATED:20220505T153033Z
LAST-MODIFIED:20251223T152600Z
UID:9946-1769594400-1769598000@tracylibrary.org
SUMMARY:Story Time
DESCRIPTION:Weekly on Wednesdays at 10 AM.\nJoin us for stories\, songs and rhymes. Each week has a unique theme. We also have themed take and make craft bag that you can complete at home.
URL:https://tracylibrary.org/event/story-time/2026-01-28/
CATEGORIES:Youth
ATTACH;FMTTYPE=image/jpeg:https://tracylibrary.org/wp-content/uploads/2022/02/book-heart2.jpg
ORGANIZER;CN="Ben Cote":MAILTO:bcote@tracylibrary.org
END:VEVENT
BEGIN:VEVENT
DTSTART;TZID=America/New_York:20260129T150000
DTEND;TZID=America/New_York:20260129T160000
DTSTAMP:20260423T182225
CREATED:20231011T172219Z
LAST-MODIFIED:20231011T172219Z
UID:10327-1769698800-1769702400@tracylibrary.org
SUMMARY:Game Day
DESCRIPTION:This program is for independent gamers ages 10 to 17. Try your hand at Nintendo Switch games as well as classic board games.
URL:https://tracylibrary.org/event/game-day-2-2024-09-12-2024-09-12-2024-12-26/2026-01-29/
ATTACH;FMTTYPE=image/jpeg:https://tracylibrary.org/wp-content/uploads/2022/11/Game-Day-cover-photo-1-1.jpg
END:VEVENT
BEGIN:VEVENT
DTSTART;TZID=America/New_York:20260203T150000
DTEND;TZID=America/New_York:20260203T160000
DTSTAMP:20260423T182225
CREATED:20220811T183425Z
LAST-MODIFIED:20220811T183425Z
UID:10259-1770130800-1770134400@tracylibrary.org
SUMMARY:Lego Club
DESCRIPTION:  \nJoin us in the meeting room to build with large collection of Lego bricks. Build your own creation or try one of our challenges. This event is intended for ages 5 and up. This is a drop in program and sign up is not required.
URL:https://tracylibrary.org/event/lego-club-2024-09-10-2024-09-17-2024-12-31/2026-02-03/
CATEGORIES:Youth
ATTACH;FMTTYPE=image/jpeg:https://tracylibrary.org/wp-content/uploads/2022/08/lego-gcc3f8363f_1920.jpg
END:VEVENT
BEGIN:VEVENT
DTSTART;TZID=America/New_York:20260203T180000
DTEND;TZID=America/New_York:20260203T193000
DTSTAMP:20260423T182225
CREATED:20241206T192354Z
LAST-MODIFIED:20241206T192354Z
UID:9808-1770141600-1770147000@tracylibrary.org
SUMMARY:TML Knitting Group
DESCRIPTION:Do you knit\, crochet or stitch? Looking to meet fellow practitioners of the fabric arts? Look no further than the Tracy Library. Starting December 10th and continuing on Tuesdays\, the TML Knitting Group will be meeting in the Reading Room from 6-7:30. All skill levels welcome. \nImage “White knitting” by youn-ar-gall is licensed under CC BY-NC-SA 2.0.
URL:https://tracylibrary.org/event/tml-knitting-group/2026-02-03/
CATEGORIES:Adults
ATTACH;FMTTYPE=image/jpeg:https://tracylibrary.org/wp-content/uploads/2024/12/knitting-e1733513828612.jpg
END:VEVENT
BEGIN:VEVENT
DTSTART;TZID=America/New_York:20260204T100000
DTEND;TZID=America/New_York:20260204T110000
DTSTAMP:20260423T182225
CREATED:20220505T153033Z
LAST-MODIFIED:20251223T152604Z
UID:9947-1770199200-1770202800@tracylibrary.org
SUMMARY:Story Time
DESCRIPTION:Weekly on Wednesdays at 10 AM.\nJoin us for stories\, songs and rhymes. Each week has a unique theme. We also have themed take and make craft bag that you can complete at home.
URL:https://tracylibrary.org/event/story-time/2026-02-04/
CATEGORIES:Youth
ATTACH;FMTTYPE=image/jpeg:https://tracylibrary.org/wp-content/uploads/2022/02/book-heart2.jpg
ORGANIZER;CN="Ben Cote":MAILTO:bcote@tracylibrary.org
END:VEVENT
BEGIN:VEVENT
DTSTART;TZID=America/New_York:20260205T150000
DTEND;TZID=America/New_York:20260205T160000
DTSTAMP:20260423T182225
CREATED:20231011T172219Z
LAST-MODIFIED:20231011T172219Z
UID:10328-1770303600-1770307200@tracylibrary.org
SUMMARY:Game Day
DESCRIPTION:This program is for independent gamers ages 10 to 17. Try your hand at Nintendo Switch games as well as classic board games.
URL:https://tracylibrary.org/event/game-day-2-2024-09-12-2024-09-12-2024-12-26/2026-02-05/
ATTACH;FMTTYPE=image/jpeg:https://tracylibrary.org/wp-content/uploads/2022/11/Game-Day-cover-photo-1-1.jpg
END:VEVENT
BEGIN:VEVENT
DTSTART;TZID=America/New_York:20260205T180000
DTEND;TZID=America/New_York:20260205T200000
DTSTAMP:20260423T182225
CREATED:20240429T190505Z
LAST-MODIFIED:20260423T193110Z
UID:10165-1770314400-1770321600@tracylibrary.org
SUMMARY:Dungeons and Dragons at the Library for Adults
DESCRIPTION:A new D&D adventure is starting in 2026.  Ages 18 and up. Beginners welcome — no prior experience necessary!  If you are interested in participating\, please email Matthew at mgunby@tracylibrary.org to get your character set up and determine which of the two tables will be a better fit.
URL:https://tracylibrary.org/event/dungeons-and-dragons-at-the-library-for-adults/2026-02-05/
LOCATION:Tracy Memorial Library
CATEGORIES:Adults
ATTACH;FMTTYPE=image/png:https://tracylibrary.org/wp-content/uploads/2024/02/Dragon_-_2-1.png
END:VEVENT
BEGIN:VEVENT
DTSTART;TZID=America/New_York:20260210T100000
DTEND;TZID=America/New_York:20260210T110000
DTSTAMP:20260423T182225
CREATED:20221213T210138Z
LAST-MODIFIED:20221213T210138Z
UID:9909-1770717600-1770721200@tracylibrary.org
SUMMARY:Morning Book Discussion
DESCRIPTION:The group meets monthly on the 2nd Tuesday of the month. New members are welcome. Copies of the book to be discussed can be borrowed at the Circulation Desk in the Library.
URL:https://tracylibrary.org/event/morning-book-discussion-3-2023-09-12/2026-02-10/
CATEGORIES:Adults,Book Discussion
ATTACH;FMTTYPE=image/png:https://tracylibrary.org/wp-content/uploads/2022/04/Morning-Book-Discussion-e1696965518696.png
END:VEVENT
BEGIN:VEVENT
DTSTART;TZID=America/New_York:20260210T150000
DTEND;TZID=America/New_York:20260210T160000
DTSTAMP:20260423T182225
CREATED:20220811T183425Z
LAST-MODIFIED:20220811T183425Z
UID:10260-1770735600-1770739200@tracylibrary.org
SUMMARY:Lego Club
DESCRIPTION:  \nJoin us in the meeting room to build with large collection of Lego bricks. Build your own creation or try one of our challenges. This event is intended for ages 5 and up. This is a drop in program and sign up is not required.
URL:https://tracylibrary.org/event/lego-club-2024-09-10-2024-09-17-2024-12-31/2026-02-10/
CATEGORIES:Youth
ATTACH;FMTTYPE=image/jpeg:https://tracylibrary.org/wp-content/uploads/2022/08/lego-gcc3f8363f_1920.jpg
END:VEVENT
BEGIN:VEVENT
DTSTART;TZID=America/New_York:20260210T180000
DTEND;TZID=America/New_York:20260210T193000
DTSTAMP:20260423T182225
CREATED:20241206T192354Z
LAST-MODIFIED:20241206T192354Z
UID:9809-1770746400-1770751800@tracylibrary.org
SUMMARY:TML Knitting Group
DESCRIPTION:Do you knit\, crochet or stitch? Looking to meet fellow practitioners of the fabric arts? Look no further than the Tracy Library. Starting December 10th and continuing on Tuesdays\, the TML Knitting Group will be meeting in the Reading Room from 6-7:30. All skill levels welcome. \nImage “White knitting” by youn-ar-gall is licensed under CC BY-NC-SA 2.0.
URL:https://tracylibrary.org/event/tml-knitting-group/2026-02-10/
CATEGORIES:Adults
ATTACH;FMTTYPE=image/jpeg:https://tracylibrary.org/wp-content/uploads/2024/12/knitting-e1733513828612.jpg
END:VEVENT
END:VCALENDAR