BEGIN:VCALENDAR
VERSION:2.0
PRODID:-//Tracy Memorial Library - ECPv6.15.20//NONSGML v1.0//EN
CALSCALE:GREGORIAN
METHOD:PUBLISH
X-WR-CALNAME:Tracy Memorial Library
X-ORIGINAL-URL:https://tracylibrary.org
X-WR-CALDESC:Events for Tracy Memorial Library
REFRESH-INTERVAL;VALUE=DURATION:PT1H
X-Robots-Tag:noindex
X-PUBLISHED-TTL:PT1H
BEGIN:VTIMEZONE
TZID:America/New_York
BEGIN:DAYLIGHT
TZOFFSETFROM:-0500
TZOFFSETTO:-0400
TZNAME:EDT
DTSTART:20240310T070000
END:DAYLIGHT
BEGIN:STANDARD
TZOFFSETFROM:-0400
TZOFFSETTO:-0500
TZNAME:EST
DTSTART:20241103T060000
END:STANDARD
BEGIN:DAYLIGHT
TZOFFSETFROM:-0500
TZOFFSETTO:-0400
TZNAME:EDT
DTSTART:20250309T070000
END:DAYLIGHT
BEGIN:STANDARD
TZOFFSETFROM:-0400
TZOFFSETTO:-0500
TZNAME:EST
DTSTART:20251102T060000
END:STANDARD
BEGIN:DAYLIGHT
TZOFFSETFROM:-0500
TZOFFSETTO:-0400
TZNAME:EDT
DTSTART:20260308T070000
END:DAYLIGHT
BEGIN:STANDARD
TZOFFSETFROM:-0400
TZOFFSETTO:-0500
TZNAME:EST
DTSTART:20261101T060000
END:STANDARD
END:VTIMEZONE
BEGIN:VEVENT
DTSTART;TZID=America/New_York:20251007T180000
DTEND;TZID=America/New_York:20251007T193000
DTSTAMP:20260425T082251
CREATED:20241206T192354Z
LAST-MODIFIED:20241206T192354Z
UID:9792-1759860000-1759865400@tracylibrary.org
SUMMARY:TML Knitting Group
DESCRIPTION:Do you knit\, crochet or stitch? Looking to meet fellow practitioners of the fabric arts? Look no further than the Tracy Library. Starting December 10th and continuing on Tuesdays\, the TML Knitting Group will be meeting in the Reading Room from 6-7:30. All skill levels welcome. \nImage “White knitting” by youn-ar-gall is licensed under CC BY-NC-SA 2.0.
URL:https://tracylibrary.org/event/tml-knitting-group/2025-10-07/
CATEGORIES:Adults
ATTACH;FMTTYPE=image/jpeg:https://tracylibrary.org/wp-content/uploads/2024/12/knitting-e1733513828612.jpg
END:VEVENT
BEGIN:VEVENT
DTSTART;TZID=America/New_York:20251008T100000
DTEND;TZID=America/New_York:20251008T110000
DTSTAMP:20260425T082251
CREATED:20220505T153033Z
LAST-MODIFIED:20251223T152525Z
UID:9524-1759917600-1759921200@tracylibrary.org
SUMMARY:Story Time
DESCRIPTION:Weekly on Wednesdays at 10 AM.\nJoin us for stories\, songs and rhymes. Each week has a unique theme. We also have themed take and make craft bag that you can complete at home.
URL:https://tracylibrary.org/event/story-time/2025-10-08/
CATEGORIES:Youth
ATTACH;FMTTYPE=image/jpeg:https://tracylibrary.org/wp-content/uploads/2022/02/book-heart2.jpg
ORGANIZER;CN="Ben Cote":MAILTO:bcote@tracylibrary.org
END:VEVENT
BEGIN:VEVENT
DTSTART;TZID=America/New_York:20251008T150000
DTEND;TZID=America/New_York:20251008T170000
DTSTAMP:20260425T082251
CREATED:20250903T155412Z
LAST-MODIFIED:20251001T184001Z
UID:9595-1759935600-1759942800@tracylibrary.org
SUMMARY:Movie Day
DESCRIPTION:Join us for a movie and snacks. This event is for independent youth ages 10 and up.
URL:https://tracylibrary.org/event/movie-day-3-2025-10-01/
ATTACH;FMTTYPE=image/png:https://tracylibrary.org/wp-content/uploads/2025/09/film-162028_1280.png
END:VEVENT
BEGIN:VEVENT
DTSTART;TZID=America/New_York:20251009T150000
DTEND;TZID=America/New_York:20251009T160000
DTSTAMP:20260425T082251
CREATED:20231011T172219Z
LAST-MODIFIED:20260302T161514Z
UID:9495-1760022000-1760025600@tracylibrary.org
SUMMARY:Game Day
DESCRIPTION:This program is for independent gamers ages 10 to 17. Try your hand at Nintendo Switch games as well as classic board games.
URL:https://tracylibrary.org/event/game-day-2-2024-09-12-2024-09-12-2024-12-26/2025-10-09/
ATTACH;FMTTYPE=image/jpeg:https://tracylibrary.org/wp-content/uploads/2022/11/Game-Day-cover-photo-1-1.jpg
END:VEVENT
BEGIN:VEVENT
DTSTART;TZID=America/New_York:20251010T090000
DTEND;TZID=America/New_York:20251010T170000
DTSTAMP:20260425T082251
CREATED:20240321T150001Z
LAST-MODIFIED:20250922T144929Z
UID:9633-1760086800-1760115600@tracylibrary.org
SUMMARY:Puzzle Exchange
DESCRIPTION:Join us in the meeting room Friday and take home new-to-you puzzles!  We will be accepting donated puzzles throughout the week.
URL:https://tracylibrary.org/event/puzzle-exchange/2025-10-10/
LOCATION:Tracy Memorial Library
CATEGORIES:All Ages
ATTACH;FMTTYPE=image/png:https://tracylibrary.org/wp-content/uploads/2024/03/Puzzle-Piece.png
END:VEVENT
BEGIN:VEVENT
DTSTART;TZID=America/New_York:20251014T100000
DTEND;TZID=America/New_York:20251014T110000
DTSTAMP:20260425T082251
CREATED:20221213T210138Z
LAST-MODIFIED:20251210T153644Z
UID:8570-1760436000-1760439600@tracylibrary.org
SUMMARY:Morning Book Discussion
DESCRIPTION:The group meets monthly on the 2nd Tuesday of the month. New members are welcome. Copies of the book to be discussed can be borrowed at the Circulation Desk in the Library.
URL:https://tracylibrary.org/event/morning-book-discussion-3-2023-09-12/2025-10-14/
CATEGORIES:Adults,Book Discussion
ATTACH;FMTTYPE=image/png:https://tracylibrary.org/wp-content/uploads/2022/04/Morning-Book-Discussion-e1696965518696.png
END:VEVENT
BEGIN:VEVENT
DTSTART;TZID=America/New_York:20251014T150000
DTEND;TZID=America/New_York:20251014T160000
DTSTAMP:20260425T082251
CREATED:20220811T183425Z
LAST-MODIFIED:20260302T154959Z
UID:9551-1760454000-1760457600@tracylibrary.org
SUMMARY:Lego Club
DESCRIPTION:  \nJoin us in the meeting room to build with large collection of Lego bricks. Build your own creation or try one of our challenges. This event is intended for ages 5 and up. This is a drop in program and sign up is not required.
URL:https://tracylibrary.org/event/lego-club-2024-09-10-2024-09-17-2024-12-31/2025-10-14/
CATEGORIES:Youth
ATTACH;FMTTYPE=image/jpeg:https://tracylibrary.org/wp-content/uploads/2022/08/lego-gcc3f8363f_1920.jpg
END:VEVENT
BEGIN:VEVENT
DTSTART;TZID=America/New_York:20251014T180000
DTEND;TZID=America/New_York:20251014T193000
DTSTAMP:20260425T082251
CREATED:20241206T192354Z
LAST-MODIFIED:20241206T192354Z
UID:9793-1760464800-1760470200@tracylibrary.org
SUMMARY:TML Knitting Group
DESCRIPTION:Do you knit\, crochet or stitch? Looking to meet fellow practitioners of the fabric arts? Look no further than the Tracy Library. Starting December 10th and continuing on Tuesdays\, the TML Knitting Group will be meeting in the Reading Room from 6-7:30. All skill levels welcome. \nImage “White knitting” by youn-ar-gall is licensed under CC BY-NC-SA 2.0.
URL:https://tracylibrary.org/event/tml-knitting-group/2025-10-14/
CATEGORIES:Adults
ATTACH;FMTTYPE=image/jpeg:https://tracylibrary.org/wp-content/uploads/2024/12/knitting-e1733513828612.jpg
END:VEVENT
BEGIN:VEVENT
DTSTART;TZID=America/New_York:20251015T100000
DTEND;TZID=America/New_York:20251015T110000
DTSTAMP:20260425T082251
CREATED:20220505T153033Z
LAST-MODIFIED:20251223T152527Z
UID:9525-1760522400-1760526000@tracylibrary.org
SUMMARY:Story Time
DESCRIPTION:Weekly on Wednesdays at 10 AM.\nJoin us for stories\, songs and rhymes. Each week has a unique theme. We also have themed take and make craft bag that you can complete at home.
URL:https://tracylibrary.org/event/story-time/2025-10-15/
CATEGORIES:Youth
ATTACH;FMTTYPE=image/jpeg:https://tracylibrary.org/wp-content/uploads/2022/02/book-heart2.jpg
ORGANIZER;CN="Ben Cote":MAILTO:bcote@tracylibrary.org
END:VEVENT
BEGIN:VEVENT
DTSTART;TZID=America/New_York:20251016T150000
DTEND;TZID=America/New_York:20251016T160000
DTSTAMP:20260425T082251
CREATED:20231011T172219Z
LAST-MODIFIED:20260302T161517Z
UID:9496-1760626800-1760630400@tracylibrary.org
SUMMARY:Game Day
DESCRIPTION:This program is for independent gamers ages 10 to 17. Try your hand at Nintendo Switch games as well as classic board games.
URL:https://tracylibrary.org/event/game-day-2-2024-09-12-2024-09-12-2024-12-26/2025-10-16/
ATTACH;FMTTYPE=image/jpeg:https://tracylibrary.org/wp-content/uploads/2022/11/Game-Day-cover-photo-1-1.jpg
END:VEVENT
BEGIN:VEVENT
DTSTART;TZID=America/New_York:20251021T100000
DTEND;TZID=America/New_York:20251021T110000
DTSTAMP:20260425T082252
CREATED:20241107T201138Z
LAST-MODIFIED:20260316T195051Z
UID:9628-1761040800-1761044400@tracylibrary.org
SUMMARY:Cookbook Club
DESCRIPTION:Join the Tracy Library’s Cookbook Club.  Every other month we try recipes from a new cookbook and share our experiences.  Samples are always welcome but never required.  Open to all.  Cookbooks available a couple of weeks before the meeting at the circulation desk.
URL:https://tracylibrary.org/event/cookbook-club/2025-10-21/
ATTACH;FMTTYPE=image/jpeg:https://tracylibrary.org/wp-content/uploads/2025/08/Recipe-for-Success.jpg
END:VEVENT
BEGIN:VEVENT
DTSTART;TZID=America/New_York:20251021T150000
DTEND;TZID=America/New_York:20251021T160000
DTSTAMP:20260425T082252
CREATED:20220811T183425Z
LAST-MODIFIED:20260302T155003Z
UID:9552-1761058800-1761062400@tracylibrary.org
SUMMARY:Lego Club
DESCRIPTION:  \nJoin us in the meeting room to build with large collection of Lego bricks. Build your own creation or try one of our challenges. This event is intended for ages 5 and up. This is a drop in program and sign up is not required.
URL:https://tracylibrary.org/event/lego-club-2024-09-10-2024-09-17-2024-12-31/2025-10-21/
CATEGORIES:Youth
ATTACH;FMTTYPE=image/jpeg:https://tracylibrary.org/wp-content/uploads/2022/08/lego-gcc3f8363f_1920.jpg
END:VEVENT
BEGIN:VEVENT
DTSTART;TZID=America/New_York:20251021T180000
DTEND;TZID=America/New_York:20251021T193000
DTSTAMP:20260425T082252
CREATED:20241206T192354Z
LAST-MODIFIED:20241206T192354Z
UID:9794-1761069600-1761075000@tracylibrary.org
SUMMARY:TML Knitting Group
DESCRIPTION:Do you knit\, crochet or stitch? Looking to meet fellow practitioners of the fabric arts? Look no further than the Tracy Library. Starting December 10th and continuing on Tuesdays\, the TML Knitting Group will be meeting in the Reading Room from 6-7:30. All skill levels welcome. \nImage “White knitting” by youn-ar-gall is licensed under CC BY-NC-SA 2.0.
URL:https://tracylibrary.org/event/tml-knitting-group/2025-10-21/
CATEGORIES:Adults
ATTACH;FMTTYPE=image/jpeg:https://tracylibrary.org/wp-content/uploads/2024/12/knitting-e1733513828612.jpg
END:VEVENT
BEGIN:VEVENT
DTSTART;TZID=America/New_York:20251022T100000
DTEND;TZID=America/New_York:20251022T110000
DTSTAMP:20260425T082252
CREATED:20220505T153033Z
LAST-MODIFIED:20251223T152529Z
UID:9526-1761127200-1761130800@tracylibrary.org
SUMMARY:Story Time
DESCRIPTION:Weekly on Wednesdays at 10 AM.\nJoin us for stories\, songs and rhymes. Each week has a unique theme. We also have themed take and make craft bag that you can complete at home.
URL:https://tracylibrary.org/event/story-time/2025-10-22/
CATEGORIES:Youth
ATTACH;FMTTYPE=image/jpeg:https://tracylibrary.org/wp-content/uploads/2022/02/book-heart2.jpg
ORGANIZER;CN="Ben Cote":MAILTO:bcote@tracylibrary.org
END:VEVENT
BEGIN:VEVENT
DTSTART;TZID=America/New_York:20251023T150000
DTEND;TZID=America/New_York:20251023T160000
DTSTAMP:20260425T082252
CREATED:20231011T172219Z
LAST-MODIFIED:20260302T161521Z
UID:9497-1761231600-1761235200@tracylibrary.org
SUMMARY:Game Day
DESCRIPTION:This program is for independent gamers ages 10 to 17. Try your hand at Nintendo Switch games as well as classic board games.
URL:https://tracylibrary.org/event/game-day-2-2024-09-12-2024-09-12-2024-12-26/2025-10-23/
ATTACH;FMTTYPE=image/jpeg:https://tracylibrary.org/wp-content/uploads/2022/11/Game-Day-cover-photo-1-1.jpg
END:VEVENT
BEGIN:VEVENT
DTSTART;TZID=America/New_York:20251023T180000
DTEND;TZID=America/New_York:20251023T200000
DTSTAMP:20260425T082252
CREATED:20240429T190505Z
LAST-MODIFIED:20260423T193104Z
UID:9640-1761242400-1761249600@tracylibrary.org
SUMMARY:Dungeons and Dragons at the Library for Adults
DESCRIPTION:A new D&D adventure is starting in 2026.  Ages 18 and up. Beginners welcome — no prior experience necessary!  If you are interested in participating\, please email Matthew at mgunby@tracylibrary.org to get your character set up and determine which of the two tables will be a better fit.
URL:https://tracylibrary.org/event/dungeons-and-dragons-at-the-library-for-adults/2025-10-23/
LOCATION:Tracy Memorial Library
CATEGORIES:Adults
ATTACH;FMTTYPE=image/png:https://tracylibrary.org/wp-content/uploads/2024/02/Dragon_-_2-1.png
END:VEVENT
BEGIN:VEVENT
DTSTART;TZID=America/New_York:20251028T150000
DTEND;TZID=America/New_York:20251028T160000
DTSTAMP:20260425T082252
CREATED:20220811T183425Z
LAST-MODIFIED:20260302T155007Z
UID:9553-1761663600-1761667200@tracylibrary.org
SUMMARY:Lego Club
DESCRIPTION:  \nJoin us in the meeting room to build with large collection of Lego bricks. Build your own creation or try one of our challenges. This event is intended for ages 5 and up. This is a drop in program and sign up is not required.
URL:https://tracylibrary.org/event/lego-club-2024-09-10-2024-09-17-2024-12-31/2025-10-28/
CATEGORIES:Youth
ATTACH;FMTTYPE=image/jpeg:https://tracylibrary.org/wp-content/uploads/2022/08/lego-gcc3f8363f_1920.jpg
END:VEVENT
BEGIN:VEVENT
DTSTART;TZID=America/New_York:20251028T180000
DTEND;TZID=America/New_York:20251028T193000
DTSTAMP:20260425T082252
CREATED:20241206T192354Z
LAST-MODIFIED:20241206T192354Z
UID:9795-1761674400-1761679800@tracylibrary.org
SUMMARY:TML Knitting Group
DESCRIPTION:Do you knit\, crochet or stitch? Looking to meet fellow practitioners of the fabric arts? Look no further than the Tracy Library. Starting December 10th and continuing on Tuesdays\, the TML Knitting Group will be meeting in the Reading Room from 6-7:30. All skill levels welcome. \nImage “White knitting” by youn-ar-gall is licensed under CC BY-NC-SA 2.0.
URL:https://tracylibrary.org/event/tml-knitting-group/2025-10-28/
CATEGORIES:Adults
ATTACH;FMTTYPE=image/jpeg:https://tracylibrary.org/wp-content/uploads/2024/12/knitting-e1733513828612.jpg
END:VEVENT
BEGIN:VEVENT
DTSTART;TZID=America/New_York:20251029T100000
DTEND;TZID=America/New_York:20251029T110000
DTSTAMP:20260425T082252
CREATED:20220505T153033Z
LAST-MODIFIED:20251223T152531Z
UID:9527-1761732000-1761735600@tracylibrary.org
SUMMARY:Story Time
DESCRIPTION:Weekly on Wednesdays at 10 AM.\nJoin us for stories\, songs and rhymes. Each week has a unique theme. We also have themed take and make craft bag that you can complete at home.
URL:https://tracylibrary.org/event/story-time/2025-10-29/
CATEGORIES:Youth
ATTACH;FMTTYPE=image/jpeg:https://tracylibrary.org/wp-content/uploads/2022/02/book-heart2.jpg
ORGANIZER;CN="Ben Cote":MAILTO:bcote@tracylibrary.org
END:VEVENT
BEGIN:VEVENT
DTSTART;TZID=America/New_York:20251030T150000
DTEND;TZID=America/New_York:20251030T160000
DTSTAMP:20260425T082252
CREATED:20231011T172219Z
LAST-MODIFIED:20260302T161525Z
UID:9498-1761836400-1761840000@tracylibrary.org
SUMMARY:Game Day
DESCRIPTION:This program is for independent gamers ages 10 to 17. Try your hand at Nintendo Switch games as well as classic board games.
URL:https://tracylibrary.org/event/game-day-2-2024-09-12-2024-09-12-2024-12-26/2025-10-30/
ATTACH;FMTTYPE=image/jpeg:https://tracylibrary.org/wp-content/uploads/2022/11/Game-Day-cover-photo-1-1.jpg
END:VEVENT
BEGIN:VEVENT
DTSTART;TZID=America/New_York:20251104T100000
DTEND;TZID=America/New_York:20251104T110000
DTSTAMP:20260425T082252
CREATED:20221213T210138Z
LAST-MODIFIED:20251210T153646Z
UID:9690-1762250400-1762254000@tracylibrary.org
SUMMARY:Morning Book Discussion
DESCRIPTION:The group meets monthly on the 2nd Tuesday of the month. New members are welcome. Copies of the book to be discussed can be borrowed at the Circulation Desk in the Library.
URL:https://tracylibrary.org/event/morning-book-discussion-3-2023-09-12/2025-11-04/
CATEGORIES:Adults,Book Discussion
ATTACH;FMTTYPE=image/png:https://tracylibrary.org/wp-content/uploads/2022/04/Morning-Book-Discussion-e1696965518696.png
END:VEVENT
BEGIN:VEVENT
DTSTART;TZID=America/New_York:20251104T150000
DTEND;TZID=America/New_York:20251104T160000
DTSTAMP:20260425T082252
CREATED:20220811T183425Z
LAST-MODIFIED:20260302T155011Z
UID:9554-1762268400-1762272000@tracylibrary.org
SUMMARY:Lego Club
DESCRIPTION:  \nJoin us in the meeting room to build with large collection of Lego bricks. Build your own creation or try one of our challenges. This event is intended for ages 5 and up. This is a drop in program and sign up is not required.
URL:https://tracylibrary.org/event/lego-club-2024-09-10-2024-09-17-2024-12-31/2025-11-04/
CATEGORIES:Youth
ATTACH;FMTTYPE=image/jpeg:https://tracylibrary.org/wp-content/uploads/2022/08/lego-gcc3f8363f_1920.jpg
END:VEVENT
BEGIN:VEVENT
DTSTART;TZID=America/New_York:20251104T180000
DTEND;TZID=America/New_York:20251104T193000
DTSTAMP:20260425T082252
CREATED:20241206T192354Z
LAST-MODIFIED:20241206T192354Z
UID:9796-1762279200-1762284600@tracylibrary.org
SUMMARY:TML Knitting Group
DESCRIPTION:Do you knit\, crochet or stitch? Looking to meet fellow practitioners of the fabric arts? Look no further than the Tracy Library. Starting December 10th and continuing on Tuesdays\, the TML Knitting Group will be meeting in the Reading Room from 6-7:30. All skill levels welcome. \nImage “White knitting” by youn-ar-gall is licensed under CC BY-NC-SA 2.0.
URL:https://tracylibrary.org/event/tml-knitting-group/2025-11-04/
CATEGORIES:Adults
ATTACH;FMTTYPE=image/jpeg:https://tracylibrary.org/wp-content/uploads/2024/12/knitting-e1733513828612.jpg
END:VEVENT
BEGIN:VEVENT
DTSTART;TZID=America/New_York:20251105T100000
DTEND;TZID=America/New_York:20251105T110000
DTSTAMP:20260425T082252
CREATED:20220505T153033Z
LAST-MODIFIED:20251223T152533Z
UID:9528-1762336800-1762340400@tracylibrary.org
SUMMARY:Story Time
DESCRIPTION:Weekly on Wednesdays at 10 AM.\nJoin us for stories\, songs and rhymes. Each week has a unique theme. We also have themed take and make craft bag that you can complete at home.
URL:https://tracylibrary.org/event/story-time/2025-11-05/
CATEGORIES:Youth
ATTACH;FMTTYPE=image/jpeg:https://tracylibrary.org/wp-content/uploads/2022/02/book-heart2.jpg
ORGANIZER;CN="Ben Cote":MAILTO:bcote@tracylibrary.org
END:VEVENT
BEGIN:VEVENT
DTSTART;TZID=America/New_York:20251105T150000
DTEND;TZID=America/New_York:20251105T170000
DTSTAMP:20260425T082252
CREATED:20250903T155412Z
LAST-MODIFIED:20250903T155412Z
UID:9596-1762354800-1762362000@tracylibrary.org
SUMMARY:Movie Day
DESCRIPTION:Join us for a movie and snacks. This event is for independent youth ages 10 and up.
URL:https://tracylibrary.org/event/movie-day-3/2025-11-05/
ATTACH;FMTTYPE=image/png:https://tracylibrary.org/wp-content/uploads/2025/09/film-162028_1280.png
END:VEVENT
BEGIN:VEVENT
DTSTART;TZID=America/New_York:20251106T150000
DTEND;TZID=America/New_York:20251106T160000
DTSTAMP:20260425T082252
CREATED:20231011T172219Z
LAST-MODIFIED:20260302T161530Z
UID:9499-1762441200-1762444800@tracylibrary.org
SUMMARY:Game Day
DESCRIPTION:This program is for independent gamers ages 10 to 17. Try your hand at Nintendo Switch games as well as classic board games.
URL:https://tracylibrary.org/event/game-day-2-2024-09-12-2024-09-12-2024-12-26/2025-11-06/
ATTACH;FMTTYPE=image/jpeg:https://tracylibrary.org/wp-content/uploads/2022/11/Game-Day-cover-photo-1-1.jpg
END:VEVENT
BEGIN:VEVENT
DTSTART;TZID=America/New_York:20251106T180000
DTEND;TZID=America/New_York:20251106T200000
DTSTAMP:20260425T082252
CREATED:20240429T190505Z
LAST-MODIFIED:20260423T193106Z
UID:10161-1762452000-1762459200@tracylibrary.org
SUMMARY:Dungeons and Dragons at the Library for Adults
DESCRIPTION:A new D&D adventure is starting in 2026.  Ages 18 and up. Beginners welcome — no prior experience necessary!  If you are interested in participating\, please email Matthew at mgunby@tracylibrary.org to get your character set up and determine which of the two tables will be a better fit.
URL:https://tracylibrary.org/event/dungeons-and-dragons-at-the-library-for-adults/2025-11-06/
LOCATION:Tracy Memorial Library
CATEGORIES:Adults
ATTACH;FMTTYPE=image/png:https://tracylibrary.org/wp-content/uploads/2024/02/Dragon_-_2-1.png
END:VEVENT
BEGIN:VEVENT
DTSTART;TZID=America/New_York:20251112T100000
DTEND;TZID=America/New_York:20251112T110000
DTSTAMP:20260425T082252
CREATED:20220505T153033Z
LAST-MODIFIED:20251223T152535Z
UID:9529-1762941600-1762945200@tracylibrary.org
SUMMARY:Story Time
DESCRIPTION:Weekly on Wednesdays at 10 AM.\nJoin us for stories\, songs and rhymes. Each week has a unique theme. We also have themed take and make craft bag that you can complete at home.
URL:https://tracylibrary.org/event/story-time/2025-11-12/
CATEGORIES:Youth
ATTACH;FMTTYPE=image/jpeg:https://tracylibrary.org/wp-content/uploads/2022/02/book-heart2.jpg
ORGANIZER;CN="Ben Cote":MAILTO:bcote@tracylibrary.org
END:VEVENT
BEGIN:VEVENT
DTSTART;TZID=America/New_York:20251112T150000
DTEND;TZID=America/New_York:20251112T160000
DTSTAMP:20260425T082252
CREATED:20250910T134931Z
LAST-MODIFIED:20260408T131632Z
UID:9604-1762959600-1762963200@tracylibrary.org
SUMMARY:Universal Yums
DESCRIPTION:Join us for Universal Yums.  Youth 10 and up can sample snacks from another country. Guess which country they are from and decide which snack is the best.
URL:https://tracylibrary.org/event/universal-yums-5/2025-11-12/
ATTACH;FMTTYPE=image/jpeg:https://tracylibrary.org/wp-content/uploads/2025/08/Hero-768x771-1.jpg
END:VEVENT
BEGIN:VEVENT
DTSTART;TZID=America/New_York:20251113T150000
DTEND;TZID=America/New_York:20251113T160000
DTSTAMP:20260425T082252
CREATED:20231011T172219Z
LAST-MODIFIED:20260302T161535Z
UID:9500-1763046000-1763049600@tracylibrary.org
SUMMARY:Game Day
DESCRIPTION:This program is for independent gamers ages 10 to 17. Try your hand at Nintendo Switch games as well as classic board games.
URL:https://tracylibrary.org/event/game-day-2-2024-09-12-2024-09-12-2024-12-26/2025-11-13/
ATTACH;FMTTYPE=image/jpeg:https://tracylibrary.org/wp-content/uploads/2022/11/Game-Day-cover-photo-1-1.jpg
END:VEVENT
END:VCALENDAR