BEGIN:VCALENDAR
VERSION:2.0
PRODID:-//Tracy Memorial Library - ECPv6.15.20//NONSGML v1.0//EN
CALSCALE:GREGORIAN
METHOD:PUBLISH
X-WR-CALNAME:Tracy Memorial Library
X-ORIGINAL-URL:https://tracylibrary.org
X-WR-CALDESC:Events for Tracy Memorial Library
REFRESH-INTERVAL;VALUE=DURATION:PT1H
X-Robots-Tag:noindex
X-PUBLISHED-TTL:PT1H
BEGIN:VTIMEZONE
TZID:America/New_York
BEGIN:DAYLIGHT
TZOFFSETFROM:-0500
TZOFFSETTO:-0400
TZNAME:EDT
DTSTART:20240310T070000
END:DAYLIGHT
BEGIN:STANDARD
TZOFFSETFROM:-0400
TZOFFSETTO:-0500
TZNAME:EST
DTSTART:20241103T060000
END:STANDARD
BEGIN:DAYLIGHT
TZOFFSETFROM:-0500
TZOFFSETTO:-0400
TZNAME:EDT
DTSTART:20250309T070000
END:DAYLIGHT
BEGIN:STANDARD
TZOFFSETFROM:-0400
TZOFFSETTO:-0500
TZNAME:EST
DTSTART:20251102T060000
END:STANDARD
BEGIN:DAYLIGHT
TZOFFSETFROM:-0500
TZOFFSETTO:-0400
TZNAME:EDT
DTSTART:20260308T070000
END:DAYLIGHT
BEGIN:STANDARD
TZOFFSETFROM:-0400
TZOFFSETTO:-0500
TZNAME:EST
DTSTART:20261101T060000
END:STANDARD
END:VTIMEZONE
BEGIN:VEVENT
DTSTART;TZID=America/New_York:20250520T170000
DTEND;TZID=America/New_York:20250520T180000
DTSTAMP:20260425T111446
CREATED:20250423T151327Z
LAST-MODIFIED:20250423T151707Z
UID:9130-1747760400-1747764000@tracylibrary.org
SUMMARY:Writing Your Life Experiences with Lynn Trainor
DESCRIPTION:Lynn Trainor\, a retired engineer and a Sunapee resident\, will share his extremely rewarding\nexperience with StoryWorth. His journey started with a birthday gift from his daughter\, and\nthen Lynn embarked on a one-year quest to write short stories about his life in response to\nweekly questions from his family.
URL:https://tracylibrary.org/event/writing-life-experiences-with-lynn-trainor/
CATEGORIES:Adults
ATTACH;FMTTYPE=image/jpeg:https://tracylibrary.org/wp-content/uploads/2025/04/New-Linkedin.jpg
END:VEVENT
BEGIN:VEVENT
DTSTART;TZID=America/New_York:20250520T150000
DTEND;TZID=America/New_York:20250520T160000
DTSTAMP:20260425T111446
CREATED:20220811T183425Z
LAST-MODIFIED:20260302T154845Z
UID:8627-1747753200-1747756800@tracylibrary.org
SUMMARY:Lego Club
DESCRIPTION:  \nJoin us in the meeting room to build with large collection of Lego bricks. Build your own creation or try one of our challenges. This event is intended for ages 5 and up. This is a drop in program and sign up is not required.
URL:https://tracylibrary.org/event/lego-club-2024-09-10-2024-09-17-2024-12-31/2025-05-20/
CATEGORIES:Youth
ATTACH;FMTTYPE=image/jpeg:https://tracylibrary.org/wp-content/uploads/2022/08/lego-gcc3f8363f_1920.jpg
END:VEVENT
BEGIN:VEVENT
DTSTART;TZID=America/New_York:20250520T110000
DTEND;TZID=America/New_York:20250520T120000
DTSTAMP:20260425T111446
CREATED:20241107T201138Z
LAST-MODIFIED:20260316T195047Z
UID:9077-1747738800-1747742400@tracylibrary.org
SUMMARY:Cookbook Club
DESCRIPTION:Join the Tracy Library’s Cookbook Club.  Every other month we try recipes from a new cookbook and share our experiences.  Samples are always welcome but never required.  Open to all.  Cookbooks available a couple of weeks before the meeting at the circulation desk.
URL:https://tracylibrary.org/event/cookbook-club/2025-05-20/
ATTACH;FMTTYPE=image/jpeg:https://tracylibrary.org/wp-content/uploads/2025/08/Recipe-for-Success.jpg
END:VEVENT
BEGIN:VEVENT
DTSTART;TZID=America/New_York:20250515T150000
DTEND;TZID=America/New_York:20250515T160000
DTSTAMP:20260425T111446
CREATED:20231011T172219Z
LAST-MODIFIED:20260302T161355Z
UID:8604-1747321200-1747324800@tracylibrary.org
SUMMARY:Game Day
DESCRIPTION:This program is for independent gamers ages 10 to 17. Try your hand at Nintendo Switch games as well as classic board games.
URL:https://tracylibrary.org/event/game-day-2-2024-09-12-2024-09-12-2024-12-26/2025-05-15/
ATTACH;FMTTYPE=image/jpeg:https://tracylibrary.org/wp-content/uploads/2022/11/Game-Day-cover-photo-1-1.jpg
END:VEVENT
BEGIN:VEVENT
DTSTART;TZID=America/New_York:20250514T100000
DTEND;TZID=America/New_York:20250514T110000
DTSTAMP:20260425T111446
CREATED:20220505T153033Z
LAST-MODIFIED:20251223T152440Z
UID:7694-1747216800-1747220400@tracylibrary.org
SUMMARY:Story Time
DESCRIPTION:Weekly on Wednesdays at 10 AM.\nJoin us for stories\, songs and rhymes. Each week has a unique theme. We also have themed take and make craft bag that you can complete at home.
URL:https://tracylibrary.org/event/story-time/2025-05-14/
CATEGORIES:Youth
ATTACH;FMTTYPE=image/jpeg:https://tracylibrary.org/wp-content/uploads/2022/02/book-heart2.jpg
ORGANIZER;CN="Ben Cote":MAILTO:bcote@tracylibrary.org
END:VEVENT
BEGIN:VEVENT
DTSTART;TZID=America/New_York:20250513T180000
DTEND;TZID=America/New_York:20250513T193000
DTSTAMP:20260425T111446
CREATED:20241206T192354Z
LAST-MODIFIED:20241206T192354Z
UID:9771-1747159200-1747164600@tracylibrary.org
SUMMARY:TML Knitting Group
DESCRIPTION:Do you knit\, crochet or stitch? Looking to meet fellow practitioners of the fabric arts? Look no further than the Tracy Library. Starting December 10th and continuing on Tuesdays\, the TML Knitting Group will be meeting in the Reading Room from 6-7:30. All skill levels welcome. \nImage “White knitting” by youn-ar-gall is licensed under CC BY-NC-SA 2.0.
URL:https://tracylibrary.org/event/tml-knitting-group/2025-05-13/
CATEGORIES:Adults
ATTACH;FMTTYPE=image/jpeg:https://tracylibrary.org/wp-content/uploads/2024/12/knitting-e1733513828612.jpg
END:VEVENT
BEGIN:VEVENT
DTSTART;TZID=America/New_York:20250513T150000
DTEND;TZID=America/New_York:20250513T160000
DTSTAMP:20260425T111446
CREATED:20220811T183425Z
LAST-MODIFIED:20260302T154841Z
UID:8626-1747148400-1747152000@tracylibrary.org
SUMMARY:Lego Club
DESCRIPTION:  \nJoin us in the meeting room to build with large collection of Lego bricks. Build your own creation or try one of our challenges. This event is intended for ages 5 and up. This is a drop in program and sign up is not required.
URL:https://tracylibrary.org/event/lego-club-2024-09-10-2024-09-17-2024-12-31/2025-05-13/
CATEGORIES:Youth
ATTACH;FMTTYPE=image/jpeg:https://tracylibrary.org/wp-content/uploads/2022/08/lego-gcc3f8363f_1920.jpg
END:VEVENT
BEGIN:VEVENT
DTSTART;TZID=America/New_York:20250513T100000
DTEND;TZID=America/New_York:20250513T110000
DTSTAMP:20260425T111446
CREATED:20221213T210138Z
LAST-MODIFIED:20251210T153633Z
UID:8565-1747130400-1747134000@tracylibrary.org
SUMMARY:Morning Book Discussion
DESCRIPTION:The group meets monthly on the 2nd Tuesday of the month. New members are welcome. Copies of the book to be discussed can be borrowed at the Circulation Desk in the Library.
URL:https://tracylibrary.org/event/morning-book-discussion-3-2023-09-12/2025-05-13/
CATEGORIES:Adults,Book Discussion
ATTACH;FMTTYPE=image/png:https://tracylibrary.org/wp-content/uploads/2022/04/Morning-Book-Discussion-e1696965518696.png
END:VEVENT
BEGIN:VEVENT
DTSTART;TZID=America/New_York:20250508T150000
DTEND;TZID=America/New_York:20250508T160000
DTSTAMP:20260425T111446
CREATED:20231011T172219Z
LAST-MODIFIED:20260302T161352Z
UID:8603-1746716400-1746720000@tracylibrary.org
SUMMARY:Game Day
DESCRIPTION:This program is for independent gamers ages 10 to 17. Try your hand at Nintendo Switch games as well as classic board games.
URL:https://tracylibrary.org/event/game-day-2-2024-09-12-2024-09-12-2024-12-26/2025-05-08/
ATTACH;FMTTYPE=image/jpeg:https://tracylibrary.org/wp-content/uploads/2022/11/Game-Day-cover-photo-1-1.jpg
END:VEVENT
BEGIN:VEVENT
DTSTART;TZID=America/New_York:20250507T100000
DTEND;TZID=America/New_York:20250507T110000
DTSTAMP:20260425T111446
CREATED:20220505T153033Z
LAST-MODIFIED:20251223T152438Z
UID:7693-1746612000-1746615600@tracylibrary.org
SUMMARY:Story Time
DESCRIPTION:Weekly on Wednesdays at 10 AM.\nJoin us for stories\, songs and rhymes. Each week has a unique theme. We also have themed take and make craft bag that you can complete at home.
URL:https://tracylibrary.org/event/story-time/2025-05-07/
CATEGORIES:Youth
ATTACH;FMTTYPE=image/jpeg:https://tracylibrary.org/wp-content/uploads/2022/02/book-heart2.jpg
ORGANIZER;CN="Ben Cote":MAILTO:bcote@tracylibrary.org
END:VEVENT
BEGIN:VEVENT
DTSTART;TZID=America/New_York:20250506T180000
DTEND;TZID=America/New_York:20250506T193000
DTSTAMP:20260425T111446
CREATED:20241206T192354Z
LAST-MODIFIED:20241206T192354Z
UID:9770-1746554400-1746559800@tracylibrary.org
SUMMARY:TML Knitting Group
DESCRIPTION:Do you knit\, crochet or stitch? Looking to meet fellow practitioners of the fabric arts? Look no further than the Tracy Library. Starting December 10th and continuing on Tuesdays\, the TML Knitting Group will be meeting in the Reading Room from 6-7:30. All skill levels welcome. \nImage “White knitting” by youn-ar-gall is licensed under CC BY-NC-SA 2.0.
URL:https://tracylibrary.org/event/tml-knitting-group/2025-05-06/
CATEGORIES:Adults
ATTACH;FMTTYPE=image/jpeg:https://tracylibrary.org/wp-content/uploads/2024/12/knitting-e1733513828612.jpg
END:VEVENT
BEGIN:VEVENT
DTSTART;TZID=America/New_York:20250506T150000
DTEND;TZID=America/New_York:20250506T160000
DTSTAMP:20260425T111446
CREATED:20220811T183425Z
LAST-MODIFIED:20260302T154838Z
UID:8625-1746543600-1746547200@tracylibrary.org
SUMMARY:Lego Club
DESCRIPTION:  \nJoin us in the meeting room to build with large collection of Lego bricks. Build your own creation or try one of our challenges. This event is intended for ages 5 and up. This is a drop in program and sign up is not required.
URL:https://tracylibrary.org/event/lego-club-2024-09-10-2024-09-17-2024-12-31/2025-05-06/
CATEGORIES:Youth
ATTACH;FMTTYPE=image/jpeg:https://tracylibrary.org/wp-content/uploads/2022/08/lego-gcc3f8363f_1920.jpg
END:VEVENT
BEGIN:VEVENT
DTSTART;TZID=America/New_York:20250501T180000
DTEND;TZID=America/New_York:20250501T200000
DTSTAMP:20260425T111446
CREATED:20240429T190505Z
LAST-MODIFIED:20260423T193050Z
UID:10149-1746122400-1746129600@tracylibrary.org
SUMMARY:Dungeons and Dragons at the Library for Adults
DESCRIPTION:A new D&D adventure is starting in 2026.  Ages 18 and up. Beginners welcome — no prior experience necessary!  If you are interested in participating\, please email Matthew at mgunby@tracylibrary.org to get your character set up and determine which of the two tables will be a better fit.
URL:https://tracylibrary.org/event/dungeons-and-dragons-at-the-library-for-adults/2025-05-01/
LOCATION:Tracy Memorial Library
CATEGORIES:Adults
ATTACH;FMTTYPE=image/png:https://tracylibrary.org/wp-content/uploads/2024/02/Dragon_-_2-1.png
END:VEVENT
BEGIN:VEVENT
DTSTART;TZID=America/New_York:20250501T150000
DTEND;TZID=America/New_York:20250501T160000
DTSTAMP:20260425T111446
CREATED:20231011T172219Z
LAST-MODIFIED:20260302T161348Z
UID:8602-1746111600-1746115200@tracylibrary.org
SUMMARY:Game Day
DESCRIPTION:This program is for independent gamers ages 10 to 17. Try your hand at Nintendo Switch games as well as classic board games.
URL:https://tracylibrary.org/event/game-day-2-2024-09-12-2024-09-12-2024-12-26/2025-05-01/
ATTACH;FMTTYPE=image/jpeg:https://tracylibrary.org/wp-content/uploads/2022/11/Game-Day-cover-photo-1-1.jpg
END:VEVENT
BEGIN:VEVENT
DTSTART;TZID=America/New_York:20250430T100000
DTEND;TZID=America/New_York:20250430T110000
DTSTAMP:20260425T111446
CREATED:20220505T153033Z
LAST-MODIFIED:20251223T152436Z
UID:7692-1746007200-1746010800@tracylibrary.org
SUMMARY:Story Time
DESCRIPTION:Weekly on Wednesdays at 10 AM.\nJoin us for stories\, songs and rhymes. Each week has a unique theme. We also have themed take and make craft bag that you can complete at home.
URL:https://tracylibrary.org/event/story-time/2025-04-30/
CATEGORIES:Youth
ATTACH;FMTTYPE=image/jpeg:https://tracylibrary.org/wp-content/uploads/2022/02/book-heart2.jpg
ORGANIZER;CN="Ben Cote":MAILTO:bcote@tracylibrary.org
END:VEVENT
BEGIN:VEVENT
DTSTART;TZID=America/New_York:20250429T180000
DTEND;TZID=America/New_York:20250429T193000
DTSTAMP:20260425T111446
CREATED:20241206T192354Z
LAST-MODIFIED:20241206T192354Z
UID:9769-1745949600-1745955000@tracylibrary.org
SUMMARY:TML Knitting Group
DESCRIPTION:Do you knit\, crochet or stitch? Looking to meet fellow practitioners of the fabric arts? Look no further than the Tracy Library. Starting December 10th and continuing on Tuesdays\, the TML Knitting Group will be meeting in the Reading Room from 6-7:30. All skill levels welcome. \nImage “White knitting” by youn-ar-gall is licensed under CC BY-NC-SA 2.0.
URL:https://tracylibrary.org/event/tml-knitting-group/2025-04-29/
CATEGORIES:Adults
ATTACH;FMTTYPE=image/jpeg:https://tracylibrary.org/wp-content/uploads/2024/12/knitting-e1733513828612.jpg
END:VEVENT
BEGIN:VEVENT
DTSTART;TZID=America/New_York:20250429T150000
DTEND;TZID=America/New_York:20250429T160000
DTSTAMP:20260425T111446
CREATED:20220811T183425Z
LAST-MODIFIED:20260302T154835Z
UID:8624-1745938800-1745942400@tracylibrary.org
SUMMARY:Lego Club
DESCRIPTION:  \nJoin us in the meeting room to build with large collection of Lego bricks. Build your own creation or try one of our challenges. This event is intended for ages 5 and up. This is a drop in program and sign up is not required.
URL:https://tracylibrary.org/event/lego-club-2024-09-10-2024-09-17-2024-12-31/2025-04-29/
CATEGORIES:Youth
ATTACH;FMTTYPE=image/jpeg:https://tracylibrary.org/wp-content/uploads/2022/08/lego-gcc3f8363f_1920.jpg
END:VEVENT
BEGIN:VEVENT
DTSTART;TZID=America/New_York:20250424T190000
DTEND;TZID=America/New_York:20250424T203000
DTSTAMP:20260425T111446
CREATED:20250321T154610Z
LAST-MODIFIED:20250321T154610Z
UID:9046-1745521200-1745526600@tracylibrary.org
SUMMARY:
DESCRIPTION:Tracy Library is pleased to host the New London Historical Society’s talk on The Battle of Bunker Hill presented by Alex Cain JD.  The talk will focus on the first true battle of the American Revolution and Moses Trussell’s involvement in the battle.  For the complete listing of the Moses Trussell series visit https://www.newlondonhistoricalsociety.org/lecture
URL:https://tracylibrary.org/event/9046/
ATTACH;FMTTYPE=image/jpeg:https://tracylibrary.org/wp-content/uploads/2025/03/Moses-Trussell.jpg
END:VEVENT
BEGIN:VEVENT
DTSTART;TZID=America/New_York:20250424T180000
DTEND;TZID=America/New_York:20250424T200000
DTSTAMP:20260425T111446
CREATED:20240429T190505Z
LAST-MODIFIED:20260423T193050Z
UID:10148-1745517600-1745524800@tracylibrary.org
SUMMARY:Dungeons and Dragons at the Library for Adults
DESCRIPTION:A new D&D adventure is starting in 2026.  Ages 18 and up. Beginners welcome — no prior experience necessary!  If you are interested in participating\, please email Matthew at mgunby@tracylibrary.org to get your character set up and determine which of the two tables will be a better fit.
URL:https://tracylibrary.org/event/dungeons-and-dragons-at-the-library-for-adults/2025-04-24/
LOCATION:Tracy Memorial Library
CATEGORIES:Adults
ATTACH;FMTTYPE=image/png:https://tracylibrary.org/wp-content/uploads/2024/02/Dragon_-_2-1.png
END:VEVENT
BEGIN:VEVENT
DTSTART;TZID=America/New_York:20250424T150000
DTEND;TZID=America/New_York:20250424T160000
DTSTAMP:20260425T111446
CREATED:20231011T172219Z
LAST-MODIFIED:20260302T161343Z
UID:8601-1745506800-1745510400@tracylibrary.org
SUMMARY:Game Day
DESCRIPTION:This program is for independent gamers ages 10 to 17. Try your hand at Nintendo Switch games as well as classic board games.
URL:https://tracylibrary.org/event/game-day-2-2024-09-12-2024-09-12-2024-12-26/2025-04-24/
ATTACH;FMTTYPE=image/jpeg:https://tracylibrary.org/wp-content/uploads/2022/11/Game-Day-cover-photo-1-1.jpg
END:VEVENT
BEGIN:VEVENT
DTSTART;TZID=America/New_York:20250423T100000
DTEND;TZID=America/New_York:20250423T110000
DTSTAMP:20260425T111446
CREATED:20220505T153033Z
LAST-MODIFIED:20251223T152434Z
UID:7691-1745402400-1745406000@tracylibrary.org
SUMMARY:Story Time
DESCRIPTION:Weekly on Wednesdays at 10 AM.\nJoin us for stories\, songs and rhymes. Each week has a unique theme. We also have themed take and make craft bag that you can complete at home.
URL:https://tracylibrary.org/event/story-time/2025-04-23/
CATEGORIES:Youth
ATTACH;FMTTYPE=image/jpeg:https://tracylibrary.org/wp-content/uploads/2022/02/book-heart2.jpg
ORGANIZER;CN="Ben Cote":MAILTO:bcote@tracylibrary.org
END:VEVENT
BEGIN:VEVENT
DTSTART;TZID=America/New_York:20250422T180000
DTEND;TZID=America/New_York:20250422T193000
DTSTAMP:20260425T111446
CREATED:20241206T192354Z
LAST-MODIFIED:20241206T192354Z
UID:9768-1745344800-1745350200@tracylibrary.org
SUMMARY:TML Knitting Group
DESCRIPTION:Do you knit\, crochet or stitch? Looking to meet fellow practitioners of the fabric arts? Look no further than the Tracy Library. Starting December 10th and continuing on Tuesdays\, the TML Knitting Group will be meeting in the Reading Room from 6-7:30. All skill levels welcome. \nImage “White knitting” by youn-ar-gall is licensed under CC BY-NC-SA 2.0.
URL:https://tracylibrary.org/event/tml-knitting-group/2025-04-22/
CATEGORIES:Adults
ATTACH;FMTTYPE=image/jpeg:https://tracylibrary.org/wp-content/uploads/2024/12/knitting-e1733513828612.jpg
END:VEVENT
BEGIN:VEVENT
DTSTART;TZID=America/New_York:20250422T150000
DTEND;TZID=America/New_York:20250422T160000
DTSTAMP:20260425T111446
CREATED:20220811T183425Z
LAST-MODIFIED:20260302T154832Z
UID:8623-1745334000-1745337600@tracylibrary.org
SUMMARY:Lego Club
DESCRIPTION:  \nJoin us in the meeting room to build with large collection of Lego bricks. Build your own creation or try one of our challenges. This event is intended for ages 5 and up. This is a drop in program and sign up is not required.
URL:https://tracylibrary.org/event/lego-club-2024-09-10-2024-09-17-2024-12-31/2025-04-22/
CATEGORIES:Youth
ATTACH;FMTTYPE=image/jpeg:https://tracylibrary.org/wp-content/uploads/2022/08/lego-gcc3f8363f_1920.jpg
END:VEVENT
BEGIN:VEVENT
DTSTART;TZID=America/New_York:20250422T100000
DTEND;TZID=America/New_York:20250422T113000
DTSTAMP:20260425T111446
CREATED:20250304T201719Z
LAST-MODIFIED:20250304T201719Z
UID:9054-1745316000-1745321400@tracylibrary.org
SUMMARY:Memoir Writing Group
DESCRIPTION:The Tracy Library is pleased to be partnering with Joan Katz to provide a series of Memoir Writing Workshops.  The suggested topic for April is a book you have enjoyed\, but you can focus on any topic.  The workshops offer participants the opportunity for mental stimulation\, understanding family dynamics as well as exploration of their own personal\, social\, and cultural history.  It offers a sense of community\, strengthens self identity and feelings of self worth as well as providing the opportunity to reflect on what has made participants who they are today.  Joan has a B.A. in Psychology and an M.Ed. in Guidance and Counseling.
URL:https://tracylibrary.org/event/memoir-writing-group/2025-04-22/
ATTACH;FMTTYPE=image/jpeg:https://tracylibrary.org/wp-content/uploads/2023/03/writing.jpg
END:VEVENT
BEGIN:VEVENT
DTSTART;TZID=America/New_York:20250417T150000
DTEND;TZID=America/New_York:20250417T160000
DTSTAMP:20260425T111446
CREATED:20231011T172219Z
LAST-MODIFIED:20260302T161338Z
UID:8600-1744902000-1744905600@tracylibrary.org
SUMMARY:Game Day
DESCRIPTION:This program is for independent gamers ages 10 to 17. Try your hand at Nintendo Switch games as well as classic board games.
URL:https://tracylibrary.org/event/game-day-2-2024-09-12-2024-09-12-2024-12-26/2025-04-17/
ATTACH;FMTTYPE=image/jpeg:https://tracylibrary.org/wp-content/uploads/2022/11/Game-Day-cover-photo-1-1.jpg
END:VEVENT
BEGIN:VEVENT
DTSTART;TZID=America/New_York:20250416T100000
DTEND;TZID=America/New_York:20250416T110000
DTSTAMP:20260425T111446
CREATED:20220505T153033Z
LAST-MODIFIED:20251223T152432Z
UID:7690-1744797600-1744801200@tracylibrary.org
SUMMARY:Story Time
DESCRIPTION:Weekly on Wednesdays at 10 AM.\nJoin us for stories\, songs and rhymes. Each week has a unique theme. We also have themed take and make craft bag that you can complete at home.
URL:https://tracylibrary.org/event/story-time/2025-04-16/
CATEGORIES:Youth
ATTACH;FMTTYPE=image/jpeg:https://tracylibrary.org/wp-content/uploads/2022/02/book-heart2.jpg
ORGANIZER;CN="Ben Cote":MAILTO:bcote@tracylibrary.org
END:VEVENT
BEGIN:VEVENT
DTSTART;TZID=America/New_York:20250415T180000
DTEND;TZID=America/New_York:20250415T193000
DTSTAMP:20260425T111446
CREATED:20241206T192354Z
LAST-MODIFIED:20241206T192354Z
UID:9767-1744740000-1744745400@tracylibrary.org
SUMMARY:TML Knitting Group
DESCRIPTION:Do you knit\, crochet or stitch? Looking to meet fellow practitioners of the fabric arts? Look no further than the Tracy Library. Starting December 10th and continuing on Tuesdays\, the TML Knitting Group will be meeting in the Reading Room from 6-7:30. All skill levels welcome. \nImage “White knitting” by youn-ar-gall is licensed under CC BY-NC-SA 2.0.
URL:https://tracylibrary.org/event/tml-knitting-group/2025-04-15/
CATEGORIES:Adults
ATTACH;FMTTYPE=image/jpeg:https://tracylibrary.org/wp-content/uploads/2024/12/knitting-e1733513828612.jpg
END:VEVENT
BEGIN:VEVENT
DTSTART;TZID=America/New_York:20250415T173000
DTEND;TZID=America/New_York:20250415T190000
DTSTAMP:20260425T111446
CREATED:20250224T154434Z
LAST-MODIFIED:20250224T195526Z
UID:9006-1744738200-1744743600@tracylibrary.org
SUMMARY:Meet Local Author Duncan Watson
DESCRIPTION:The Tracy Library is pleased to host author of Everyone’s Trash\, Duncan Watson.  “Duncan Watson\, a seasoned waste management professional and lifelong storyteller\, invites readers to discover the hidden world of recycling and refuse in his debut book\, Everyone’s Trash. With over 33 years in the City of Keene’s solid waste program\, Watson’s journey from childhood recycling attendant to a leader in the field reflects his lifelong commitment to community and sustainability.”
URL:https://tracylibrary.org/event/meet-local-author-duncan-watson/
ATTACH;FMTTYPE=image/jpeg:https://tracylibrary.org/wp-content/uploads/2025/02/Duncan-Bio-Pic-Fall-24-1.jpg
END:VEVENT
BEGIN:VEVENT
DTSTART;TZID=America/New_York:20250415T150000
DTEND;TZID=America/New_York:20250415T160000
DTSTAMP:20260425T111446
CREATED:20220811T183425Z
LAST-MODIFIED:20260302T154830Z
UID:8622-1744729200-1744732800@tracylibrary.org
SUMMARY:Lego Club
DESCRIPTION:  \nJoin us in the meeting room to build with large collection of Lego bricks. Build your own creation or try one of our challenges. This event is intended for ages 5 and up. This is a drop in program and sign up is not required.
URL:https://tracylibrary.org/event/lego-club-2024-09-10-2024-09-17-2024-12-31/2025-04-15/
CATEGORIES:Youth
ATTACH;FMTTYPE=image/jpeg:https://tracylibrary.org/wp-content/uploads/2022/08/lego-gcc3f8363f_1920.jpg
END:VEVENT
BEGIN:VEVENT
DTSTART;TZID=America/New_York:20250411T100000
DTEND;TZID=America/New_York:20250411T113000
DTSTAMP:20260425T111446
CREATED:20250313T204859Z
LAST-MODIFIED:20250313T204859Z
UID:9030-1744365600-1744371000@tracylibrary.org
SUMMARY:Getting on the Same Page: Maximizing Your Book Group
DESCRIPTION:Do you lead or participate in a book group or are you considering starting one?  Are you interested in learning new strategies for getting the most out of your book group? Do you want to learn how the library can help to reduce costs and offer suggestions to improve your book group?  Join fellow book group leaders and librarians to take your book group to the next level.  Light refreshments provided by the Friends of Tracy Library.
URL:https://tracylibrary.org/event/getting-on-the-same-page-maximizing-your-book-group/
CATEGORIES:Adults
ATTACH;FMTTYPE=image/png:https://tracylibrary.org/wp-content/uploads/2022/04/Morning-Book-Discussion-e1696965518696.png
END:VEVENT
END:VCALENDAR