BEGIN:VCALENDAR
VERSION:2.0
PRODID:-//Tracy Memorial Library - ECPv6.15.20//NONSGML v1.0//EN
CALSCALE:GREGORIAN
METHOD:PUBLISH
X-WR-CALNAME:Tracy Memorial Library
X-ORIGINAL-URL:https://tracylibrary.org
X-WR-CALDESC:Events for Tracy Memorial Library
REFRESH-INTERVAL;VALUE=DURATION:PT1H
X-Robots-Tag:noindex
X-PUBLISHED-TTL:PT1H
BEGIN:VTIMEZONE
TZID:America/New_York
BEGIN:DAYLIGHT
TZOFFSETFROM:-0500
TZOFFSETTO:-0400
TZNAME:EDT
DTSTART:20230312T070000
END:DAYLIGHT
BEGIN:STANDARD
TZOFFSETFROM:-0400
TZOFFSETTO:-0500
TZNAME:EST
DTSTART:20231105T060000
END:STANDARD
BEGIN:DAYLIGHT
TZOFFSETFROM:-0500
TZOFFSETTO:-0400
TZNAME:EDT
DTSTART:20240310T070000
END:DAYLIGHT
BEGIN:STANDARD
TZOFFSETFROM:-0400
TZOFFSETTO:-0500
TZNAME:EST
DTSTART:20241103T060000
END:STANDARD
BEGIN:DAYLIGHT
TZOFFSETFROM:-0500
TZOFFSETTO:-0400
TZNAME:EDT
DTSTART:20250309T070000
END:DAYLIGHT
BEGIN:STANDARD
TZOFFSETFROM:-0400
TZOFFSETTO:-0500
TZNAME:EST
DTSTART:20251102T060000
END:STANDARD
BEGIN:DAYLIGHT
TZOFFSETFROM:-0500
TZOFFSETTO:-0400
TZNAME:EDT
DTSTART:20260308T070000
END:DAYLIGHT
BEGIN:STANDARD
TZOFFSETFROM:-0400
TZOFFSETTO:-0500
TZNAME:EST
DTSTART:20261101T060000
END:STANDARD
END:VTIMEZONE
BEGIN:VEVENT
DTSTART;TZID=America/New_York:20250123T150000
DTEND;TZID=America/New_York:20250123T160000
DTSTAMP:20260425T083845
CREATED:20231011T172219Z
LAST-MODIFIED:20260302T161256Z
UID:8588-1737644400-1737648000@tracylibrary.org
SUMMARY:Game Day
DESCRIPTION:This program is for independent gamers ages 10 to 17. Try your hand at Nintendo Switch games as well as classic board games.
URL:https://tracylibrary.org/event/game-day-2-2024-09-12-2024-09-12-2024-12-26/2025-01-23/
ATTACH;FMTTYPE=image/jpeg:https://tracylibrary.org/wp-content/uploads/2022/11/Game-Day-cover-photo-1-1.jpg
END:VEVENT
BEGIN:VEVENT
DTSTART;TZID=America/New_York:20250122T100000
DTEND;TZID=America/New_York:20250122T110000
DTSTAMP:20260425T083845
CREATED:20240820T202610Z
LAST-MODIFIED:20241212T145331Z
UID:8630-1737540000-1737543600@tracylibrary.org
SUMMARY:Story Time
DESCRIPTION:Weekly on Wednesdays at 10 AM.\nJoin us in the meeting room. Each week has a unique theme. We also have themed take and make craft bag that you can complete at home.
URL:https://tracylibrary.org/event/story-time-2/2025-01-22/
ATTACH;FMTTYPE=image/jpeg:https://tracylibrary.org/wp-content/uploads/2022/08/IMG_20220803_101018772-scaled.jpg
END:VEVENT
BEGIN:VEVENT
DTSTART;TZID=America/New_York:20250121T180000
DTEND;TZID=America/New_York:20250121T193000
DTSTAMP:20260425T083845
CREATED:20241206T192354Z
LAST-MODIFIED:20251106T165020Z
UID:8684-1737482400-1737487800@tracylibrary.org
SUMMARY:TML Knitting Group
DESCRIPTION:Do you knit\, crochet or stitch? Looking to meet fellow practitioners of the fabric arts? Look no further than the Tracy Library.  Every Tuesday\, the TML Knitting Group will be meeting in the NH Room from 6-7:30. All skill levels welcome. \nImage “White knitting” by youn-ar-gall is licensed under CC BY-NC-SA 2.0.
URL:https://tracylibrary.org/event/tml-knitting-group/2025-01-21/
CATEGORIES:Adults
ATTACH;FMTTYPE=image/jpeg:https://tracylibrary.org/wp-content/uploads/2024/12/knitting-e1733513828612.jpg
END:VEVENT
BEGIN:VEVENT
DTSTART;TZID=America/New_York:20250121T150000
DTEND;TZID=America/New_York:20250121T160000
DTSTAMP:20260425T083845
CREATED:20220811T183425Z
LAST-MODIFIED:20260302T154750Z
UID:8610-1737471600-1737475200@tracylibrary.org
SUMMARY:Lego Club
DESCRIPTION:  \nJoin us in the meeting room to build with large collection of Lego bricks. Build your own creation or try one of our challenges. This event is intended for ages 5 and up. This is a drop in program and sign up is not required.
URL:https://tracylibrary.org/event/lego-club-2024-09-10-2024-09-17-2024-12-31/2025-01-21/
CATEGORIES:Youth
ATTACH;FMTTYPE=image/jpeg:https://tracylibrary.org/wp-content/uploads/2022/08/lego-gcc3f8363f_1920.jpg
END:VEVENT
BEGIN:VEVENT
DTSTART;TZID=America/New_York:20250118T110000
DTEND;TZID=America/New_York:20250118T130000
DTSTAMP:20260425T083845
CREATED:20240321T152731Z
LAST-MODIFIED:20240321T152731Z
UID:8828-1737198000-1737205200@tracylibrary.org
SUMMARY:Writing Group
DESCRIPTION:Bring your notebook/laptop.  Continue your work or write from a prompt.  Have fun!
URL:https://tracylibrary.org/event/writing-group/2025-01-18/
LOCATION:Tracy Memorial Library
CATEGORIES:Adults
ATTACH;FMTTYPE=image/png:https://tracylibrary.org/wp-content/uploads/2024/03/Writing-Pad.png
END:VEVENT
BEGIN:VEVENT
DTSTART;TZID=America/New_York:20250117T150000
DTEND;TZID=America/New_York:20250117T163000
DTSTAMP:20260425T083845
CREATED:20241010T184709Z
LAST-MODIFIED:20241010T184709Z
UID:8912-1737126000-1737131400@tracylibrary.org
SUMMARY:Dungeons and Dragons at the Library
DESCRIPTION:Join Madeline for Dungeons and Dragons at the Library. Open to ages 10-18. Generally this program will meet in the meeting room\, but ask at the circulation desk in case it is booked for another event. \n  \n  \nImage courtesy of Wikimedia via a Creative Commons license: https://commons.wikimedia.org/wiki/File:Dragon_-_2.png
URL:https://tracylibrary.org/event/dungeons-and-dragons-at-the-library-2-2024-12-06/2025-01-17/
CATEGORIES:Youth
ATTACH;FMTTYPE=image/png:https://tracylibrary.org/wp-content/uploads/2024/02/Dragon_-_2-1.png
END:VEVENT
BEGIN:VEVENT
DTSTART;TZID=America/New_York:20250116T150000
DTEND;TZID=America/New_York:20250116T160000
DTSTAMP:20260425T083845
CREATED:20231011T172219Z
LAST-MODIFIED:20260302T161254Z
UID:8587-1737039600-1737043200@tracylibrary.org
SUMMARY:Game Day
DESCRIPTION:This program is for independent gamers ages 10 to 17. Try your hand at Nintendo Switch games as well as classic board games.
URL:https://tracylibrary.org/event/game-day-2-2024-09-12-2024-09-12-2024-12-26/2025-01-16/
ATTACH;FMTTYPE=image/jpeg:https://tracylibrary.org/wp-content/uploads/2022/11/Game-Day-cover-photo-1-1.jpg
END:VEVENT
BEGIN:VEVENT
DTSTART;TZID=America/New_York:20250115T100000
DTEND;TZID=America/New_York:20250115T110000
DTSTAMP:20260425T083845
CREATED:20240820T202610Z
LAST-MODIFIED:20241212T145330Z
UID:8629-1736935200-1736938800@tracylibrary.org
SUMMARY:Story Time
DESCRIPTION:Weekly on Wednesdays at 10 AM.\nJoin us in the meeting room. Each week has a unique theme. We also have themed take and make craft bag that you can complete at home.
URL:https://tracylibrary.org/event/story-time-2/2025-01-15/
ATTACH;FMTTYPE=image/jpeg:https://tracylibrary.org/wp-content/uploads/2022/08/IMG_20220803_101018772-scaled.jpg
END:VEVENT
BEGIN:VEVENT
DTSTART;TZID=America/New_York:20250114T180000
DTEND;TZID=America/New_York:20250114T193000
DTSTAMP:20260425T083845
CREATED:20241206T192354Z
LAST-MODIFIED:20251106T165012Z
UID:8683-1736877600-1736883000@tracylibrary.org
SUMMARY:TML Knitting Group
DESCRIPTION:Do you knit\, crochet or stitch? Looking to meet fellow practitioners of the fabric arts? Look no further than the Tracy Library.  Every Tuesday\, the TML Knitting Group will be meeting in the NH Room from 6-7:30. All skill levels welcome. \nImage “White knitting” by youn-ar-gall is licensed under CC BY-NC-SA 2.0.
URL:https://tracylibrary.org/event/tml-knitting-group/2025-01-14/
CATEGORIES:Adults
ATTACH;FMTTYPE=image/jpeg:https://tracylibrary.org/wp-content/uploads/2024/12/knitting-e1733513828612.jpg
END:VEVENT
BEGIN:VEVENT
DTSTART;TZID=America/New_York:20250114T150000
DTEND;TZID=America/New_York:20250114T160000
DTSTAMP:20260425T083845
CREATED:20220811T183425Z
LAST-MODIFIED:20260302T154748Z
UID:8609-1736866800-1736870400@tracylibrary.org
SUMMARY:Lego Club
DESCRIPTION:  \nJoin us in the meeting room to build with large collection of Lego bricks. Build your own creation or try one of our challenges. This event is intended for ages 5 and up. This is a drop in program and sign up is not required.
URL:https://tracylibrary.org/event/lego-club-2024-09-10-2024-09-17-2024-12-31/2025-01-14/
CATEGORIES:Youth
ATTACH;FMTTYPE=image/jpeg:https://tracylibrary.org/wp-content/uploads/2022/08/lego-gcc3f8363f_1920.jpg
END:VEVENT
BEGIN:VEVENT
DTSTART;TZID=America/New_York:20250114T100000
DTEND;TZID=America/New_York:20250114T110000
DTSTAMP:20260425T083845
CREATED:20221213T210138Z
LAST-MODIFIED:20251210T153627Z
UID:8561-1736848800-1736852400@tracylibrary.org
SUMMARY:Morning Book Discussion
DESCRIPTION:The group meets monthly on the 2nd Tuesday of the month. New members are welcome. Copies of the book to be discussed can be borrowed at the Circulation Desk in the Library.
URL:https://tracylibrary.org/event/morning-book-discussion-3-2023-09-12/2025-01-14/
CATEGORIES:Adults,Book Discussion
ATTACH;FMTTYPE=image/png:https://tracylibrary.org/wp-content/uploads/2022/04/Morning-Book-Discussion-e1696965518696.png
END:VEVENT
BEGIN:VEVENT
DTSTART;TZID=America/New_York:20250110T150000
DTEND;TZID=America/New_York:20250110T163000
DTSTAMP:20260425T083845
CREATED:20241010T184709Z
LAST-MODIFIED:20241010T184709Z
UID:8911-1736521200-1736526600@tracylibrary.org
SUMMARY:Dungeons and Dragons at the Library
DESCRIPTION:Join Madeline for Dungeons and Dragons at the Library. Open to ages 10-18. Generally this program will meet in the meeting room\, but ask at the circulation desk in case it is booked for another event. \n  \n  \nImage courtesy of Wikimedia via a Creative Commons license: https://commons.wikimedia.org/wiki/File:Dragon_-_2.png
URL:https://tracylibrary.org/event/dungeons-and-dragons-at-the-library-2-2024-12-06/2025-01-10/
CATEGORIES:Youth
ATTACH;FMTTYPE=image/png:https://tracylibrary.org/wp-content/uploads/2024/02/Dragon_-_2-1.png
END:VEVENT
BEGIN:VEVENT
DTSTART;TZID=America/New_York:20250109T150000
DTEND;TZID=America/New_York:20250109T160000
DTSTAMP:20260425T083845
CREATED:20231011T172219Z
LAST-MODIFIED:20260302T161251Z
UID:8586-1736434800-1736438400@tracylibrary.org
SUMMARY:Game Day
DESCRIPTION:This program is for independent gamers ages 10 to 17. Try your hand at Nintendo Switch games as well as classic board games.
URL:https://tracylibrary.org/event/game-day-2-2024-09-12-2024-09-12-2024-12-26/2025-01-09/
ATTACH;FMTTYPE=image/jpeg:https://tracylibrary.org/wp-content/uploads/2022/11/Game-Day-cover-photo-1-1.jpg
END:VEVENT
BEGIN:VEVENT
DTSTART;TZID=America/New_York:20250108T150000
DTEND;TZID=America/New_York:20250108T160000
DTSTAMP:20260425T083845
CREATED:20241212T144308Z
LAST-MODIFIED:20250326T154604Z
UID:8771-1736348400-1736352000@tracylibrary.org
SUMMARY:Universal Yums
DESCRIPTION:Join us for Universal Yums on the 2nd Wednesday of every month. Youth 10 and up can sample snacks from another country. Guess which country they are from and decide which snack is the best.
URL:https://tracylibrary.org/event/universal-yums-2/2025-01-08/
ATTACH;FMTTYPE=image/jpeg:https://tracylibrary.org/wp-content/uploads/2019/09/Universal-Yums2.jpg
END:VEVENT
BEGIN:VEVENT
DTSTART;TZID=America/New_York:20250108T100000
DTEND;TZID=America/New_York:20250108T110000
DTSTAMP:20260425T083845
CREATED:20240820T202610Z
LAST-MODIFIED:20241212T145328Z
UID:8628-1736330400-1736334000@tracylibrary.org
SUMMARY:Story Time
DESCRIPTION:Weekly on Wednesdays at 10 AM.\nJoin us in the meeting room. Each week has a unique theme. We also have themed take and make craft bag that you can complete at home.
URL:https://tracylibrary.org/event/story-time-2/2025-01-08/
ATTACH;FMTTYPE=image/jpeg:https://tracylibrary.org/wp-content/uploads/2022/08/IMG_20220803_101018772-scaled.jpg
END:VEVENT
BEGIN:VEVENT
DTSTART;TZID=America/New_York:20250107T180000
DTEND;TZID=America/New_York:20250107T193000
DTSTAMP:20260425T083845
CREATED:20241206T192354Z
LAST-MODIFIED:20251106T165003Z
UID:8682-1736272800-1736278200@tracylibrary.org
SUMMARY:TML Knitting Group
DESCRIPTION:Do you knit\, crochet or stitch? Looking to meet fellow practitioners of the fabric arts? Look no further than the Tracy Library.  Every Tuesday\, the TML Knitting Group will be meeting in the NH Room from 6-7:30. All skill levels welcome. \nImage “White knitting” by youn-ar-gall is licensed under CC BY-NC-SA 2.0.
URL:https://tracylibrary.org/event/tml-knitting-group/2025-01-07/
CATEGORIES:Adults
ATTACH;FMTTYPE=image/jpeg:https://tracylibrary.org/wp-content/uploads/2024/12/knitting-e1733513828612.jpg
END:VEVENT
BEGIN:VEVENT
DTSTART;TZID=America/New_York:20250107T150000
DTEND;TZID=America/New_York:20250107T160000
DTSTAMP:20260425T083845
CREATED:20220811T183425Z
LAST-MODIFIED:20260302T154745Z
UID:8608-1736262000-1736265600@tracylibrary.org
SUMMARY:Lego Club
DESCRIPTION:  \nJoin us in the meeting room to build with large collection of Lego bricks. Build your own creation or try one of our challenges. This event is intended for ages 5 and up. This is a drop in program and sign up is not required.
URL:https://tracylibrary.org/event/lego-club-2024-09-10-2024-09-17-2024-12-31/2025-01-07/
CATEGORIES:Youth
ATTACH;FMTTYPE=image/jpeg:https://tracylibrary.org/wp-content/uploads/2022/08/lego-gcc3f8363f_1920.jpg
END:VEVENT
BEGIN:VEVENT
DTSTART;TZID=America/New_York:20250103T150000
DTEND;TZID=America/New_York:20250103T163000
DTSTAMP:20260425T083845
CREATED:20241010T184709Z
LAST-MODIFIED:20241010T184709Z
UID:8910-1735916400-1735921800@tracylibrary.org
SUMMARY:Dungeons and Dragons at the Library
DESCRIPTION:Join Madeline for Dungeons and Dragons at the Library. Open to ages 10-18. Generally this program will meet in the meeting room\, but ask at the circulation desk in case it is booked for another event. \n  \n  \nImage courtesy of Wikimedia via a Creative Commons license: https://commons.wikimedia.org/wiki/File:Dragon_-_2.png
URL:https://tracylibrary.org/event/dungeons-and-dragons-at-the-library-2-2024-12-06/2025-01-03/
CATEGORIES:Youth
ATTACH;FMTTYPE=image/png:https://tracylibrary.org/wp-content/uploads/2024/02/Dragon_-_2-1.png
END:VEVENT
BEGIN:VEVENT
DTSTART;TZID=America/New_York:20250102T180000
DTEND;TZID=America/New_York:20250102T200000
DTSTAMP:20260425T083845
CREATED:20240429T190505Z
LAST-MODIFIED:20260423T193041Z
UID:10142-1735840800-1735848000@tracylibrary.org
SUMMARY:Dungeons and Dragons at the Library for Adults
DESCRIPTION:A new D&D adventure is starting in 2026.  Ages 18 and up. Beginners welcome — no prior experience necessary!  If you are interested in participating\, please email Matthew at mgunby@tracylibrary.org to get your character set up and determine which of the two tables will be a better fit.
URL:https://tracylibrary.org/event/dungeons-and-dragons-at-the-library-for-adults/2025-01-02/
LOCATION:Tracy Memorial Library
CATEGORIES:Adults
ATTACH;FMTTYPE=image/png:https://tracylibrary.org/wp-content/uploads/2024/02/Dragon_-_2-1.png
END:VEVENT
BEGIN:VEVENT
DTSTART;TZID=America/New_York:20250102T150000
DTEND;TZID=America/New_York:20250102T160000
DTSTAMP:20260425T083845
CREATED:20231011T172219Z
LAST-MODIFIED:20260302T161249Z
UID:8585-1735830000-1735833600@tracylibrary.org
SUMMARY:Game Day
DESCRIPTION:This program is for independent gamers ages 10 to 17. Try your hand at Nintendo Switch games as well as classic board games.
URL:https://tracylibrary.org/event/game-day-2-2024-09-12-2024-09-12-2024-12-26/2025-01-02/
ATTACH;FMTTYPE=image/jpeg:https://tracylibrary.org/wp-content/uploads/2022/11/Game-Day-cover-photo-1-1.jpg
END:VEVENT
BEGIN:VEVENT
DTSTART;TZID=America/New_York:20241231T180000
DTEND;TZID=America/New_York:20241231T193000
DTSTAMP:20260425T083845
CREATED:20241206T192354Z
LAST-MODIFIED:20251106T164954Z
UID:8681-1735668000-1735673400@tracylibrary.org
SUMMARY:TML Knitting Group
DESCRIPTION:Do you knit\, crochet or stitch? Looking to meet fellow practitioners of the fabric arts? Look no further than the Tracy Library.  Every Tuesday\, the TML Knitting Group will be meeting in the NH Room from 6-7:30. All skill levels welcome. \nImage “White knitting” by youn-ar-gall is licensed under CC BY-NC-SA 2.0.
URL:https://tracylibrary.org/event/tml-knitting-group/2024-12-31/
CATEGORIES:Adults
ATTACH;FMTTYPE=image/jpeg:https://tracylibrary.org/wp-content/uploads/2024/12/knitting-e1733513828612.jpg
END:VEVENT
BEGIN:VEVENT
DTSTART;TZID=America/New_York:20241231T150000
DTEND;TZID=America/New_York:20241231T160000
DTSTAMP:20260425T083845
CREATED:20220811T183425Z
LAST-MODIFIED:20260302T154708Z
UID:8407-1735657200-1735660800@tracylibrary.org
SUMMARY:Lego Club
DESCRIPTION:  \nJoin us in the meeting room to build with large collection of Lego bricks. Build your own creation or try one of our challenges. This event is intended for ages 5 and up. This is a drop in program and sign up is not required.
URL:https://tracylibrary.org/event/lego-club-2024-09-10-2024-09-17-2024-12-31/2024-12-31/
CATEGORIES:Youth
ATTACH;FMTTYPE=image/jpeg:https://tracylibrary.org/wp-content/uploads/2022/08/lego-gcc3f8363f_1920.jpg
END:VEVENT
BEGIN:VEVENT
DTSTART;TZID=America/New_York:20241227T150000
DTEND;TZID=America/New_York:20241227T163000
DTSTAMP:20260425T083845
CREATED:20241010T184709Z
LAST-MODIFIED:20250103T160025Z
UID:8658-1735311600-1735317000@tracylibrary.org
SUMMARY:Dungeons and Dragons at the Library
DESCRIPTION:Join Madeline for Dungeons and Dragons at the Library. Open to ages 10-18. Generally this program will meet in the meeting room\, but ask at the circulation desk in case it is booked for another event. \n  \n  \nImage courtesy of Wikimedia via a Creative Commons license: https://commons.wikimedia.org/wiki/File:Dragon_-_2.png
URL:https://tracylibrary.org/event/dungeons-and-dragons-at-the-library-2-2024-12-06/2024-12-27/
CATEGORIES:Youth
ATTACH;FMTTYPE=image/png:https://tracylibrary.org/wp-content/uploads/2024/02/Dragon_-_2-1.png
END:VEVENT
BEGIN:VEVENT
DTSTART;TZID=America/New_York:20241226T180000
DTEND;TZID=America/New_York:20241226T200000
DTSTAMP:20260425T083845
CREATED:20240429T190505Z
LAST-MODIFIED:20241226T190920Z
UID:8835-1735236000-1735243200@tracylibrary.org
SUMMARY:Dungeons and Dragons at the Library for Adults
DESCRIPTION:Join DM Madeline in the meeting room for Dungeons and Dragons.  For ages 18 and up. This is part of a continuing campaign\, but beginners are welcome.  If you have not previously participated please contact Madeline at the library (mreno@tracylibrary.org).
URL:https://tracylibrary.org/event/dungeons-and-dragons-at-the-library-for-adults-2024-12-26/
LOCATION:Tracy Memorial Library
CATEGORIES:Adults
ATTACH;FMTTYPE=image/png:https://tracylibrary.org/wp-content/uploads/2024/02/Dragon_-_2-1.png
END:VEVENT
BEGIN:VEVENT
DTSTART;TZID=America/New_York:20241226T150000
DTEND;TZID=America/New_York:20241226T160000
DTSTAMP:20260425T083845
CREATED:20231011T172219Z
LAST-MODIFIED:20260302T161223Z
UID:8392-1735225200-1735228800@tracylibrary.org
SUMMARY:Game Day
DESCRIPTION:This program is for independent gamers ages 10 to 17. Try your hand at Nintendo Switch games as well as classic board games.
URL:https://tracylibrary.org/event/game-day-2-2024-09-12-2024-09-12-2024-12-26/2024-12-26/
ATTACH;FMTTYPE=image/jpeg:https://tracylibrary.org/wp-content/uploads/2022/11/Game-Day-cover-photo-1-1.jpg
END:VEVENT
BEGIN:VEVENT
DTSTART;TZID=America/New_York:20241220T150000
DTEND;TZID=America/New_York:20241220T163000
DTSTAMP:20260425T083845
CREATED:20241010T184709Z
LAST-MODIFIED:20250103T160024Z
UID:8657-1734706800-1734712200@tracylibrary.org
SUMMARY:Dungeons and Dragons at the Library
DESCRIPTION:Join Madeline for Dungeons and Dragons at the Library. Open to ages 10-18. Generally this program will meet in the meeting room\, but ask at the circulation desk in case it is booked for another event. \n  \n  \nImage courtesy of Wikimedia via a Creative Commons license: https://commons.wikimedia.org/wiki/File:Dragon_-_2.png
URL:https://tracylibrary.org/event/dungeons-and-dragons-at-the-library-2-2024-12-06/2024-12-20/
CATEGORIES:Youth
ATTACH;FMTTYPE=image/png:https://tracylibrary.org/wp-content/uploads/2024/02/Dragon_-_2-1.png
END:VEVENT
BEGIN:VEVENT
DTSTART;TZID=America/New_York:20241219T180000
DTEND;TZID=America/New_York:20241219T200000
DTSTAMP:20260425T083845
CREATED:20240429T190505Z
LAST-MODIFIED:20260423T193041Z
UID:8559-1734631200-1734638400@tracylibrary.org
SUMMARY:Dungeons and Dragons at the Library for Adults
DESCRIPTION:A new D&D adventure is starting in 2026.  Ages 18 and up. Beginners welcome — no prior experience necessary!  If you are interested in participating\, please email Matthew at mgunby@tracylibrary.org to get your character set up and determine which of the two tables will be a better fit.
URL:https://tracylibrary.org/event/dungeons-and-dragons-at-the-library-for-adults/2024-12-19/
LOCATION:Tracy Memorial Library
CATEGORIES:Adults
ATTACH;FMTTYPE=image/png:https://tracylibrary.org/wp-content/uploads/2024/02/Dragon_-_2-1.png
END:VEVENT
BEGIN:VEVENT
DTSTART;TZID=America/New_York:20241219T150000
DTEND;TZID=America/New_York:20241219T160000
DTSTAMP:20260425T083845
CREATED:20231011T172219Z
LAST-MODIFIED:20240918T140709Z
UID:8391-1734620400-1734624000@tracylibrary.org
SUMMARY:Game Day
DESCRIPTION:This program is for independent gamers ages 10 to 17. Try your hand at Nintendo Switch games as well as classic board games.
URL:https://tracylibrary.org/event/game-day-2-2024-09-12-2024-09-12/2024-12-19/
ATTACH;FMTTYPE=image/jpeg:https://tracylibrary.org/wp-content/uploads/2022/11/Game-Day-cover-photo-1-1.jpg
END:VEVENT
BEGIN:VEVENT
DTSTART;TZID=America/New_York:20241218T150000
DTEND;TZID=America/New_York:20241218T160000
DTSTAMP:20260425T083845
CREATED:20241212T144308Z
LAST-MODIFIED:20250326T154531Z
UID:8770-1734534000-1734537600@tracylibrary.org
SUMMARY:Universal Yums
DESCRIPTION:Join us for Universal Yums on the 2nd Wednesday of every month. Youth 10 and up can sample snacks from another country. Guess which country they are from and decide which snack is the best.
URL:https://tracylibrary.org/event/universal-yums-2/2024-12-18/
ATTACH;FMTTYPE=image/jpeg:https://tracylibrary.org/wp-content/uploads/2019/09/Universal-Yums2.jpg
END:VEVENT
BEGIN:VEVENT
DTSTART;TZID=America/New_York:20241218T100000
DTEND;TZID=America/New_York:20241218T110000
DTSTAMP:20260425T083845
CREATED:20240820T202610Z
LAST-MODIFIED:20241212T145327Z
UID:8050-1734516000-1734519600@tracylibrary.org
SUMMARY:Story Time
DESCRIPTION:Weekly on Wednesdays at 10 AM.\nJoin us in the meeting room. Each week has a unique theme. We also have themed take and make craft bag that you can complete at home.
URL:https://tracylibrary.org/event/story-time-2/2024-12-18/
ATTACH;FMTTYPE=image/jpeg:https://tracylibrary.org/wp-content/uploads/2022/08/IMG_20220803_101018772-scaled.jpg
END:VEVENT
END:VCALENDAR