BEGIN:VCALENDAR
VERSION:2.0
PRODID:-//Tracy Memorial Library - ECPv6.15.20//NONSGML v1.0//EN
CALSCALE:GREGORIAN
METHOD:PUBLISH
X-WR-CALNAME:Tracy Memorial Library
X-ORIGINAL-URL:https://tracylibrary.org
X-WR-CALDESC:Events for Tracy Memorial Library
REFRESH-INTERVAL;VALUE=DURATION:PT1H
X-Robots-Tag:noindex
X-PUBLISHED-TTL:PT1H
BEGIN:VTIMEZONE
TZID:America/New_York
BEGIN:DAYLIGHT
TZOFFSETFROM:-0500
TZOFFSETTO:-0400
TZNAME:EDT
DTSTART:20240310T070000
END:DAYLIGHT
BEGIN:STANDARD
TZOFFSETFROM:-0400
TZOFFSETTO:-0500
TZNAME:EST
DTSTART:20241103T060000
END:STANDARD
BEGIN:DAYLIGHT
TZOFFSETFROM:-0500
TZOFFSETTO:-0400
TZNAME:EDT
DTSTART:20250309T070000
END:DAYLIGHT
BEGIN:STANDARD
TZOFFSETFROM:-0400
TZOFFSETTO:-0500
TZNAME:EST
DTSTART:20251102T060000
END:STANDARD
BEGIN:DAYLIGHT
TZOFFSETFROM:-0500
TZOFFSETTO:-0400
TZNAME:EDT
DTSTART:20260308T070000
END:DAYLIGHT
BEGIN:STANDARD
TZOFFSETFROM:-0400
TZOFFSETTO:-0500
TZNAME:EST
DTSTART:20261101T060000
END:STANDARD
BEGIN:DAYLIGHT
TZOFFSETFROM:-0500
TZOFFSETTO:-0400
TZNAME:EDT
DTSTART:20270314T070000
END:DAYLIGHT
BEGIN:STANDARD
TZOFFSETFROM:-0400
TZOFFSETTO:-0500
TZNAME:EST
DTSTART:20271107T060000
END:STANDARD
END:VTIMEZONE
BEGIN:VEVENT
DTSTART;TZID=America/New_York:20251225T150000
DTEND;TZID=America/New_York:20251225T160000
DTSTAMP:20260423T214022
CREATED:20231011T172219Z
LAST-MODIFIED:20231011T172219Z
UID:10322-1766674800-1766678400@tracylibrary.org
SUMMARY:Game Day
DESCRIPTION:This program is for independent gamers ages 10 to 17. Try your hand at Nintendo Switch games as well as classic board games.
URL:https://tracylibrary.org/event/game-day-2-2024-09-12-2024-09-12-2024-12-26/2025-12-25/
ATTACH;FMTTYPE=:
END:VEVENT
BEGIN:VEVENT
DTSTART;TZID=America/New_York:20251223T180000
DTEND;TZID=America/New_York:20251223T193000
DTSTAMP:20260423T214022
CREATED:20241206T192354Z
LAST-MODIFIED:20241206T192354Z
UID:9802-1766512800-1766518200@tracylibrary.org
SUMMARY:TML Knitting Group
DESCRIPTION:Do you knit\, crochet or stitch? Looking to meet fellow practitioners of the fabric arts? Look no further than the Tracy Library. Starting December 10th and continuing on Tuesdays\, the TML Knitting Group will be meeting in the Reading Room from 6-7:30. All skill levels welcome. \nImage “White knitting” by youn-ar-gall is licensed under CC BY-NC-SA 2.0.
URL:https://tracylibrary.org/event/tml-knitting-group/2025-12-23/
ATTACH;FMTTYPE=:
END:VEVENT
BEGIN:VEVENT
DTSTART;TZID=America/New_York:20260416T100000
DTEND;TZID=America/New_York:20260416T120000
DTSTAMP:20260423T214022
CREATED:20260316T193750Z
LAST-MODIFIED:20260316T193750Z
UID:10425-1776333600-1776340800@tracylibrary.org
SUMMARY:Mahjong and Board Game: Learn and Play
DESCRIPTION:The library’s Mahjong tiles and board games will be out\, but you are also welcome to bring your own games.  Take this opportunity to expand your skills\, learn a new game or meet fellow enthusiasts.  Light refreshments will be available.
URL:https://tracylibrary.org/event/mahjong-and-board-game-learn-and-play/2026-04-16/
ATTACH;FMTTYPE=:
END:VEVENT
BEGIN:VEVENT
DTSTART;TZID=America/New_York:20260416T100000
DTEND;TZID=America/New_York:20260416T120000
DTSTAMP:20260423T214022
CREATED:20260316T193750Z
LAST-MODIFIED:20260316T193750Z
UID:10425-1776333600-1776340800@tracylibrary.org
SUMMARY:Mahjong and Board Game: Learn and Play
DESCRIPTION:The library’s Mahjong tiles and board games will be out\, but you are also welcome to bring your own games.  Take this opportunity to expand your skills\, learn a new game or meet fellow enthusiasts.  Light refreshments will be available.
URL:https://tracylibrary.org/event/mahjong-and-board-game-learn-and-play/2026-04-16/
ATTACH;FMTTYPE=:
END:VEVENT
BEGIN:VEVENT
DTSTART;TZID=America/New_York:20260416T100000
DTEND;TZID=America/New_York:20260416T120000
DTSTAMP:20260423T214022
CREATED:20260316T193750Z
LAST-MODIFIED:20260316T193750Z
UID:10425-1776333600-1776340800@tracylibrary.org
SUMMARY:Mahjong and Board Game: Learn and Play
DESCRIPTION:The library’s Mahjong tiles and board games will be out\, but you are also welcome to bring your own games.  Take this opportunity to expand your skills\, learn a new game or meet fellow enthusiasts.  Light refreshments will be available.
URL:https://tracylibrary.org/event/mahjong-and-board-game-learn-and-play/2026-04-16/
ATTACH;FMTTYPE=:
END:VEVENT
BEGIN:VEVENT
DTSTART;TZID=America/New_York:20260416T100000
DTEND;TZID=America/New_York:20260416T120000
DTSTAMP:20260423T214022
CREATED:20260316T193750Z
LAST-MODIFIED:20260316T193750Z
UID:10425-1776333600-1776340800@tracylibrary.org
SUMMARY:Mahjong and Board Game: Learn and Play
DESCRIPTION:The library’s Mahjong tiles and board games will be out\, but you are also welcome to bring your own games.  Take this opportunity to expand your skills\, learn a new game or meet fellow enthusiasts.  Light refreshments will be available.
URL:https://tracylibrary.org/event/mahjong-and-board-game-learn-and-play/2026-04-16/
ATTACH;FMTTYPE=:
END:VEVENT
BEGIN:VEVENT
DTSTART;TZID=America/New_York:20260416T100000
DTEND;TZID=America/New_York:20260416T120000
DTSTAMP:20260423T214022
CREATED:20260316T193750Z
LAST-MODIFIED:20260316T193750Z
UID:10425-1776333600-1776340800@tracylibrary.org
SUMMARY:Mahjong and Board Game: Learn and Play
DESCRIPTION:The library’s Mahjong tiles and board games will be out\, but you are also welcome to bring your own games.  Take this opportunity to expand your skills\, learn a new game or meet fellow enthusiasts.  Light refreshments will be available.
URL:https://tracylibrary.org/event/mahjong-and-board-game-learn-and-play/2026-04-16/
ATTACH;FMTTYPE=:
END:VEVENT
BEGIN:VEVENT
DTSTART;TZID=America/New_York:20260416T100000
DTEND;TZID=America/New_York:20260416T120000
DTSTAMP:20260423T214022
CREATED:20260316T193750Z
LAST-MODIFIED:20260316T193750Z
UID:10425-1776333600-1776340800@tracylibrary.org
SUMMARY:Mahjong and Board Game: Learn and Play
DESCRIPTION:The library’s Mahjong tiles and board games will be out\, but you are also welcome to bring your own games.  Take this opportunity to expand your skills\, learn a new game or meet fellow enthusiasts.  Light refreshments will be available.
URL:https://tracylibrary.org/event/mahjong-and-board-game-learn-and-play/2026-04-16/
ATTACH;FMTTYPE=:
END:VEVENT
BEGIN:VEVENT
DTSTART;TZID=America/New_York:20260416T100000
DTEND;TZID=America/New_York:20260416T120000
DTSTAMP:20260423T214022
CREATED:20260316T193750Z
LAST-MODIFIED:20260316T193750Z
UID:10425-1776333600-1776340800@tracylibrary.org
SUMMARY:Mahjong and Board Game: Learn and Play
DESCRIPTION:The library’s Mahjong tiles and board games will be out\, but you are also welcome to bring your own games.  Take this opportunity to expand your skills\, learn a new game or meet fellow enthusiasts.  Light refreshments will be available.
URL:https://tracylibrary.org/event/mahjong-and-board-game-learn-and-play/2026-04-16/
ATTACH;FMTTYPE=:
END:VEVENT
BEGIN:VEVENT
DTSTART;TZID=America/New_York:20260416T100000
DTEND;TZID=America/New_York:20260416T120000
DTSTAMP:20260423T214022
CREATED:20260316T193750Z
LAST-MODIFIED:20260316T193750Z
UID:10425-1776333600-1776340800@tracylibrary.org
SUMMARY:Mahjong and Board Game: Learn and Play
DESCRIPTION:The library’s Mahjong tiles and board games will be out\, but you are also welcome to bring your own games.  Take this opportunity to expand your skills\, learn a new game or meet fellow enthusiasts.  Light refreshments will be available.
URL:https://tracylibrary.org/event/mahjong-and-board-game-learn-and-play/2026-04-16/
ATTACH;FMTTYPE=:
END:VEVENT
BEGIN:VEVENT
DTSTART;TZID=America/New_York:20260416T100000
DTEND;TZID=America/New_York:20260416T120000
DTSTAMP:20260423T214022
CREATED:20260316T193750Z
LAST-MODIFIED:20260316T193750Z
UID:10425-1776333600-1776340800@tracylibrary.org
SUMMARY:Mahjong and Board Game: Learn and Play
DESCRIPTION:The library’s Mahjong tiles and board games will be out\, but you are also welcome to bring your own games.  Take this opportunity to expand your skills\, learn a new game or meet fellow enthusiasts.  Light refreshments will be available.
URL:https://tracylibrary.org/event/mahjong-and-board-game-learn-and-play/2026-04-16/
ATTACH;FMTTYPE=:
END:VEVENT
BEGIN:VEVENT
DTSTART;TZID=America/New_York:20260416T100000
DTEND;TZID=America/New_York:20260416T120000
DTSTAMP:20260423T214022
CREATED:20260316T193750Z
LAST-MODIFIED:20260316T193750Z
UID:10425-1776333600-1776340800@tracylibrary.org
SUMMARY:Mahjong and Board Game: Learn and Play
DESCRIPTION:The library’s Mahjong tiles and board games will be out\, but you are also welcome to bring your own games.  Take this opportunity to expand your skills\, learn a new game or meet fellow enthusiasts.  Light refreshments will be available.
URL:https://tracylibrary.org/event/mahjong-and-board-game-learn-and-play/2026-04-16/
ATTACH;FMTTYPE=:
END:VEVENT
BEGIN:VEVENT
DTSTART;TZID=America/New_York:20260416T100000
DTEND;TZID=America/New_York:20260416T120000
DTSTAMP:20260423T214022
CREATED:20260316T193750Z
LAST-MODIFIED:20260316T193750Z
UID:10425-1776333600-1776340800@tracylibrary.org
SUMMARY:Mahjong and Board Game: Learn and Play
DESCRIPTION:The library’s Mahjong tiles and board games will be out\, but you are also welcome to bring your own games.  Take this opportunity to expand your skills\, learn a new game or meet fellow enthusiasts.  Light refreshments will be available.
URL:https://tracylibrary.org/event/mahjong-and-board-game-learn-and-play/2026-04-16/
ATTACH;FMTTYPE=:
END:VEVENT
BEGIN:VEVENT
DTSTART;TZID=America/New_York:20260416T100000
DTEND;TZID=America/New_York:20260416T120000
DTSTAMP:20260423T214022
CREATED:20260316T193750Z
LAST-MODIFIED:20260316T193750Z
UID:10425-1776333600-1776340800@tracylibrary.org
SUMMARY:Mahjong and Board Game: Learn and Play
DESCRIPTION:The library’s Mahjong tiles and board games will be out\, but you are also welcome to bring your own games.  Take this opportunity to expand your skills\, learn a new game or meet fellow enthusiasts.  Light refreshments will be available.
URL:https://tracylibrary.org/event/mahjong-and-board-game-learn-and-play/2026-04-16/
ATTACH;FMTTYPE=:
END:VEVENT
BEGIN:VEVENT
DTSTART;TZID=America/New_York:20260416T100000
DTEND;TZID=America/New_York:20260416T120000
DTSTAMP:20260423T214022
CREATED:20260316T193750Z
LAST-MODIFIED:20260316T193750Z
UID:10425-1776333600-1776340800@tracylibrary.org
SUMMARY:Mahjong and Board Game: Learn and Play
DESCRIPTION:The library’s Mahjong tiles and board games will be out\, but you are also welcome to bring your own games.  Take this opportunity to expand your skills\, learn a new game or meet fellow enthusiasts.  Light refreshments will be available.
URL:https://tracylibrary.org/event/mahjong-and-board-game-learn-and-play/2026-04-16/
ATTACH;FMTTYPE=:
END:VEVENT
BEGIN:VEVENT
DTSTART;TZID=America/New_York:20260416T100000
DTEND;TZID=America/New_York:20260416T120000
DTSTAMP:20260423T214022
CREATED:20260316T193750Z
LAST-MODIFIED:20260316T193750Z
UID:10425-1776333600-1776340800@tracylibrary.org
SUMMARY:Mahjong and Board Game: Learn and Play
DESCRIPTION:The library’s Mahjong tiles and board games will be out\, but you are also welcome to bring your own games.  Take this opportunity to expand your skills\, learn a new game or meet fellow enthusiasts.  Light refreshments will be available.
URL:https://tracylibrary.org/event/mahjong-and-board-game-learn-and-play/2026-04-16/
ATTACH;FMTTYPE=:
END:VEVENT
BEGIN:VEVENT
DTSTART;TZID=America/New_York:20260416T100000
DTEND;TZID=America/New_York:20260416T120000
DTSTAMP:20260423T214022
CREATED:20260316T193750Z
LAST-MODIFIED:20260316T193750Z
UID:10425-1776333600-1776340800@tracylibrary.org
SUMMARY:Mahjong and Board Game: Learn and Play
DESCRIPTION:The library’s Mahjong tiles and board games will be out\, but you are also welcome to bring your own games.  Take this opportunity to expand your skills\, learn a new game or meet fellow enthusiasts.  Light refreshments will be available.
URL:https://tracylibrary.org/event/mahjong-and-board-game-learn-and-play/2026-04-16/
ATTACH;FMTTYPE=:
END:VEVENT
BEGIN:VEVENT
DTSTART;TZID=America/New_York:20260416T100000
DTEND;TZID=America/New_York:20260416T120000
DTSTAMP:20260423T214022
CREATED:20260316T193750Z
LAST-MODIFIED:20260316T193750Z
UID:10425-1776333600-1776340800@tracylibrary.org
SUMMARY:Mahjong and Board Game: Learn and Play
DESCRIPTION:The library’s Mahjong tiles and board games will be out\, but you are also welcome to bring your own games.  Take this opportunity to expand your skills\, learn a new game or meet fellow enthusiasts.  Light refreshments will be available.
URL:https://tracylibrary.org/event/mahjong-and-board-game-learn-and-play/2026-04-16/
ATTACH;FMTTYPE=:
END:VEVENT
BEGIN:VEVENT
DTSTART;TZID=America/New_York:20260416T100000
DTEND;TZID=America/New_York:20260416T120000
DTSTAMP:20260423T214022
CREATED:20260316T193750Z
LAST-MODIFIED:20260316T193750Z
UID:10425-1776333600-1776340800@tracylibrary.org
SUMMARY:Mahjong and Board Game: Learn and Play
DESCRIPTION:The library’s Mahjong tiles and board games will be out\, but you are also welcome to bring your own games.  Take this opportunity to expand your skills\, learn a new game or meet fellow enthusiasts.  Light refreshments will be available.
URL:https://tracylibrary.org/event/mahjong-and-board-game-learn-and-play/2026-04-16/
ATTACH;FMTTYPE=:
END:VEVENT
BEGIN:VEVENT
DTSTART;TZID=America/New_York:20260416T100000
DTEND;TZID=America/New_York:20260416T120000
DTSTAMP:20260423T214022
CREATED:20260316T193750Z
LAST-MODIFIED:20260316T193750Z
UID:10425-1776333600-1776340800@tracylibrary.org
SUMMARY:Mahjong and Board Game: Learn and Play
DESCRIPTION:The library’s Mahjong tiles and board games will be out\, but you are also welcome to bring your own games.  Take this opportunity to expand your skills\, learn a new game or meet fellow enthusiasts.  Light refreshments will be available.
URL:https://tracylibrary.org/event/mahjong-and-board-game-learn-and-play/2026-04-16/
ATTACH;FMTTYPE=:
END:VEVENT
BEGIN:VEVENT
DTSTART;TZID=America/New_York:20260416T100000
DTEND;TZID=America/New_York:20260416T120000
DTSTAMP:20260423T214022
CREATED:20260316T193750Z
LAST-MODIFIED:20260316T193750Z
UID:10425-1776333600-1776340800@tracylibrary.org
SUMMARY:Mahjong and Board Game: Learn and Play
DESCRIPTION:The library’s Mahjong tiles and board games will be out\, but you are also welcome to bring your own games.  Take this opportunity to expand your skills\, learn a new game or meet fellow enthusiasts.  Light refreshments will be available.
URL:https://tracylibrary.org/event/mahjong-and-board-game-learn-and-play/2026-04-16/
ATTACH;FMTTYPE=:
END:VEVENT
BEGIN:VEVENT
DTSTART;TZID=America/New_York:20260416T100000
DTEND;TZID=America/New_York:20260416T120000
DTSTAMP:20260423T214023
CREATED:20260316T193750Z
LAST-MODIFIED:20260316T193750Z
UID:10425-1776333600-1776340800@tracylibrary.org
SUMMARY:Mahjong and Board Game: Learn and Play
DESCRIPTION:The library’s Mahjong tiles and board games will be out\, but you are also welcome to bring your own games.  Take this opportunity to expand your skills\, learn a new game or meet fellow enthusiasts.  Light refreshments will be available.
URL:https://tracylibrary.org/event/mahjong-and-board-game-learn-and-play/2026-04-16/
ATTACH;FMTTYPE=:
END:VEVENT
BEGIN:VEVENT
DTSTART;TZID=America/New_York:20260416T100000
DTEND;TZID=America/New_York:20260416T120000
DTSTAMP:20260423T214023
CREATED:20260316T193750Z
LAST-MODIFIED:20260316T193750Z
UID:10425-1776333600-1776340800@tracylibrary.org
SUMMARY:Mahjong and Board Game: Learn and Play
DESCRIPTION:The library’s Mahjong tiles and board games will be out\, but you are also welcome to bring your own games.  Take this opportunity to expand your skills\, learn a new game or meet fellow enthusiasts.  Light refreshments will be available.
URL:https://tracylibrary.org/event/mahjong-and-board-game-learn-and-play/2026-04-16/
ATTACH;FMTTYPE=:
END:VEVENT
BEGIN:VEVENT
DTSTART;TZID=America/New_York:20260416T100000
DTEND;TZID=America/New_York:20260416T120000
DTSTAMP:20260423T214023
CREATED:20260316T193750Z
LAST-MODIFIED:20260316T193750Z
UID:10425-1776333600-1776340800@tracylibrary.org
SUMMARY:Mahjong and Board Game: Learn and Play
DESCRIPTION:The library’s Mahjong tiles and board games will be out\, but you are also welcome to bring your own games.  Take this opportunity to expand your skills\, learn a new game or meet fellow enthusiasts.  Light refreshments will be available.
URL:https://tracylibrary.org/event/mahjong-and-board-game-learn-and-play/2026-04-16/
ATTACH;FMTTYPE=:
END:VEVENT
BEGIN:VEVENT
DTSTART;TZID=America/New_York:20260416T100000
DTEND;TZID=America/New_York:20260416T120000
DTSTAMP:20260423T214023
CREATED:20260316T193750Z
LAST-MODIFIED:20260316T193750Z
UID:10425-1776333600-1776340800@tracylibrary.org
SUMMARY:Mahjong and Board Game: Learn and Play
DESCRIPTION:The library’s Mahjong tiles and board games will be out\, but you are also welcome to bring your own games.  Take this opportunity to expand your skills\, learn a new game or meet fellow enthusiasts.  Light refreshments will be available.
URL:https://tracylibrary.org/event/mahjong-and-board-game-learn-and-play/2026-04-16/
ATTACH;FMTTYPE=:
END:VEVENT
BEGIN:VEVENT
DTSTART;TZID=America/New_York:20260416T100000
DTEND;TZID=America/New_York:20260416T120000
DTSTAMP:20260423T214023
CREATED:20260316T193750Z
LAST-MODIFIED:20260316T193750Z
UID:10425-1776333600-1776340800@tracylibrary.org
SUMMARY:Mahjong and Board Game: Learn and Play
DESCRIPTION:The library’s Mahjong tiles and board games will be out\, but you are also welcome to bring your own games.  Take this opportunity to expand your skills\, learn a new game or meet fellow enthusiasts.  Light refreshments will be available.
URL:https://tracylibrary.org/event/mahjong-and-board-game-learn-and-play/2026-04-16/
ATTACH;FMTTYPE=:
END:VEVENT
BEGIN:VEVENT
DTSTART;TZID=America/New_York:20260416T100000
DTEND;TZID=America/New_York:20260416T120000
DTSTAMP:20260423T214023
CREATED:20260316T193750Z
LAST-MODIFIED:20260316T193750Z
UID:10425-1776333600-1776340800@tracylibrary.org
SUMMARY:Mahjong and Board Game: Learn and Play
DESCRIPTION:The library’s Mahjong tiles and board games will be out\, but you are also welcome to bring your own games.  Take this opportunity to expand your skills\, learn a new game or meet fellow enthusiasts.  Light refreshments will be available.
URL:https://tracylibrary.org/event/mahjong-and-board-game-learn-and-play/2026-04-16/
ATTACH;FMTTYPE=image/png:
END:VEVENT
BEGIN:VEVENT
DTSTART;TZID=America/New_York:20260416T100000
DTEND;TZID=America/New_York:20260416T120000
DTSTAMP:20260423T214023
CREATED:20260316T193750Z
LAST-MODIFIED:20260316T193750Z
UID:10425-1776333600-1776340800@tracylibrary.org
SUMMARY:Mahjong and Board Game: Learn and Play
DESCRIPTION:The library’s Mahjong tiles and board games will be out\, but you are also welcome to bring your own games.  Take this opportunity to expand your skills\, learn a new game or meet fellow enthusiasts.  Light refreshments will be available.
URL:https://tracylibrary.org/event/mahjong-and-board-game-learn-and-play/2026-04-16/
ATTACH;FMTTYPE=image/png:https://tracylibrary.org/wp-content/uploads/2024/03/Board-Game.png
END:VEVENT
BEGIN:VEVENT
DTSTART;TZID=America/New_York:20260416T100000
DTEND;TZID=America/New_York:20260416T120000
DTSTAMP:20260423T214023
CREATED:20260316T193750Z
LAST-MODIFIED:20260316T193750Z
UID:10425-1776333600-1776340800@tracylibrary.org
SUMMARY:Mahjong and Board Game: Learn and Play
DESCRIPTION:The library’s Mahjong tiles and board games will be out\, but you are also welcome to bring your own games.  Take this opportunity to expand your skills\, learn a new game or meet fellow enthusiasts.  Light refreshments will be available.
URL:https://tracylibrary.org/event/mahjong-and-board-game-learn-and-play/2026-04-16/
ATTACH;FMTTYPE=image/png:https://tracylibrary.org/wp-content/uploads/2024/03/Board-Game.png
END:VEVENT
BEGIN:VEVENT
DTSTART;TZID=America/New_York:20260416T100000
DTEND;TZID=America/New_York:20260416T120000
DTSTAMP:20260423T214023
CREATED:20260316T193750Z
LAST-MODIFIED:20260316T193750Z
UID:10425-1776333600-1776340800@tracylibrary.org
SUMMARY:Mahjong and Board Game: Learn and Play
DESCRIPTION:The library’s Mahjong tiles and board games will be out\, but you are also welcome to bring your own games.  Take this opportunity to expand your skills\, learn a new game or meet fellow enthusiasts.  Light refreshments will be available.
URL:https://tracylibrary.org/event/mahjong-and-board-game-learn-and-play/2026-04-16/
ATTACH;FMTTYPE=image/png:https://tracylibrary.org/wp-content/uploads/2024/03/Board-Game.png
END:VEVENT
END:VCALENDAR