BEGIN:VCALENDAR
VERSION:2.0
PRODID:-//Tracy Memorial Library - ECPv6.15.20//NONSGML v1.0//EN
CALSCALE:GREGORIAN
METHOD:PUBLISH
X-WR-CALNAME:Tracy Memorial Library
X-ORIGINAL-URL:https://tracylibrary.org
X-WR-CALDESC:Events for Tracy Memorial Library
REFRESH-INTERVAL;VALUE=DURATION:PT1H
X-Robots-Tag:noindex
X-PUBLISHED-TTL:PT1H
BEGIN:VTIMEZONE
TZID:America/New_York
BEGIN:DAYLIGHT
TZOFFSETFROM:-0500
TZOFFSETTO:-0400
TZNAME:EDT
DTSTART:20250309T070000
END:DAYLIGHT
BEGIN:STANDARD
TZOFFSETFROM:-0400
TZOFFSETTO:-0500
TZNAME:EST
DTSTART:20251102T060000
END:STANDARD
BEGIN:DAYLIGHT
TZOFFSETFROM:-0500
TZOFFSETTO:-0400
TZNAME:EDT
DTSTART:20260308T070000
END:DAYLIGHT
BEGIN:STANDARD
TZOFFSETFROM:-0400
TZOFFSETTO:-0500
TZNAME:EST
DTSTART:20261101T060000
END:STANDARD
BEGIN:DAYLIGHT
TZOFFSETFROM:-0500
TZOFFSETTO:-0400
TZNAME:EDT
DTSTART:20270314T070000
END:DAYLIGHT
BEGIN:STANDARD
TZOFFSETFROM:-0400
TZOFFSETTO:-0500
TZNAME:EST
DTSTART:20271107T060000
END:STANDARD
END:VTIMEZONE
BEGIN:VEVENT
DTSTART;TZID=America/New_York:20260312T183000
DTEND;TZID=America/New_York:20260312T193000
DTSTAMP:20260423T180244
CREATED:20251210T160532Z
LAST-MODIFIED:20251210T160532Z
UID:9927-1773340200-1773343800@tracylibrary.org
SUMMARY:Evening Book Group
DESCRIPTION:Starting in January the library will be having an evening book group as well as our morning one.  Completion of the book is not required\, but nor is the group spoiler free.  Copies of the book are available at the circulation desk and the next month’s books will be distributed at the meeting.
URL:https://tracylibrary.org/event/evening-book-group/2026-03-12/
CATEGORIES:Book Discussion
ATTACH;FMTTYPE=image/png:https://tracylibrary.org/wp-content/uploads/2022/04/Morning-Book-Discussion-e1696965518696.png
END:VEVENT
BEGIN:VEVENT
DTSTART;TZID=America/New_York:20260313T100000
DTEND;TZID=America/New_York:20260313T120000
DTSTAMP:20260423T180244
CREATED:20260211T194755Z
LAST-MODIFIED:20260211T194755Z
UID:10351-1773396000-1773403200@tracylibrary.org
SUMMARY:Learn American Mahjong
DESCRIPTION:Learn American Mahjong from instructor Deborah LeBlanc.  No experience required.  All are welcome.
URL:https://tracylibrary.org/event/learn-american-mahjong/2026-03-13/
END:VEVENT
BEGIN:VEVENT
DTSTART;TZID=America/New_York:20260317T150000
DTEND;TZID=America/New_York:20260317T160000
DTSTAMP:20260423T180244
CREATED:20220811T183425Z
LAST-MODIFIED:20220811T183425Z
UID:10265-1773759600-1773763200@tracylibrary.org
SUMMARY:Lego Club
DESCRIPTION:  \nJoin us in the meeting room to build with large collection of Lego bricks. Build your own creation or try one of our challenges. This event is intended for ages 5 and up. This is a drop in program and sign up is not required.
URL:https://tracylibrary.org/event/lego-club-2024-09-10-2024-09-17-2024-12-31/2026-03-17/
CATEGORIES:Youth
ATTACH;FMTTYPE=image/jpeg:https://tracylibrary.org/wp-content/uploads/2022/08/lego-gcc3f8363f_1920.jpg
END:VEVENT
BEGIN:VEVENT
DTSTART;TZID=America/New_York:20260317T180000
DTEND;TZID=America/New_York:20260317T193000
DTSTAMP:20260423T180244
CREATED:20241206T192354Z
LAST-MODIFIED:20241206T192354Z
UID:9814-1773770400-1773775800@tracylibrary.org
SUMMARY:TML Knitting Group
DESCRIPTION:Do you knit\, crochet or stitch? Looking to meet fellow practitioners of the fabric arts? Look no further than the Tracy Library. Starting December 10th and continuing on Tuesdays\, the TML Knitting Group will be meeting in the Reading Room from 6-7:30. All skill levels welcome. \nImage “White knitting” by youn-ar-gall is licensed under CC BY-NC-SA 2.0.
URL:https://tracylibrary.org/event/tml-knitting-group/2026-03-17/
CATEGORIES:Adults
ATTACH;FMTTYPE=image/jpeg:https://tracylibrary.org/wp-content/uploads/2024/12/knitting-e1733513828612.jpg
END:VEVENT
BEGIN:VEVENT
DTSTART;TZID=America/New_York:20260318T100000
DTEND;TZID=America/New_York:20260318T110000
DTSTAMP:20260423T180244
CREATED:20220505T153033Z
LAST-MODIFIED:20251223T152615Z
UID:9953-1773828000-1773831600@tracylibrary.org
SUMMARY:Story Time
DESCRIPTION:Weekly on Wednesdays at 10 AM.\nJoin us for stories\, songs and rhymes. Each week has a unique theme. We also have themed take and make craft bag that you can complete at home.
URL:https://tracylibrary.org/event/story-time/2026-03-18/
CATEGORIES:Youth
ATTACH;FMTTYPE=image/jpeg:https://tracylibrary.org/wp-content/uploads/2022/02/book-heart2.jpg
ORGANIZER;CN="Ben Cote":MAILTO:bcote@tracylibrary.org
END:VEVENT
BEGIN:VEVENT
DTSTART;TZID=America/New_York:20260319T150000
DTEND;TZID=America/New_York:20260319T160000
DTSTAMP:20260423T180244
CREATED:20231011T172219Z
LAST-MODIFIED:20231011T172219Z
UID:10334-1773932400-1773936000@tracylibrary.org
SUMMARY:Game Day
DESCRIPTION:This program is for independent gamers ages 10 to 17. Try your hand at Nintendo Switch games as well as classic board games.
URL:https://tracylibrary.org/event/game-day-2-2024-09-12-2024-09-12-2024-12-26/2026-03-19/
ATTACH;FMTTYPE=image/jpeg:https://tracylibrary.org/wp-content/uploads/2022/11/Game-Day-cover-photo-1-1.jpg
END:VEVENT
BEGIN:VEVENT
DTSTART;TZID=America/New_York:20260324T150000
DTEND;TZID=America/New_York:20260324T160000
DTSTAMP:20260423T180244
CREATED:20220811T183425Z
LAST-MODIFIED:20220811T183425Z
UID:10266-1774364400-1774368000@tracylibrary.org
SUMMARY:Lego Club
DESCRIPTION:  \nJoin us in the meeting room to build with large collection of Lego bricks. Build your own creation or try one of our challenges. This event is intended for ages 5 and up. This is a drop in program and sign up is not required.
URL:https://tracylibrary.org/event/lego-club-2024-09-10-2024-09-17-2024-12-31/2026-03-24/
CATEGORIES:Youth
ATTACH;FMTTYPE=image/jpeg:https://tracylibrary.org/wp-content/uploads/2022/08/lego-gcc3f8363f_1920.jpg
END:VEVENT
BEGIN:VEVENT
DTSTART;TZID=America/New_York:20260324T180000
DTEND;TZID=America/New_York:20260324T193000
DTSTAMP:20260423T180244
CREATED:20241206T192354Z
LAST-MODIFIED:20241206T192354Z
UID:9815-1774375200-1774380600@tracylibrary.org
SUMMARY:TML Knitting Group
DESCRIPTION:Do you knit\, crochet or stitch? Looking to meet fellow practitioners of the fabric arts? Look no further than the Tracy Library.  Every Tuesday\, the TML Knitting Group will be meeting in the NH Room from 6-7:30. All skill levels welcome. \nImage “White knitting” by youn-ar-gall is licensed under CC BY-NC-SA 2.0.
URL:https://tracylibrary.org/event/tml-knitting-group/2026-03-24/
CATEGORIES:Adults
ATTACH;FMTTYPE=image/jpeg:https://tracylibrary.org/wp-content/uploads/2024/12/knitting-e1733513828612.jpg
END:VEVENT
BEGIN:VEVENT
DTSTART;TZID=America/New_York:20260325T100000
DTEND;TZID=America/New_York:20260325T110000
DTSTAMP:20260423T180244
CREATED:20220505T153033Z
LAST-MODIFIED:20251223T152617Z
UID:9954-1774432800-1774436400@tracylibrary.org
SUMMARY:Story Time
DESCRIPTION:Weekly on Wednesdays at 10 AM.\nJoin us for stories\, songs and rhymes. Each week has a unique theme. We also have themed take and make craft bag that you can complete at home.
URL:https://tracylibrary.org/event/story-time/2026-03-25/
CATEGORIES:Youth
ATTACH;FMTTYPE=image/jpeg:https://tracylibrary.org/wp-content/uploads/2022/02/book-heart2.jpg
ORGANIZER;CN="Ben Cote":MAILTO:bcote@tracylibrary.org
END:VEVENT
BEGIN:VEVENT
DTSTART;TZID=America/New_York:20260326T150000
DTEND;TZID=America/New_York:20260326T160000
DTSTAMP:20260423T180244
CREATED:20231011T172219Z
LAST-MODIFIED:20231011T172219Z
UID:10335-1774537200-1774540800@tracylibrary.org
SUMMARY:Game Day
DESCRIPTION:This program is for independent gamers ages 10 to 17. Try your hand at Nintendo Switch games as well as classic board games.
URL:https://tracylibrary.org/event/game-day-2-2024-09-12-2024-09-12-2024-12-26/2026-03-26/
ATTACH;FMTTYPE=image/jpeg:https://tracylibrary.org/wp-content/uploads/2022/11/Game-Day-cover-photo-1-1.jpg
END:VEVENT
BEGIN:VEVENT
DTSTART;TZID=America/New_York:20260326T180000
DTEND;TZID=America/New_York:20260326T200000
DTSTAMP:20260423T180244
CREATED:20240429T190505Z
LAST-MODIFIED:20260423T193115Z
UID:10168-1774548000-1774555200@tracylibrary.org
SUMMARY:Dungeons and Dragons at the Library for Adults
DESCRIPTION:A new D&D adventure is starting in 2026.  Ages 18 and up. Beginners welcome — no prior experience necessary!  If you are interested in participating\, please email Matthew at mgunby@tracylibrary.org to get your character set up and determine which of the two tables will be a better fit.
URL:https://tracylibrary.org/event/dungeons-and-dragons-at-the-library-for-adults/2026-03-26/
LOCATION:Tracy Memorial Library
CATEGORIES:Adults
ATTACH;FMTTYPE=image/png:https://tracylibrary.org/wp-content/uploads/2024/02/Dragon_-_2-1.png
END:VEVENT
BEGIN:VEVENT
DTSTART;TZID=America/New_York:20260326T183000
DTEND;TZID=America/New_York:20260326T200000
DTSTAMP:20260423T180244
CREATED:20260316T181039Z
LAST-MODIFIED:20260316T181134Z
UID:10421-1774549800-1774555200@tracylibrary.org
SUMMARY:New London Historical Society Presents Old Main Street to Main Street
DESCRIPTION:This presentation will present the earliest history of New London which was centered along Old Main Street with its original Meetinghouse\, mills\, and schoolhouses. As time passed the center of town moved to Colby Hill with the Baptist Church building their new church building in 1826 and the town hall being built next to the Academy buildings. The old meetinghouse was taken down and became a men’s dormitory at the Academy. The Old Main Street Cemetery remains with its many Revolutionary War veterans and first settlers buried there – a reminder of the earliest days in New London.  Presented by Dr. William Minsinger of the New London Historical Society.
URL:https://tracylibrary.org/event/new-london-historical-society-presents-old-main-street-to-main-street/
ATTACH;FMTTYPE=image/avif:https://tracylibrary.org/wp-content/uploads/2026/03/historical-society-relogo-removebg-preview.avif
END:VEVENT
BEGIN:VEVENT
DTSTART;TZID=America/New_York:20260331T150000
DTEND;TZID=America/New_York:20260331T160000
DTSTAMP:20260423T180244
CREATED:20220811T183425Z
LAST-MODIFIED:20220811T183425Z
UID:10267-1774969200-1774972800@tracylibrary.org
SUMMARY:Lego Club
DESCRIPTION:  \nJoin us in the meeting room to build with large collection of Lego bricks. Build your own creation or try one of our challenges. This event is intended for ages 5 and up. This is a drop in program and sign up is not required.
URL:https://tracylibrary.org/event/lego-club-2024-09-10-2024-09-17-2024-12-31/2026-03-31/
CATEGORIES:Youth
ATTACH;FMTTYPE=image/jpeg:https://tracylibrary.org/wp-content/uploads/2022/08/lego-gcc3f8363f_1920.jpg
END:VEVENT
BEGIN:VEVENT
DTSTART;TZID=America/New_York:20260331T180000
DTEND;TZID=America/New_York:20260331T193000
DTSTAMP:20260423T180244
CREATED:20241206T192354Z
LAST-MODIFIED:20241206T192354Z
UID:9817-1774980000-1774985400@tracylibrary.org
SUMMARY:TML Knitting Group
DESCRIPTION:Do you knit\, crochet or stitch? Looking to meet fellow practitioners of the fabric arts? Look no further than the Tracy Library.  Every Tuesday\, the TML Knitting Group will be meeting in the NH Room from 6-7:30. All skill levels welcome. \nImage “White knitting” by youn-ar-gall is licensed under CC BY-NC-SA 2.0.
URL:https://tracylibrary.org/event/tml-knitting-group/2026-03-31/
CATEGORIES:Adults
ATTACH;FMTTYPE=image/jpeg:https://tracylibrary.org/wp-content/uploads/2024/12/knitting-e1733513828612.jpg
END:VEVENT
BEGIN:VEVENT
DTSTART;TZID=America/New_York:20260401T100000
DTEND;TZID=America/New_York:20260401T110000
DTSTAMP:20260423T180244
CREATED:20220505T153033Z
LAST-MODIFIED:20251223T152619Z
UID:9955-1775037600-1775041200@tracylibrary.org
SUMMARY:Story Time
DESCRIPTION:Weekly on Wednesdays at 10 AM.\nJoin us for stories\, songs and rhymes. Each week has a unique theme. We also have themed take and make craft bag that you can complete at home.
URL:https://tracylibrary.org/event/story-time/2026-04-01/
CATEGORIES:Youth
ATTACH;FMTTYPE=image/jpeg:https://tracylibrary.org/wp-content/uploads/2022/02/book-heart2.jpg
ORGANIZER;CN="Ben Cote":MAILTO:bcote@tracylibrary.org
END:VEVENT
BEGIN:VEVENT
DTSTART;TZID=America/New_York:20260402T150000
DTEND;TZID=America/New_York:20260402T160000
DTSTAMP:20260423T180244
CREATED:20231011T172219Z
LAST-MODIFIED:20231011T172219Z
UID:10336-1775142000-1775145600@tracylibrary.org
SUMMARY:Game Day
DESCRIPTION:This program is for independent gamers ages 10 to 17. Try your hand at Nintendo Switch games as well as classic board games.
URL:https://tracylibrary.org/event/game-day-2-2024-09-12-2024-09-12-2024-12-26/2026-04-02/
ATTACH;FMTTYPE=image/jpeg:https://tracylibrary.org/wp-content/uploads/2022/11/Game-Day-cover-photo-1-1.jpg
END:VEVENT
BEGIN:VEVENT
DTSTART;TZID=America/New_York:20260402T180000
DTEND;TZID=America/New_York:20260402T200000
DTSTAMP:20260423T180244
CREATED:20240429T190505Z
LAST-MODIFIED:20260423T193116Z
UID:10169-1775152800-1775160000@tracylibrary.org
SUMMARY:Dungeons and Dragons at the Library for Adults
DESCRIPTION:A new D&D adventure is starting in 2026.  Ages 18 and up. Beginners welcome — no prior experience necessary!  If you are interested in participating\, please email Matthew at mgunby@tracylibrary.org to get your character set up and determine which of the two tables will be a better fit.
URL:https://tracylibrary.org/event/dungeons-and-dragons-at-the-library-for-adults/2026-04-02/
LOCATION:Tracy Memorial Library
CATEGORIES:Adults
ATTACH;FMTTYPE=image/png:https://tracylibrary.org/wp-content/uploads/2024/02/Dragon_-_2-1.png
END:VEVENT
BEGIN:VEVENT
DTSTART;TZID=America/New_York:20260407T150000
DTEND;TZID=America/New_York:20260407T160000
DTSTAMP:20260423T180244
CREATED:20220811T183425Z
LAST-MODIFIED:20220811T183425Z
UID:10268-1775574000-1775577600@tracylibrary.org
SUMMARY:Lego Club
DESCRIPTION:  \nJoin us in the meeting room to build with large collection of Lego bricks. Build your own creation or try one of our challenges. This event is intended for ages 5 and up. This is a drop in program and sign up is not required.
URL:https://tracylibrary.org/event/lego-club-2024-09-10-2024-09-17-2024-12-31/2026-04-07/
CATEGORIES:Youth
ATTACH;FMTTYPE=image/jpeg:https://tracylibrary.org/wp-content/uploads/2022/08/lego-gcc3f8363f_1920.jpg
END:VEVENT
BEGIN:VEVENT
DTSTART;TZID=America/New_York:20260407T180000
DTEND;TZID=America/New_York:20260407T193000
DTSTAMP:20260423T180244
CREATED:20241206T192354Z
LAST-MODIFIED:20241206T192354Z
UID:9818-1775584800-1775590200@tracylibrary.org
SUMMARY:TML Knitting Group
DESCRIPTION:Do you knit\, crochet or stitch? Looking to meet fellow practitioners of the fabric arts? Look no further than the Tracy Library.  Every Tuesday\, the TML Knitting Group will be meeting in the NH Room from 6-7:30. All skill levels welcome. \nImage “White knitting” by youn-ar-gall is licensed under CC BY-NC-SA 2.0.
URL:https://tracylibrary.org/event/tml-knitting-group/2026-04-07/
CATEGORIES:Adults
ATTACH;FMTTYPE=image/jpeg:https://tracylibrary.org/wp-content/uploads/2024/12/knitting-e1733513828612.jpg
END:VEVENT
BEGIN:VEVENT
DTSTART;TZID=America/New_York:20260408T100000
DTEND;TZID=America/New_York:20260408T110000
DTSTAMP:20260423T180244
CREATED:20220505T153033Z
LAST-MODIFIED:20251223T152621Z
UID:9956-1775642400-1775646000@tracylibrary.org
SUMMARY:Story Time
DESCRIPTION:Weekly on Wednesdays at 10 AM.\nJoin us for stories\, songs and rhymes. Each week has a unique theme. We also have themed take and make craft bag that you can complete at home.
URL:https://tracylibrary.org/event/story-time/2026-04-08/
CATEGORIES:Youth
ATTACH;FMTTYPE=image/jpeg:https://tracylibrary.org/wp-content/uploads/2022/02/book-heart2.jpg
ORGANIZER;CN="Ben Cote":MAILTO:bcote@tracylibrary.org
END:VEVENT
BEGIN:VEVENT
DTSTART;TZID=America/New_York:20260409T150000
DTEND;TZID=America/New_York:20260409T160000
DTSTAMP:20260423T180244
CREATED:20231011T172219Z
LAST-MODIFIED:20231011T172219Z
UID:10337-1775746800-1775750400@tracylibrary.org
SUMMARY:Game Day
DESCRIPTION:This program is for independent gamers ages 10 to 17. Try your hand at Nintendo Switch games as well as classic board games.
URL:https://tracylibrary.org/event/game-day-2-2024-09-12-2024-09-12-2024-12-26/2026-04-09/
ATTACH;FMTTYPE=image/jpeg:https://tracylibrary.org/wp-content/uploads/2022/11/Game-Day-cover-photo-1-1.jpg
END:VEVENT
BEGIN:VEVENT
DTSTART;TZID=America/New_York:20260409T183000
DTEND;TZID=America/New_York:20260409T193000
DTSTAMP:20260423T180244
CREATED:20251210T160532Z
LAST-MODIFIED:20251210T160532Z
UID:9928-1775759400-1775763000@tracylibrary.org
SUMMARY:Evening Book Group
DESCRIPTION:Starting in January the library will be having an evening book group as well as our morning one.  Completion of the book is not required\, but nor is the group spoiler free.  Copies of the book are available at the circulation desk and the next month’s books will be distributed at the meeting.
URL:https://tracylibrary.org/event/evening-book-group/2026-04-09/
CATEGORIES:Book Discussion
ATTACH;FMTTYPE=image/png:https://tracylibrary.org/wp-content/uploads/2022/04/Morning-Book-Discussion-e1696965518696.png
END:VEVENT
BEGIN:VEVENT
DTSTART;TZID=America/New_York:20260414T100000
DTEND;TZID=America/New_York:20260414T110000
DTSTAMP:20260423T180244
CREATED:20221213T210138Z
LAST-MODIFIED:20221213T210138Z
UID:9911-1776160800-1776164400@tracylibrary.org
SUMMARY:Morning Book Discussion
DESCRIPTION:The group meets monthly on the 2nd Tuesday of the month. New members are welcome. Copies of the book to be discussed can be borrowed at the Circulation Desk in the Library.
URL:https://tracylibrary.org/event/morning-book-discussion-3-2023-09-12/2026-04-14/
CATEGORIES:Adults,Book Discussion
ATTACH;FMTTYPE=image/png:https://tracylibrary.org/wp-content/uploads/2022/04/Morning-Book-Discussion-e1696965518696.png
END:VEVENT
BEGIN:VEVENT
DTSTART;TZID=America/New_York:20260414T150000
DTEND;TZID=America/New_York:20260414T160000
DTSTAMP:20260423T180244
CREATED:20220811T183425Z
LAST-MODIFIED:20220811T183425Z
UID:10269-1776178800-1776182400@tracylibrary.org
SUMMARY:Lego Club
DESCRIPTION:  \nJoin us in the meeting room to build with large collection of Lego bricks. Build your own creation or try one of our challenges. This event is intended for ages 5 and up. This is a drop in program and sign up is not required.
URL:https://tracylibrary.org/event/lego-club-2024-09-10-2024-09-17-2024-12-31/2026-04-14/
CATEGORIES:Youth
ATTACH;FMTTYPE=image/jpeg:https://tracylibrary.org/wp-content/uploads/2022/08/lego-gcc3f8363f_1920.jpg
END:VEVENT
BEGIN:VEVENT
DTSTART;TZID=America/New_York:20260414T180000
DTEND;TZID=America/New_York:20260414T193000
DTSTAMP:20260423T180244
CREATED:20241206T192354Z
LAST-MODIFIED:20241206T192354Z
UID:9819-1776189600-1776195000@tracylibrary.org
SUMMARY:TML Knitting Group
DESCRIPTION:Do you knit\, crochet or stitch? Looking to meet fellow practitioners of the fabric arts? Look no further than the Tracy Library.  Every Tuesday\, the TML Knitting Group will be meeting in the NH Room from 6-7:30. All skill levels welcome. \nImage “White knitting” by youn-ar-gall is licensed under CC BY-NC-SA 2.0.
URL:https://tracylibrary.org/event/tml-knitting-group/2026-04-14/
CATEGORIES:Adults
ATTACH;FMTTYPE=image/jpeg:https://tracylibrary.org/wp-content/uploads/2024/12/knitting-e1733513828612.jpg
END:VEVENT
BEGIN:VEVENT
DTSTART;TZID=America/New_York:20260415T100000
DTEND;TZID=America/New_York:20260415T110000
DTSTAMP:20260423T180244
CREATED:20220505T153033Z
LAST-MODIFIED:20251223T152624Z
UID:9957-1776247200-1776250800@tracylibrary.org
SUMMARY:Story Time
DESCRIPTION:Weekly on Wednesdays at 10 AM.\nJoin us for stories\, songs and rhymes. Each week has a unique theme. We also have themed take and make craft bag that you can complete at home.
URL:https://tracylibrary.org/event/story-time/2026-04-15/
CATEGORIES:Youth
ATTACH;FMTTYPE=image/jpeg:https://tracylibrary.org/wp-content/uploads/2022/02/book-heart2.jpg
ORGANIZER;CN="Ben Cote":MAILTO:bcote@tracylibrary.org
END:VEVENT
BEGIN:VEVENT
DTSTART;TZID=America/New_York:20260415T150000
DTEND;TZID=America/New_York:20260415T160000
DTSTAMP:20260423T180244
CREATED:20250910T134931Z
LAST-MODIFIED:20250910T134931Z
UID:10470-1776265200-1776268800@tracylibrary.org
SUMMARY:Universal Yums
DESCRIPTION:Join us for Universal Yums.  Youth 10 and up can sample snacks from another country. Guess which country they are from and decide which snack is the best.
URL:https://tracylibrary.org/event/universal-yums-5/2026-04-15/
ATTACH;FMTTYPE=image/jpeg:https://tracylibrary.org/wp-content/uploads/2025/08/Hero-768x771-1.jpg
END:VEVENT
BEGIN:VEVENT
DTSTART;TZID=America/New_York:20260416T100000
DTEND;TZID=America/New_York:20260416T120000
DTSTAMP:20260423T180244
CREATED:20260316T193750Z
LAST-MODIFIED:20260316T193750Z
UID:10425-1776333600-1776340800@tracylibrary.org
SUMMARY:Mahjong and Board Game: Learn and Play
DESCRIPTION:The library’s Mahjong tiles and board games will be out\, but you are also welcome to bring your own games.  Take this opportunity to expand your skills\, learn a new game or meet fellow enthusiasts.  Light refreshments will be available.
URL:https://tracylibrary.org/event/mahjong-and-board-game-learn-and-play/2026-04-16/
CATEGORIES:Adults
ATTACH;FMTTYPE=image/png:https://tracylibrary.org/wp-content/uploads/2024/03/Board-Game.png
END:VEVENT
BEGIN:VEVENT
DTSTART;TZID=America/New_York:20260416T150000
DTEND;TZID=America/New_York:20260416T160000
DTSTAMP:20260423T180244
CREATED:20231011T172219Z
LAST-MODIFIED:20231011T172219Z
UID:10338-1776351600-1776355200@tracylibrary.org
SUMMARY:Game Day
DESCRIPTION:This program is for independent gamers ages 10 to 17. Try your hand at Nintendo Switch games as well as classic board games.
URL:https://tracylibrary.org/event/game-day-2-2024-09-12-2024-09-12-2024-12-26/2026-04-16/
ATTACH;FMTTYPE=image/jpeg:https://tracylibrary.org/wp-content/uploads/2022/11/Game-Day-cover-photo-1-1.jpg
END:VEVENT
BEGIN:VEVENT
DTSTART;TZID=America/New_York:20260417T100000
DTEND;TZID=America/New_York:20260417T120000
DTSTAMP:20260423T180244
CREATED:20260316T194350Z
LAST-MODIFIED:20260316T194350Z
UID:10429-1776420000-1776427200@tracylibrary.org
SUMMARY:UNH Extension Program: Vegetable Gardening
DESCRIPTION:Beth McGuinn\, UNH Extension Master Gardener\, will present on vegetable gardening.  During this workshop\, attendees will learn principles and practices for successful vegetable gardening. They will learn how to plan a garden that produces lots of high-quality vegetables\, spend less energy on garden maintenance\, and minimize chemical inputs. Additionally\, attendees will learn how to choose the ideal location\, prepare the garden site\, decide what and how much to grow\, the timing of planting\, and the harvesting and storage of vegetables.  Open to all.
URL:https://tracylibrary.org/event/unh-extension-program-vegetable-gardening/
ATTACH;FMTTYPE=image/webp:https://tracylibrary.org/wp-content/uploads/2026/03/gardening.webp
END:VEVENT
END:VCALENDAR