BEGIN:VCALENDAR
VERSION:2.0
PRODID:-//Tracy Memorial Library - ECPv6.15.20//NONSGML v1.0//EN
CALSCALE:GREGORIAN
METHOD:PUBLISH
X-ORIGINAL-URL:https://tracylibrary.org
X-WR-CALDESC:Events for Tracy Memorial Library
REFRESH-INTERVAL;VALUE=DURATION:PT1H
X-Robots-Tag:noindex
X-PUBLISHED-TTL:PT1H
BEGIN:VTIMEZONE
TZID:America/New_York
BEGIN:DAYLIGHT
TZOFFSETFROM:-0500
TZOFFSETTO:-0400
TZNAME:EDT
DTSTART:20250309T070000
END:DAYLIGHT
BEGIN:STANDARD
TZOFFSETFROM:-0400
TZOFFSETTO:-0500
TZNAME:EST
DTSTART:20251102T060000
END:STANDARD
BEGIN:DAYLIGHT
TZOFFSETFROM:-0500
TZOFFSETTO:-0400
TZNAME:EDT
DTSTART:20260308T070000
END:DAYLIGHT
BEGIN:STANDARD
TZOFFSETFROM:-0400
TZOFFSETTO:-0500
TZNAME:EST
DTSTART:20261101T060000
END:STANDARD
BEGIN:DAYLIGHT
TZOFFSETFROM:-0500
TZOFFSETTO:-0400
TZNAME:EDT
DTSTART:20270314T070000
END:DAYLIGHT
BEGIN:STANDARD
TZOFFSETFROM:-0400
TZOFFSETTO:-0500
TZNAME:EST
DTSTART:20271107T060000
END:STANDARD
END:VTIMEZONE
BEGIN:VEVENT
DTSTART;TZID=America/New_York:20260723T180000
DTEND;TZID=America/New_York:20260723T200000
DTSTAMP:20260423T182110
CREATED:20240429T190505Z
LAST-MODIFIED:20260423T193121Z
UID:10176-1784829600-1784836800@tracylibrary.org
SUMMARY:Dungeons and Dragons at the Library for Adults
DESCRIPTION:A new D&D adventure is starting in 2026.  Ages 18 and up. Beginners welcome — no prior experience necessary!  If you are interested in participating\, please email Matthew at mgunby@tracylibrary.org to get your character set up and determine which of the two tables will be a better fit.
URL:https://tracylibrary.org/event/dungeons-and-dragons-at-the-library-for-adults/2026-07-23/
LOCATION:Tracy Memorial Library
CATEGORIES:Adults
ATTACH;FMTTYPE=image/png:https://tracylibrary.org/wp-content/uploads/2024/02/Dragon_-_2-1.png
END:VEVENT
BEGIN:VEVENT
DTSTART;TZID=America/New_York:20260728T150000
DTEND;TZID=America/New_York:20260728T160000
DTSTAMP:20260423T182110
CREATED:20220811T183425Z
LAST-MODIFIED:20220811T183425Z
UID:10284-1785250800-1785254400@tracylibrary.org
SUMMARY:Lego Club
DESCRIPTION:  \nJoin us in the meeting room to build with large collection of Lego bricks. Build your own creation or try one of our challenges. This event is intended for ages 5 and up. This is a drop in program and sign up is not required.
URL:https://tracylibrary.org/event/lego-club-2024-09-10-2024-09-17-2024-12-31/2026-07-28/
CATEGORIES:Youth
ATTACH;FMTTYPE=image/jpeg:https://tracylibrary.org/wp-content/uploads/2022/08/lego-gcc3f8363f_1920.jpg
END:VEVENT
BEGIN:VEVENT
DTSTART;TZID=America/New_York:20260728T180000
DTEND;TZID=America/New_York:20260728T193000
DTSTAMP:20260423T182110
CREATED:20241206T192354Z
LAST-MODIFIED:20241206T192354Z
UID:9834-1785261600-1785267000@tracylibrary.org
SUMMARY:TML Knitting Group
DESCRIPTION:Do you knit\, crochet or stitch? Looking to meet fellow practitioners of the fabric arts? Look no further than the Tracy Library.  Every Tuesday\, the TML Knitting Group will be meeting in the NH Room from 6-7:30. All skill levels welcome. \nImage “White knitting” by youn-ar-gall is licensed under CC BY-NC-SA 2.0.
URL:https://tracylibrary.org/event/tml-knitting-group/2026-07-28/
CATEGORIES:Adults
ATTACH;FMTTYPE=image/jpeg:https://tracylibrary.org/wp-content/uploads/2024/12/knitting-e1733513828612.jpg
END:VEVENT
BEGIN:VEVENT
DTSTART;TZID=America/New_York:20260801T120000
DTEND;TZID=America/New_York:20260801T130000
DTSTAMP:20260423T182110
CREATED:20260320T144235Z
LAST-MODIFIED:20260320T144627Z
UID:10452-1785585600-1785589200@tracylibrary.org
SUMMARY:Lindsay and Her Puppet Pals
DESCRIPTION:Join us after the Hospital Days Parade for this special family performance. “Lindsay brings her larger-than-life Puppet Pals to child and family audiences across New England. Filled with silliness\, active audience engagement\, and memorable characters\, this series of charming short stories will delight the young and the young at heart!”
URL:https://tracylibrary.org/event/lindsay-and-her-puppet-pals-2/
ATTACH;FMTTYPE=image/png:https://tracylibrary.org/wp-content/uploads/2026/03/porquipine_puppet-2.png
END:VEVENT
BEGIN:VEVENT
DTSTART;TZID=America/New_York:20260804T150000
DTEND;TZID=America/New_York:20260804T160000
DTSTAMP:20260423T182110
CREATED:20220811T183425Z
LAST-MODIFIED:20220811T183425Z
UID:10285-1785855600-1785859200@tracylibrary.org
SUMMARY:Lego Club
DESCRIPTION:  \nJoin us in the meeting room to build with large collection of Lego bricks. Build your own creation or try one of our challenges. This event is intended for ages 5 and up. This is a drop in program and sign up is not required.
URL:https://tracylibrary.org/event/lego-club-2024-09-10-2024-09-17-2024-12-31/2026-08-04/
CATEGORIES:Youth
ATTACH;FMTTYPE=image/jpeg:https://tracylibrary.org/wp-content/uploads/2022/08/lego-gcc3f8363f_1920.jpg
END:VEVENT
BEGIN:VEVENT
DTSTART;TZID=America/New_York:20260804T180000
DTEND;TZID=America/New_York:20260804T193000
DTSTAMP:20260423T182110
CREATED:20241206T192354Z
LAST-MODIFIED:20241206T192354Z
UID:9835-1785866400-1785871800@tracylibrary.org
SUMMARY:TML Knitting Group
DESCRIPTION:Do you knit\, crochet or stitch? Looking to meet fellow practitioners of the fabric arts? Look no further than the Tracy Library.  Every Tuesday\, the TML Knitting Group will be meeting in the NH Room from 6-7:30. All skill levels welcome. \nImage “White knitting” by youn-ar-gall is licensed under CC BY-NC-SA 2.0.
URL:https://tracylibrary.org/event/tml-knitting-group/2026-08-04/
CATEGORIES:Adults
ATTACH;FMTTYPE=image/jpeg:https://tracylibrary.org/wp-content/uploads/2024/12/knitting-e1733513828612.jpg
END:VEVENT
BEGIN:VEVENT
DTSTART;TZID=America/New_York:20260806T140000
DTEND;TZID=America/New_York:20260806T160000
DTSTAMP:20260423T182110
CREATED:20260320T150328Z
LAST-MODIFIED:20260320T150407Z
UID:10455-1786024800-1786032000@tracylibrary.org
SUMMARY:Lego Mania with C3Brix
DESCRIPTION:We are excited to host Cody Wells of C3Brix for this 1 day special Lego event. “Cody Wells is one of the most sought-after custom LEGO artists in the country. His clients range from private collectors and celebrities to GOOGLE\, the New York Hall of Science.” He has been featured on the Steve Harvey Show and NH Chronicle. Cody will provide a Lego Mania event that the kids have never seen before. He will be bringing Lego/games/challenges and prizes. (Registration is required)
URL:https://tracylibrary.org/event/lego-mania-with-c3brix/
ATTACH;FMTTYPE=image/png:https://tracylibrary.org/wp-content/uploads/2026/03/cody.png
END:VEVENT
BEGIN:VEVENT
DTSTART;TZID=America/New_York:20260806T180000
DTEND;TZID=America/New_York:20260806T200000
DTSTAMP:20260423T182110
CREATED:20240429T190505Z
LAST-MODIFIED:20260423T193123Z
UID:10177-1786039200-1786046400@tracylibrary.org
SUMMARY:Dungeons and Dragons at the Library for Adults
DESCRIPTION:A new D&D adventure is starting in 2026.  Ages 18 and up. Beginners welcome — no prior experience necessary!  If you are interested in participating\, please email Matthew at mgunby@tracylibrary.org to get your character set up and determine which of the two tables will be a better fit.
URL:https://tracylibrary.org/event/dungeons-and-dragons-at-the-library-for-adults/2026-08-06/
LOCATION:Tracy Memorial Library
CATEGORIES:Adults
ATTACH;FMTTYPE=image/png:https://tracylibrary.org/wp-content/uploads/2024/02/Dragon_-_2-1.png
END:VEVENT
BEGIN:VEVENT
DTSTART;TZID=America/New_York:20260811T100000
DTEND;TZID=America/New_York:20260811T110000
DTSTAMP:20260423T182110
CREATED:20221213T210138Z
LAST-MODIFIED:20221213T210138Z
UID:9915-1786442400-1786446000@tracylibrary.org
SUMMARY:Morning Book Discussion
DESCRIPTION:The group meets monthly on the 2nd Tuesday of the month. New members are welcome. Copies of the book to be discussed can be borrowed at the Circulation Desk in the Library.
URL:https://tracylibrary.org/event/morning-book-discussion-3-2023-09-12/2026-08-11/
CATEGORIES:Adults,Book Discussion
ATTACH;FMTTYPE=image/png:https://tracylibrary.org/wp-content/uploads/2022/04/Morning-Book-Discussion-e1696965518696.png
END:VEVENT
BEGIN:VEVENT
DTSTART;TZID=America/New_York:20260811T150000
DTEND;TZID=America/New_York:20260811T160000
DTSTAMP:20260423T182110
CREATED:20220811T183425Z
LAST-MODIFIED:20220811T183425Z
UID:10286-1786460400-1786464000@tracylibrary.org
SUMMARY:Lego Club
DESCRIPTION:  \nJoin us in the meeting room to build with large collection of Lego bricks. Build your own creation or try one of our challenges. This event is intended for ages 5 and up. This is a drop in program and sign up is not required.
URL:https://tracylibrary.org/event/lego-club-2024-09-10-2024-09-17-2024-12-31/2026-08-11/
CATEGORIES:Youth
ATTACH;FMTTYPE=image/jpeg:https://tracylibrary.org/wp-content/uploads/2022/08/lego-gcc3f8363f_1920.jpg
END:VEVENT
BEGIN:VEVENT
DTSTART;TZID=America/New_York:20260811T180000
DTEND;TZID=America/New_York:20260811T193000
DTSTAMP:20260423T182110
CREATED:20241206T192354Z
LAST-MODIFIED:20241206T192354Z
UID:9836-1786471200-1786476600@tracylibrary.org
SUMMARY:TML Knitting Group
DESCRIPTION:Do you knit\, crochet or stitch? Looking to meet fellow practitioners of the fabric arts? Look no further than the Tracy Library.  Every Tuesday\, the TML Knitting Group will be meeting in the NH Room from 6-7:30. All skill levels welcome. \nImage “White knitting” by youn-ar-gall is licensed under CC BY-NC-SA 2.0.
URL:https://tracylibrary.org/event/tml-knitting-group/2026-08-11/
CATEGORIES:Adults
ATTACH;FMTTYPE=image/jpeg:https://tracylibrary.org/wp-content/uploads/2024/12/knitting-e1733513828612.jpg
END:VEVENT
BEGIN:VEVENT
DTSTART;TZID=America/New_York:20260818T150000
DTEND;TZID=America/New_York:20260818T160000
DTSTAMP:20260423T182110
CREATED:20220811T183425Z
LAST-MODIFIED:20220811T183425Z
UID:10287-1787065200-1787068800@tracylibrary.org
SUMMARY:Lego Club
DESCRIPTION:  \nJoin us in the meeting room to build with large collection of Lego bricks. Build your own creation or try one of our challenges. This event is intended for ages 5 and up. This is a drop in program and sign up is not required.
URL:https://tracylibrary.org/event/lego-club-2024-09-10-2024-09-17-2024-12-31/2026-08-18/
CATEGORIES:Youth
ATTACH;FMTTYPE=image/jpeg:https://tracylibrary.org/wp-content/uploads/2022/08/lego-gcc3f8363f_1920.jpg
END:VEVENT
BEGIN:VEVENT
DTSTART;TZID=America/New_York:20260818T180000
DTEND;TZID=America/New_York:20260818T193000
DTSTAMP:20260423T182110
CREATED:20241206T192354Z
LAST-MODIFIED:20241206T192354Z
UID:9837-1787076000-1787081400@tracylibrary.org
SUMMARY:TML Knitting Group
DESCRIPTION:Do you knit\, crochet or stitch? Looking to meet fellow practitioners of the fabric arts? Look no further than the Tracy Library.  Every Tuesday\, the TML Knitting Group will be meeting in the NH Room from 6-7:30. All skill levels welcome. \nImage “White knitting” by youn-ar-gall is licensed under CC BY-NC-SA 2.0.
URL:https://tracylibrary.org/event/tml-knitting-group/2026-08-18/
CATEGORIES:Adults
ATTACH;FMTTYPE=image/jpeg:https://tracylibrary.org/wp-content/uploads/2024/12/knitting-e1733513828612.jpg
END:VEVENT
BEGIN:VEVENT
DTSTART;TZID=America/New_York:20260825T150000
DTEND;TZID=America/New_York:20260825T160000
DTSTAMP:20260423T182110
CREATED:20220811T183425Z
LAST-MODIFIED:20220811T183425Z
UID:10288-1787670000-1787673600@tracylibrary.org
SUMMARY:Lego Club
DESCRIPTION:  \nJoin us in the meeting room to build with large collection of Lego bricks. Build your own creation or try one of our challenges. This event is intended for ages 5 and up. This is a drop in program and sign up is not required.
URL:https://tracylibrary.org/event/lego-club-2024-09-10-2024-09-17-2024-12-31/2026-08-25/
CATEGORIES:Youth
ATTACH;FMTTYPE=image/jpeg:https://tracylibrary.org/wp-content/uploads/2022/08/lego-gcc3f8363f_1920.jpg
END:VEVENT
BEGIN:VEVENT
DTSTART;TZID=America/New_York:20260825T180000
DTEND;TZID=America/New_York:20260825T193000
DTSTAMP:20260423T182110
CREATED:20241206T192354Z
LAST-MODIFIED:20241206T192354Z
UID:9838-1787680800-1787686200@tracylibrary.org
SUMMARY:TML Knitting Group
DESCRIPTION:Do you knit\, crochet or stitch? Looking to meet fellow practitioners of the fabric arts? Look no further than the Tracy Library.  Every Tuesday\, the TML Knitting Group will be meeting in the NH Room from 6-7:30. All skill levels welcome. \nImage “White knitting” by youn-ar-gall is licensed under CC BY-NC-SA 2.0.
URL:https://tracylibrary.org/event/tml-knitting-group/2026-08-25/
CATEGORIES:Adults
ATTACH;FMTTYPE=image/jpeg:https://tracylibrary.org/wp-content/uploads/2024/12/knitting-e1733513828612.jpg
END:VEVENT
BEGIN:VEVENT
DTSTART;TZID=America/New_York:20260827T180000
DTEND;TZID=America/New_York:20260827T200000
DTSTAMP:20260423T182110
CREATED:20240429T190505Z
LAST-MODIFIED:20260423T193125Z
UID:10178-1787853600-1787860800@tracylibrary.org
SUMMARY:Dungeons and Dragons at the Library for Adults
DESCRIPTION:A new D&D adventure is starting in 2026.  Ages 18 and up. Beginners welcome — no prior experience necessary!  If you are interested in participating\, please email Matthew at mgunby@tracylibrary.org to get your character set up and determine which of the two tables will be a better fit.
URL:https://tracylibrary.org/event/dungeons-and-dragons-at-the-library-for-adults/2026-08-27/
LOCATION:Tracy Memorial Library
CATEGORIES:Adults
ATTACH;FMTTYPE=image/png:https://tracylibrary.org/wp-content/uploads/2024/02/Dragon_-_2-1.png
END:VEVENT
BEGIN:VEVENT
DTSTART;TZID=America/New_York:20260901T150000
DTEND;TZID=America/New_York:20260901T160000
DTSTAMP:20260423T182110
CREATED:20220811T183425Z
LAST-MODIFIED:20220811T183425Z
UID:10289-1788274800-1788278400@tracylibrary.org
SUMMARY:Lego Club
DESCRIPTION:  \nJoin us in the meeting room to build with large collection of Lego bricks. Build your own creation or try one of our challenges. This event is intended for ages 5 and up. This is a drop in program and sign up is not required.
URL:https://tracylibrary.org/event/lego-club-2024-09-10-2024-09-17-2024-12-31/2026-09-01/
CATEGORIES:Youth
ATTACH;FMTTYPE=image/jpeg:https://tracylibrary.org/wp-content/uploads/2022/08/lego-gcc3f8363f_1920.jpg
END:VEVENT
BEGIN:VEVENT
DTSTART;TZID=America/New_York:20260901T180000
DTEND;TZID=America/New_York:20260901T193000
DTSTAMP:20260423T182110
CREATED:20241206T192354Z
LAST-MODIFIED:20241206T192354Z
UID:9839-1788285600-1788291000@tracylibrary.org
SUMMARY:TML Knitting Group
DESCRIPTION:Do you knit\, crochet or stitch? Looking to meet fellow practitioners of the fabric arts? Look no further than the Tracy Library.  Every Tuesday\, the TML Knitting Group will be meeting in the NH Room from 6-7:30. All skill levels welcome. \nImage “White knitting” by youn-ar-gall is licensed under CC BY-NC-SA 2.0.
URL:https://tracylibrary.org/event/tml-knitting-group/2026-09-01/
CATEGORIES:Adults
ATTACH;FMTTYPE=image/jpeg:https://tracylibrary.org/wp-content/uploads/2024/12/knitting-e1733513828612.jpg
END:VEVENT
BEGIN:VEVENT
DTSTART;TZID=America/New_York:20260903T180000
DTEND;TZID=America/New_York:20260903T200000
DTSTAMP:20260423T182110
CREATED:20240429T190505Z
LAST-MODIFIED:20260423T193126Z
UID:10179-1788458400-1788465600@tracylibrary.org
SUMMARY:Dungeons and Dragons at the Library for Adults
DESCRIPTION:A new D&D adventure is starting in 2026.  Ages 18 and up. Beginners welcome — no prior experience necessary!  If you are interested in participating\, please email Matthew at mgunby@tracylibrary.org to get your character set up and determine which of the two tables will be a better fit.
URL:https://tracylibrary.org/event/dungeons-and-dragons-at-the-library-for-adults/2026-09-03/
LOCATION:Tracy Memorial Library
CATEGORIES:Adults
ATTACH;FMTTYPE=image/png:https://tracylibrary.org/wp-content/uploads/2024/02/Dragon_-_2-1.png
END:VEVENT
BEGIN:VEVENT
DTSTART;TZID=America/New_York:20260908T100000
DTEND;TZID=America/New_York:20260908T110000
DTSTAMP:20260423T182110
CREATED:20221213T210138Z
LAST-MODIFIED:20221213T210138Z
UID:9916-1788861600-1788865200@tracylibrary.org
SUMMARY:Morning Book Discussion
DESCRIPTION:The group meets monthly on the 2nd Tuesday of the month. New members are welcome. Copies of the book to be discussed can be borrowed at the Circulation Desk in the Library.
URL:https://tracylibrary.org/event/morning-book-discussion-3-2023-09-12/2026-09-08/
CATEGORIES:Adults,Book Discussion
ATTACH;FMTTYPE=image/png:https://tracylibrary.org/wp-content/uploads/2022/04/Morning-Book-Discussion-e1696965518696.png
END:VEVENT
BEGIN:VEVENT
DTSTART;TZID=America/New_York:20260908T150000
DTEND;TZID=America/New_York:20260908T160000
DTSTAMP:20260423T182110
CREATED:20220811T183425Z
LAST-MODIFIED:20220811T183425Z
UID:10290-1788879600-1788883200@tracylibrary.org
SUMMARY:Lego Club
DESCRIPTION:  \nJoin us in the meeting room to build with large collection of Lego bricks. Build your own creation or try one of our challenges. This event is intended for ages 5 and up. This is a drop in program and sign up is not required.
URL:https://tracylibrary.org/event/lego-club-2024-09-10-2024-09-17-2024-12-31/2026-09-08/
CATEGORIES:Youth
ATTACH;FMTTYPE=image/jpeg:https://tracylibrary.org/wp-content/uploads/2022/08/lego-gcc3f8363f_1920.jpg
END:VEVENT
BEGIN:VEVENT
DTSTART;TZID=America/New_York:20260908T180000
DTEND;TZID=America/New_York:20260908T193000
DTSTAMP:20260423T182110
CREATED:20241206T192354Z
LAST-MODIFIED:20241206T192354Z
UID:9840-1788890400-1788895800@tracylibrary.org
SUMMARY:TML Knitting Group
DESCRIPTION:Do you knit\, crochet or stitch? Looking to meet fellow practitioners of the fabric arts? Look no further than the Tracy Library.  Every Tuesday\, the TML Knitting Group will be meeting in the NH Room from 6-7:30. All skill levels welcome. \nImage “White knitting” by youn-ar-gall is licensed under CC BY-NC-SA 2.0.
URL:https://tracylibrary.org/event/tml-knitting-group/2026-09-08/
CATEGORIES:Adults
ATTACH;FMTTYPE=image/jpeg:https://tracylibrary.org/wp-content/uploads/2024/12/knitting-e1733513828612.jpg
END:VEVENT
BEGIN:VEVENT
DTSTART;TZID=America/New_York:20260915T150000
DTEND;TZID=America/New_York:20260915T160000
DTSTAMP:20260423T182110
CREATED:20220811T183425Z
LAST-MODIFIED:20220811T183425Z
UID:10291-1789484400-1789488000@tracylibrary.org
SUMMARY:Lego Club
DESCRIPTION:  \nJoin us in the meeting room to build with large collection of Lego bricks. Build your own creation or try one of our challenges. This event is intended for ages 5 and up. This is a drop in program and sign up is not required.
URL:https://tracylibrary.org/event/lego-club-2024-09-10-2024-09-17-2024-12-31/2026-09-15/
CATEGORIES:Youth
ATTACH;FMTTYPE=image/jpeg:https://tracylibrary.org/wp-content/uploads/2022/08/lego-gcc3f8363f_1920.jpg
END:VEVENT
BEGIN:VEVENT
DTSTART;TZID=America/New_York:20260915T180000
DTEND;TZID=America/New_York:20260915T193000
DTSTAMP:20260423T182110
CREATED:20241206T192354Z
LAST-MODIFIED:20241206T192354Z
UID:9841-1789495200-1789500600@tracylibrary.org
SUMMARY:TML Knitting Group
DESCRIPTION:Do you knit\, crochet or stitch? Looking to meet fellow practitioners of the fabric arts? Look no further than the Tracy Library.  Every Tuesday\, the TML Knitting Group will be meeting in the NH Room from 6-7:30. All skill levels welcome. \nImage “White knitting” by youn-ar-gall is licensed under CC BY-NC-SA 2.0.
URL:https://tracylibrary.org/event/tml-knitting-group/2026-09-15/
CATEGORIES:Adults
ATTACH;FMTTYPE=image/jpeg:https://tracylibrary.org/wp-content/uploads/2024/12/knitting-e1733513828612.jpg
END:VEVENT
BEGIN:VEVENT
DTSTART;TZID=America/New_York:20260922T150000
DTEND;TZID=America/New_York:20260922T160000
DTSTAMP:20260423T182110
CREATED:20220811T183425Z
LAST-MODIFIED:20220811T183425Z
UID:10292-1790089200-1790092800@tracylibrary.org
SUMMARY:Lego Club
DESCRIPTION:  \nJoin us in the meeting room to build with large collection of Lego bricks. Build your own creation or try one of our challenges. This event is intended for ages 5 and up. This is a drop in program and sign up is not required.
URL:https://tracylibrary.org/event/lego-club-2024-09-10-2024-09-17-2024-12-31/2026-09-22/
CATEGORIES:Youth
ATTACH;FMTTYPE=image/jpeg:https://tracylibrary.org/wp-content/uploads/2022/08/lego-gcc3f8363f_1920.jpg
END:VEVENT
BEGIN:VEVENT
DTSTART;TZID=America/New_York:20260922T180000
DTEND;TZID=America/New_York:20260922T193000
DTSTAMP:20260423T182110
CREATED:20241206T192354Z
LAST-MODIFIED:20241206T192354Z
UID:9842-1790100000-1790105400@tracylibrary.org
SUMMARY:TML Knitting Group
DESCRIPTION:Do you knit\, crochet or stitch? Looking to meet fellow practitioners of the fabric arts? Look no further than the Tracy Library.  Every Tuesday\, the TML Knitting Group will be meeting in the NH Room from 6-7:30. All skill levels welcome. \nImage “White knitting” by youn-ar-gall is licensed under CC BY-NC-SA 2.0.
URL:https://tracylibrary.org/event/tml-knitting-group/2026-09-22/
CATEGORIES:Adults
ATTACH;FMTTYPE=image/jpeg:https://tracylibrary.org/wp-content/uploads/2024/12/knitting-e1733513828612.jpg
END:VEVENT
BEGIN:VEVENT
DTSTART;TZID=America/New_York:20260924T180000
DTEND;TZID=America/New_York:20260924T200000
DTSTAMP:20260423T182110
CREATED:20240429T190505Z
LAST-MODIFIED:20260423T193127Z
UID:10180-1790272800-1790280000@tracylibrary.org
SUMMARY:Dungeons and Dragons at the Library for Adults
DESCRIPTION:A new D&D adventure is starting in 2026.  Ages 18 and up. Beginners welcome — no prior experience necessary!  If you are interested in participating\, please email Matthew at mgunby@tracylibrary.org to get your character set up and determine which of the two tables will be a better fit.
URL:https://tracylibrary.org/event/dungeons-and-dragons-at-the-library-for-adults/2026-09-24/
LOCATION:Tracy Memorial Library
CATEGORIES:Adults
ATTACH;FMTTYPE=image/png:https://tracylibrary.org/wp-content/uploads/2024/02/Dragon_-_2-1.png
END:VEVENT
BEGIN:VEVENT
DTSTART;TZID=America/New_York:20260929T150000
DTEND;TZID=America/New_York:20260929T160000
DTSTAMP:20260423T182110
CREATED:20220811T183425Z
LAST-MODIFIED:20220811T183425Z
UID:10293-1790694000-1790697600@tracylibrary.org
SUMMARY:Lego Club
DESCRIPTION:  \nJoin us in the meeting room to build with large collection of Lego bricks. Build your own creation or try one of our challenges. This event is intended for ages 5 and up. This is a drop in program and sign up is not required.
URL:https://tracylibrary.org/event/lego-club-2024-09-10-2024-09-17-2024-12-31/2026-09-29/
CATEGORIES:Youth
ATTACH;FMTTYPE=image/jpeg:https://tracylibrary.org/wp-content/uploads/2022/08/lego-gcc3f8363f_1920.jpg
END:VEVENT
BEGIN:VEVENT
DTSTART;TZID=America/New_York:20260929T180000
DTEND;TZID=America/New_York:20260929T193000
DTSTAMP:20260423T182110
CREATED:20241206T192354Z
LAST-MODIFIED:20241206T192354Z
UID:9843-1790704800-1790710200@tracylibrary.org
SUMMARY:TML Knitting Group
DESCRIPTION:Do you knit\, crochet or stitch? Looking to meet fellow practitioners of the fabric arts? Look no further than the Tracy Library.  Every Tuesday\, the TML Knitting Group will be meeting in the NH Room from 6-7:30. All skill levels welcome. \nImage “White knitting” by youn-ar-gall is licensed under CC BY-NC-SA 2.0.
URL:https://tracylibrary.org/event/tml-knitting-group/2026-09-29/
CATEGORIES:Adults
ATTACH;FMTTYPE=image/jpeg:https://tracylibrary.org/wp-content/uploads/2024/12/knitting-e1733513828612.jpg
END:VEVENT
BEGIN:VEVENT
DTSTART;TZID=America/New_York:20261001T180000
DTEND;TZID=America/New_York:20261001T200000
DTSTAMP:20260423T182110
CREATED:20240429T190505Z
LAST-MODIFIED:20260423T193128Z
UID:10181-1790877600-1790884800@tracylibrary.org
SUMMARY:Dungeons and Dragons at the Library for Adults
DESCRIPTION:A new D&D adventure is starting in 2026.  Ages 18 and up. Beginners welcome — no prior experience necessary!  If you are interested in participating\, please email Matthew at mgunby@tracylibrary.org to get your character set up and determine which of the two tables will be a better fit.
URL:https://tracylibrary.org/event/dungeons-and-dragons-at-the-library-for-adults/2026-10-01/
LOCATION:Tracy Memorial Library
CATEGORIES:Adults
ATTACH;FMTTYPE=image/png:https://tracylibrary.org/wp-content/uploads/2024/02/Dragon_-_2-1.png
END:VEVENT
END:VCALENDAR