BEGIN:VCALENDAR
VERSION:2.0
PRODID:-//Tracy Memorial Library - ECPv6.15.20//NONSGML v1.0//EN
CALSCALE:GREGORIAN
METHOD:PUBLISH
X-ORIGINAL-URL:https://tracylibrary.org
X-WR-CALDESC:Events for Tracy Memorial Library
REFRESH-INTERVAL;VALUE=DURATION:PT1H
X-Robots-Tag:noindex
X-PUBLISHED-TTL:PT1H
BEGIN:VTIMEZONE
TZID:America/New_York
BEGIN:DAYLIGHT
TZOFFSETFROM:-0500
TZOFFSETTO:-0400
TZNAME:EDT
DTSTART:20230312T070000
END:DAYLIGHT
BEGIN:STANDARD
TZOFFSETFROM:-0400
TZOFFSETTO:-0500
TZNAME:EST
DTSTART:20231105T060000
END:STANDARD
BEGIN:DAYLIGHT
TZOFFSETFROM:-0500
TZOFFSETTO:-0400
TZNAME:EDT
DTSTART:20240310T070000
END:DAYLIGHT
BEGIN:STANDARD
TZOFFSETFROM:-0400
TZOFFSETTO:-0500
TZNAME:EST
DTSTART:20241103T060000
END:STANDARD
BEGIN:DAYLIGHT
TZOFFSETFROM:-0500
TZOFFSETTO:-0400
TZNAME:EDT
DTSTART:20250309T070000
END:DAYLIGHT
BEGIN:STANDARD
TZOFFSETFROM:-0400
TZOFFSETTO:-0500
TZNAME:EST
DTSTART:20251102T060000
END:STANDARD
END:VTIMEZONE
BEGIN:VEVENT
DTSTART;TZID=America/New_York:20240903T153000
DTEND;TZID=America/New_York:20240903T163000
DTSTAMP:20260425T103626
CREATED:20220811T183425Z
LAST-MODIFIED:20220811T183425Z
UID:8225-1725377400-1725381000@tracylibrary.org
SUMMARY:Lego Club
DESCRIPTION:  \nJoin us in the meeting room to build with large collection of Lego bricks. Build your own creation or try one of our challenges. This event is intended for ages 5 and up. This is a drop in program and sign up is not required.
URL:https://tracylibrary.org/event/lego-club/2024-09-03/
CATEGORIES:Youth
ATTACH;FMTTYPE=image/jpeg:https://tracylibrary.org/wp-content/uploads/2022/08/lego-gcc3f8363f_1920.jpg
END:VEVENT
BEGIN:VEVENT
DTSTART;TZID=America/New_York:20240904T100000
DTEND;TZID=America/New_York:20240904T110000
DTSTAMP:20260425T103626
CREATED:20240820T202610Z
LAST-MODIFIED:20241212T145257Z
UID:8034-1725444000-1725447600@tracylibrary.org
SUMMARY:Story Time
DESCRIPTION:Weekly on Wednesdays at 10 AM.\nJoin us in the meeting room. Each week has a unique theme. We also have themed take and make craft bag that you can complete at home.
URL:https://tracylibrary.org/event/story-time-2/2024-09-04/
ATTACH;FMTTYPE=image/jpeg:https://tracylibrary.org/wp-content/uploads/2022/08/IMG_20220803_101018772-scaled.jpg
END:VEVENT
BEGIN:VEVENT
DTSTART;TZID=America/New_York:20240905T163000
DTEND;TZID=America/New_York:20240905T180000
DTSTAMP:20260425T103626
CREATED:20240223T165200Z
LAST-MODIFIED:20240223T165200Z
UID:10396-1725553800-1725559200@tracylibrary.org
SUMMARY:Dungeons and Dragons at the Library
DESCRIPTION:Join Madeline for Dungeons and Dragons at the Library.  Open to ages 10-18.  Generally this program will meet in the meeting room\, but ask at the circulation desk in case it is booked for another event. \n  \n  \nImage courtesy of Wikimedia via a Creative Commons license: https://commons.wikimedia.org/wiki/File:Dragon_-_2.png
URL:https://tracylibrary.org/event/dungeons-and-dragons-at-the-library-2024-04-11/2024-09-05/
LOCATION:Tracy Memorial Library
CATEGORIES:Youth
ATTACH;FMTTYPE=image/png:https://tracylibrary.org/wp-content/uploads/2024/02/Dragon_-_2-1.png
END:VEVENT
BEGIN:VEVENT
DTSTART;TZID=America/New_York:20240905T163000
DTEND;TZID=America/New_York:20240905T180000
DTSTAMP:20260425T103626
CREATED:20240223T165200Z
LAST-MODIFIED:20240223T165200Z
UID:8180-1725553800-1725559200@tracylibrary.org
SUMMARY:Dungeons and Dragons at the Library
DESCRIPTION:Join Madeline for Dungeons and Dragons at the Library.  Open to ages 10-18.  Generally this program will meet in the meeting room\, but ask at the circulation desk in case it is booked for another event. \n  \n  \nImage courtesy of Wikimedia via a Creative Commons license: https://commons.wikimedia.org/wiki/File:Dragon_-_2.png
URL:https://tracylibrary.org/event/dungeons-and-dragons-at-the-library-2024-04-11-2024-08-29-2024-09-05/
LOCATION:Tracy Memorial Library
CATEGORIES:Youth
ATTACH;FMTTYPE=image/png:https://tracylibrary.org/wp-content/uploads/2024/02/Dragon_-_2-1.png
END:VEVENT
BEGIN:VEVENT
DTSTART;TZID=America/New_York:20240907T103000
DTEND;TZID=America/New_York:20240907T120000
DTSTAMP:20260425T103626
CREATED:20240620T201444Z
LAST-MODIFIED:20240813T165708Z
UID:7994-1725705000-1725710400@tracylibrary.org
SUMMARY:Pages in the Park
DESCRIPTION:A book club where you bring a book of your choosing\, mingle for the first 30 minutes (if you want!)\, then individually read your book for the rest of the time. \nThere will also be a book sway – bring books you no longer want (max of 2)\, and take a new book home! \nBYO: blanket or folding chair and a book to read.
URL:https://tracylibrary.org/event/pages-in-the-park/2024-09-07/
LOCATION:Garden at Tracy Library\, 304 Main Street\, New London\, NH\, 03257\, United States
ATTACH;FMTTYPE=image/jpeg:https://tracylibrary.org/wp-content/uploads/2024/08/Cal-graphic-of-Pages-in-the-Park.jpg
END:VEVENT
END:VCALENDAR