BEGIN:VCALENDAR
VERSION:2.0
PRODID:-//Tracy Memorial Library - ECPv6.15.20//NONSGML v1.0//EN
CALSCALE:GREGORIAN
METHOD:PUBLISH
X-ORIGINAL-URL:https://tracylibrary.org
X-WR-CALDESC:Events for Tracy Memorial Library
REFRESH-INTERVAL;VALUE=DURATION:PT1H
X-Robots-Tag:noindex
X-PUBLISHED-TTL:PT1H
BEGIN:VTIMEZONE
TZID:America/New_York
BEGIN:DAYLIGHT
TZOFFSETFROM:-0500
TZOFFSETTO:-0400
TZNAME:EDT
DTSTART:20250309T070000
END:DAYLIGHT
BEGIN:STANDARD
TZOFFSETFROM:-0400
TZOFFSETTO:-0500
TZNAME:EST
DTSTART:20251102T060000
END:STANDARD
BEGIN:DAYLIGHT
TZOFFSETFROM:-0500
TZOFFSETTO:-0400
TZNAME:EDT
DTSTART:20260308T070000
END:DAYLIGHT
BEGIN:STANDARD
TZOFFSETFROM:-0400
TZOFFSETTO:-0500
TZNAME:EST
DTSTART:20261101T060000
END:STANDARD
BEGIN:DAYLIGHT
TZOFFSETFROM:-0500
TZOFFSETTO:-0400
TZNAME:EDT
DTSTART:20270314T070000
END:DAYLIGHT
BEGIN:STANDARD
TZOFFSETFROM:-0400
TZOFFSETTO:-0500
TZNAME:EST
DTSTART:20271107T060000
END:STANDARD
END:VTIMEZONE
BEGIN:VEVENT
DTSTART;TZID=America/New_York:20260324T150000
DTEND;TZID=America/New_York:20260324T160000
DTSTAMP:20260423T135533
CREATED:20220811T183425Z
LAST-MODIFIED:20220811T183425Z
UID:10266-1774364400-1774368000@tracylibrary.org
SUMMARY:Lego Club
DESCRIPTION:  \nJoin us in the meeting room to build with large collection of Lego bricks. Build your own creation or try one of our challenges. This event is intended for ages 5 and up. This is a drop in program and sign up is not required.
URL:https://tracylibrary.org/event/lego-club-2024-09-10-2024-09-17-2024-12-31/2026-03-24/
CATEGORIES:Youth
ATTACH;FMTTYPE=image/jpeg:https://tracylibrary.org/wp-content/uploads/2022/08/lego-gcc3f8363f_1920.jpg
END:VEVENT
BEGIN:VEVENT
DTSTART;TZID=America/New_York:20260324T180000
DTEND;TZID=America/New_York:20260324T193000
DTSTAMP:20260423T135533
CREATED:20241206T192354Z
LAST-MODIFIED:20241206T192354Z
UID:9815-1774375200-1774380600@tracylibrary.org
SUMMARY:TML Knitting Group
DESCRIPTION:Do you knit\, crochet or stitch? Looking to meet fellow practitioners of the fabric arts? Look no further than the Tracy Library.  Every Tuesday\, the TML Knitting Group will be meeting in the NH Room from 6-7:30. All skill levels welcome. \nImage “White knitting” by youn-ar-gall is licensed under CC BY-NC-SA 2.0.
URL:https://tracylibrary.org/event/tml-knitting-group/2026-03-24/
CATEGORIES:Adults
ATTACH;FMTTYPE=image/jpeg:https://tracylibrary.org/wp-content/uploads/2024/12/knitting-e1733513828612.jpg
END:VEVENT
BEGIN:VEVENT
DTSTART;TZID=America/New_York:20260325T100000
DTEND;TZID=America/New_York:20260325T110000
DTSTAMP:20260423T135533
CREATED:20220505T153033Z
LAST-MODIFIED:20251223T152617Z
UID:9954-1774432800-1774436400@tracylibrary.org
SUMMARY:Story Time
DESCRIPTION:Weekly on Wednesdays at 10 AM.\nJoin us for stories\, songs and rhymes. Each week has a unique theme. We also have themed take and make craft bag that you can complete at home.
URL:https://tracylibrary.org/event/story-time/2026-03-25/
CATEGORIES:Youth
ATTACH;FMTTYPE=image/jpeg:https://tracylibrary.org/wp-content/uploads/2022/02/book-heart2.jpg
ORGANIZER;CN="Ben Cote":MAILTO:bcote@tracylibrary.org
END:VEVENT
BEGIN:VEVENT
DTSTART;TZID=America/New_York:20260326T150000
DTEND;TZID=America/New_York:20260326T160000
DTSTAMP:20260423T135533
CREATED:20231011T172219Z
LAST-MODIFIED:20231011T172219Z
UID:10335-1774537200-1774540800@tracylibrary.org
SUMMARY:Game Day
DESCRIPTION:This program is for independent gamers ages 10 to 17. Try your hand at Nintendo Switch games as well as classic board games.
URL:https://tracylibrary.org/event/game-day-2-2024-09-12-2024-09-12-2024-12-26/2026-03-26/
ATTACH;FMTTYPE=image/jpeg:https://tracylibrary.org/wp-content/uploads/2022/11/Game-Day-cover-photo-1-1.jpg
END:VEVENT
BEGIN:VEVENT
DTSTART;TZID=America/New_York:20260326T180000
DTEND;TZID=America/New_York:20260326T200000
DTSTAMP:20260423T135533
CREATED:20240429T190505Z
LAST-MODIFIED:20240429T190505Z
UID:10168-1774548000-1774555200@tracylibrary.org
SUMMARY:Dungeons and Dragons at the Library for Adults
DESCRIPTION:A new D&D adventure is starting in 2026.  Ages 18 and up. Beginners welcome — no prior experience necessary!  If you are interested in participating\, please email Matthew at mgunby@tracylibrary.org to get your character set up and determine which of the two tables will be a better fit.
URL:https://tracylibrary.org/event/dungeons-and-dragons-at-the-library-for-adults/2026-03-26/
LOCATION:Tracy Memorial Library
CATEGORIES:Adults
ATTACH;FMTTYPE=image/png:https://tracylibrary.org/wp-content/uploads/2024/02/Dragon_-_2-1.png
END:VEVENT
BEGIN:VEVENT
DTSTART;TZID=America/New_York:20260326T183000
DTEND;TZID=America/New_York:20260326T200000
DTSTAMP:20260423T135533
CREATED:20260316T181039Z
LAST-MODIFIED:20260316T181134Z
UID:10421-1774549800-1774555200@tracylibrary.org
SUMMARY:New London Historical Society Presents Old Main Street to Main Street
DESCRIPTION:This presentation will present the earliest history of New London which was centered along Old Main Street with its original Meetinghouse\, mills\, and schoolhouses. As time passed the center of town moved to Colby Hill with the Baptist Church building their new church building in 1826 and the town hall being built next to the Academy buildings. The old meetinghouse was taken down and became a men’s dormitory at the Academy. The Old Main Street Cemetery remains with its many Revolutionary War veterans and first settlers buried there – a reminder of the earliest days in New London.  Presented by Dr. William Minsinger of the New London Historical Society.
URL:https://tracylibrary.org/event/new-london-historical-society-presents-old-main-street-to-main-street/
ATTACH;FMTTYPE=image/avif:https://tracylibrary.org/wp-content/uploads/2026/03/historical-society-relogo-removebg-preview.avif
END:VEVENT
END:VCALENDAR