BEGIN:VCALENDAR
VERSION:2.0
PRODID:-//Tracy Memorial Library - ECPv6.15.20//NONSGML v1.0//EN
CALSCALE:GREGORIAN
METHOD:PUBLISH
X-ORIGINAL-URL:https://tracylibrary.org
X-WR-CALDESC:Events for Tracy Memorial Library
REFRESH-INTERVAL;VALUE=DURATION:PT1H
X-Robots-Tag:noindex
X-PUBLISHED-TTL:PT1H
BEGIN:VTIMEZONE
TZID:America/New_York
BEGIN:DAYLIGHT
TZOFFSETFROM:-0500
TZOFFSETTO:-0400
TZNAME:EDT
DTSTART:20210314T070000
END:DAYLIGHT
BEGIN:STANDARD
TZOFFSETFROM:-0400
TZOFFSETTO:-0500
TZNAME:EST
DTSTART:20211107T060000
END:STANDARD
BEGIN:DAYLIGHT
TZOFFSETFROM:-0500
TZOFFSETTO:-0400
TZNAME:EDT
DTSTART:20220313T070000
END:DAYLIGHT
BEGIN:STANDARD
TZOFFSETFROM:-0400
TZOFFSETTO:-0500
TZNAME:EST
DTSTART:20221106T060000
END:STANDARD
BEGIN:DAYLIGHT
TZOFFSETFROM:-0500
TZOFFSETTO:-0400
TZNAME:EDT
DTSTART:20230312T070000
END:DAYLIGHT
BEGIN:STANDARD
TZOFFSETFROM:-0400
TZOFFSETTO:-0500
TZNAME:EST
DTSTART:20231105T060000
END:STANDARD
END:VTIMEZONE
BEGIN:VEVENT
DTSTART;TZID=America/New_York:20221213T100000
DTEND;TZID=America/New_York:20221213T110000
DTSTAMP:20260424T205952
CREATED:20220427T015815Z
LAST-MODIFIED:20221109T164750Z
UID:4452-1670925600-1670929200@tracylibrary.org
SUMMARY:Morning Book Discussion
DESCRIPTION:December 13\, 2022\nat 10:00 AM \nThis Tender Land\nBy: William Kent Krueger\n \n“Over the course of one unforgettable summer\, four orphan vagabonds journey into the unknown\, crossing paths with others who are adrift\, from struggling farmers and traveling faith healers to displaced families and lost souls of all kinds. With the feel of a modern classic\, This Tender Land is an en­thralling\, bighearted epic that shows how the magnificent American landscape connects us all\, haunts our dreams\, and makes us whole.” – Goodreads \nThis group meets monthly on the 2nd Tuesday of the month. New members are welcome. Copies of the book to be discussed can be borrowed at the Circulation Desk in the Library. Please email missy@tracylibrary.org for more information. \n 
URL:https://tracylibrary.org/event/morning-book-discussion-2022-09-13-2022-12-13/
CATEGORIES:Adults,Book Discussion
ATTACH;FMTTYPE=image/png:https://tracylibrary.org/wp-content/uploads/2022/04/Morning-Book-Discussion-e1696965518696.png
END:VEVENT
BEGIN:VEVENT
DTSTART;TZID=America/New_York:20221108T100000
DTEND;TZID=America/New_York:20221108T110000
DTSTAMP:20260424T205952
CREATED:20220427T015815Z
LAST-MODIFIED:20221025T185911Z
UID:4451-1667901600-1667905200@tracylibrary.org
SUMMARY:Morning Book Discussion
DESCRIPTION:November 8\, 2022\nat 10:00 AM \nThe Light of the World and American Sublime\nBy: Elizabeth Alexander \nFor November’s book discussion\, we will compare two books by the same author that occupy different genres. In reading Elizabeth Alexander’s The Light of the World: A Memoir and American Sublime: Poems\, we will observe a writer working across literary forms and discuss our impressions. \nThis group meets monthly on the 2nd Tuesday of the month. New members are welcome. Copies of the book(s) to be discussed can be borrowed at the Circulation Desk in the Library. Please email missy@tracylibrary.org for more information.
URL:https://tracylibrary.org/event/morning-book-discussion-2022-09-13-2022-11-08/
CATEGORIES:Adults,Book Discussion
ATTACH;FMTTYPE=image/png:https://tracylibrary.org/wp-content/uploads/2022/04/Morning-Book-Discussion-e1696965518696.png
END:VEVENT
BEGIN:VEVENT
DTSTART;TZID=America/New_York:20221011T100000
DTEND;TZID=America/New_York:20221011T110000
DTSTAMP:20260424T205952
CREATED:20220427T015815Z
LAST-MODIFIED:20220826T183939Z
UID:4450-1665482400-1665486000@tracylibrary.org
SUMMARY:Morning Book Discussion
DESCRIPTION:This group meets monthly on the 2nd Tuesday of the month. New members are welcome. Copies of the book to be discussed can be borrowed at the Circulation Desk in the Library. For more information\, email missy@tracylibrary.org
URL:https://tracylibrary.org/event/morning-book-discussion-2022-09-13-2022-10-11/2022-10-11/
CATEGORIES:Adults,Book Discussion
ATTACH;FMTTYPE=image/png:https://tracylibrary.org/wp-content/uploads/2022/04/Morning-Book-Discussion-e1696965518696.png
END:VEVENT
BEGIN:VEVENT
DTSTART;TZID=America/New_York:20220913T100000
DTEND;TZID=America/New_York:20220913T110000
DTSTAMP:20260424T205952
CREATED:20220427T015815Z
LAST-MODIFIED:20220826T183954Z
UID:4449-1663063200-1663066800@tracylibrary.org
SUMMARY:Morning Book Discussion
DESCRIPTION:September 13\, 2022\nat 10:00 AM \nThe Tender Bar\nBy: J.R. Moehringer \nA touching memoir full of heart\, drama and comedy about a boy striving to become a man\, and his romance with a bar and the “family” within. \nIf you have any questions or would like to join\, please email missy@tracylibrary.org with any questions
URL:https://tracylibrary.org/event/morning-book-discussion-2022-09-13/
CATEGORIES:Adults,Book Discussion
ATTACH;FMTTYPE=image/png:https://tracylibrary.org/wp-content/uploads/2022/04/Morning-Book-Discussion-e1696965518696.png
END:VEVENT
BEGIN:VEVENT
DTSTART;TZID=America/New_York:20220809T100000
DTEND;TZID=America/New_York:20220809T110000
DTSTAMP:20260424T205952
CREATED:20220427T015815Z
LAST-MODIFIED:20220628T182314Z
UID:4448-1660039200-1660042800@tracylibrary.org
SUMMARY:Morning Book Discussion: Book Chat
DESCRIPTION:August’s book discussion will be a “book chat.” Bring a book that you have read (past or current) that you’d like to share with the group…any genre!  Recommendations from others are a great way to narrow down choosing a book to read! \nThis group meets monthly on the 2nd Tuesday of the month. New members are welcome. Copies of the book to be discussed can be borrowed at the Circulation Desk in the Library. Email missy@tracylibrary.org for more information.
URL:https://tracylibrary.org/event/morning-book-discussion-2022-08-09/
CATEGORIES:Adults,Book Discussion
ATTACH;FMTTYPE=image/png:https://tracylibrary.org/wp-content/uploads/2022/04/Morning-Book-Discussion-e1696965518696.png
END:VEVENT
END:VCALENDAR