BEGIN:VCALENDAR
VERSION:2.0
PRODID:-//Tracy Memorial Library - ECPv6.15.20//NONSGML v1.0//EN
CALSCALE:GREGORIAN
METHOD:PUBLISH
X-ORIGINAL-URL:https://tracylibrary.org
X-WR-CALDESC:Events for Tracy Memorial Library
REFRESH-INTERVAL;VALUE=DURATION:PT1H
X-Robots-Tag:noindex
X-PUBLISHED-TTL:PT1H
BEGIN:VTIMEZONE
TZID:America/New_York
BEGIN:DAYLIGHT
TZOFFSETFROM:-0500
TZOFFSETTO:-0400
TZNAME:EDT
DTSTART:20180311T070000
END:DAYLIGHT
BEGIN:STANDARD
TZOFFSETFROM:-0400
TZOFFSETTO:-0500
TZNAME:EST
DTSTART:20181104T060000
END:STANDARD
BEGIN:DAYLIGHT
TZOFFSETFROM:-0500
TZOFFSETTO:-0400
TZNAME:EDT
DTSTART:20190310T070000
END:DAYLIGHT
BEGIN:STANDARD
TZOFFSETFROM:-0400
TZOFFSETTO:-0500
TZNAME:EST
DTSTART:20191103T060000
END:STANDARD
BEGIN:DAYLIGHT
TZOFFSETFROM:-0500
TZOFFSETTO:-0400
TZNAME:EDT
DTSTART:20200308T070000
END:DAYLIGHT
BEGIN:STANDARD
TZOFFSETFROM:-0400
TZOFFSETTO:-0500
TZNAME:EST
DTSTART:20201101T060000
END:STANDARD
END:VTIMEZONE
BEGIN:VEVENT
DTSTART;TZID=America/New_York:20190910T093000
DTEND;TZID=America/New_York:20190910T223000
DTSTAMP:20260424T210339
CREATED:20190716T211931Z
LAST-MODIFIED:20190930T140026Z
UID:1257-1568107800-1568154600@tracylibrary.org
SUMMARY:Morning Book Discussion
DESCRIPTION:This group meets at Kearsarge Area Council On Aging (COA) at the Chapin Senior Center.\nNewcomers are always welcome – please join us! \nCopies of the upcoming book to be discussed can be picked up at the Circulation Desk in the Tracy Library. \nThe group meets on the 2nd Tuesday of the month\, except July and August.
URL:https://tracylibrary.org/event/morning-book-discussion-2/2019-09-10/
LOCATION:Chapin Senior Center\, 37 Pleasant Street\, New London\, NH\, 03257\, United States
CATEGORIES:Adults,Book Discussion
ATTACH;FMTTYPE=image/jpeg:https://tracylibrary.org/wp-content/uploads/2019/07/Morning-Book-Discussion-at-COA-e1651764860681.jpg
GEO:43.420085;-71.9806287
X-APPLE-STRUCTURED-LOCATION;VALUE=URI;X-ADDRESS=Chapin Senior Center 37 Pleasant Street New London NH 03257 United States;X-APPLE-RADIUS=500;X-TITLE=37 Pleasant Street:geo:-71.9806287,43.420085
END:VEVENT
END:VCALENDAR