BEGIN:VCALENDAR
VERSION:2.0
PRODID:-//Tracy Memorial Library - ECPv6.15.20//NONSGML v1.0//EN
CALSCALE:GREGORIAN
METHOD:PUBLISH
X-ORIGINAL-URL:https://tracylibrary.org
X-WR-CALDESC:Events for Tracy Memorial Library
REFRESH-INTERVAL;VALUE=DURATION:PT1H
X-Robots-Tag:noindex
X-PUBLISHED-TTL:PT1H
BEGIN:VTIMEZONE
TZID:America/New_York
BEGIN:DAYLIGHT
TZOFFSETFROM:-0500
TZOFFSETTO:-0400
TZNAME:EDT
DTSTART:20210314T070000
END:DAYLIGHT
BEGIN:STANDARD
TZOFFSETFROM:-0400
TZOFFSETTO:-0500
TZNAME:EST
DTSTART:20211107T060000
END:STANDARD
BEGIN:DAYLIGHT
TZOFFSETFROM:-0500
TZOFFSETTO:-0400
TZNAME:EDT
DTSTART:20220313T070000
END:DAYLIGHT
BEGIN:STANDARD
TZOFFSETFROM:-0400
TZOFFSETTO:-0500
TZNAME:EST
DTSTART:20221106T060000
END:STANDARD
BEGIN:DAYLIGHT
TZOFFSETFROM:-0500
TZOFFSETTO:-0400
TZNAME:EDT
DTSTART:20230312T070000
END:DAYLIGHT
BEGIN:STANDARD
TZOFFSETFROM:-0400
TZOFFSETTO:-0500
TZNAME:EST
DTSTART:20231105T060000
END:STANDARD
BEGIN:DAYLIGHT
TZOFFSETFROM:-0500
TZOFFSETTO:-0400
TZNAME:EDT
DTSTART:20240310T070000
END:DAYLIGHT
BEGIN:STANDARD
TZOFFSETFROM:-0400
TZOFFSETTO:-0500
TZNAME:EST
DTSTART:20241103T060000
END:STANDARD
BEGIN:DAYLIGHT
TZOFFSETFROM:-0500
TZOFFSETTO:-0400
TZNAME:EDT
DTSTART:20250309T070000
END:DAYLIGHT
BEGIN:STANDARD
TZOFFSETFROM:-0400
TZOFFSETTO:-0500
TZNAME:EST
DTSTART:20251102T060000
END:STANDARD
END:VTIMEZONE
BEGIN:VEVENT
DTSTART;TZID=America/New_York:20240425T163000
DTEND;TZID=America/New_York:20240425T180000
DTSTAMP:20260425T112647
CREATED:20240223T165200Z
LAST-MODIFIED:20240223T165200Z
UID:8159-1714062600-1714068000@tracylibrary.org
SUMMARY:Dungeons and Dragons at the Library
DESCRIPTION:Join Madeline for Dungeons and Dragons at the Library.  Open to ages 10-18.  Generally this program will meet in the meeting room\, but ask at the circulation desk in case it is booked for another event. \n  \n  \nImage courtesy of Wikimedia via a Creative Commons license: https://commons.wikimedia.org/wiki/File:Dragon_-_2.png
URL:https://tracylibrary.org/event/dungeons-and-dragons-at-the-library-2024-04-11/2024-04-25/
LOCATION:Tracy Memorial Library
CATEGORIES:Youth
ATTACH;FMTTYPE=image/png:https://tracylibrary.org/wp-content/uploads/2024/02/Dragon_-_2-1.png
END:VEVENT
BEGIN:VEVENT
DTSTART;TZID=America/New_York:20240420T100000
DTEND;TZID=America/New_York:20240420T113000
DTSTAMP:20260425T112647
CREATED:20240321T184109Z
LAST-MODIFIED:20240430T155849Z
UID:7095-1713607200-1713612600@tracylibrary.org
SUMMARY:Board Games at the Library
DESCRIPTION:Interested in learning a new game?  Looking for a group of gamers with similar interests?  Join us in our meeting room for Board Games at the Library!  Library games will be available but you can also bring in your own games.
URL:https://tracylibrary.org/event/board-games-learn-and-play/2024-04-20/
LOCATION:Tracy Memorial Library
ATTACH;FMTTYPE=image/png:https://tracylibrary.org/wp-content/uploads/2024/03/Board-Game.png
END:VEVENT
BEGIN:VEVENT
DTSTART;TZID=America/New_York:20240416T173000
DTEND;TZID=America/New_York:20240416T193000
DTSTAMP:20260425T112647
CREATED:20240328T142429Z
LAST-MODIFIED:20240328T142429Z
UID:7123-1713288600-1713295800@tracylibrary.org
SUMMARY:Open House
DESCRIPTION:Learn more about library services and resources.  Meet Staff\, Trustees\, Friends and Garden members.  Get a building tour with the Interim Director.  Sign up for a library card.  Enter to win a prize.  Refreshments provided.  Drop into the Open House anytime from 5:30-7:30PM.  Contact the Library to guarantee a spot on the tour (603-526-4656 or info@tracylibrary.org)
URL:https://tracylibrary.org/event/open-house-2/
LOCATION:Tracy Memorial Library
ATTACH;FMTTYPE=image/jpeg:https://tracylibrary.org/wp-content/uploads/2020/06/porch2mp.jpg
END:VEVENT
BEGIN:VEVENT
DTSTART;TZID=America/New_York:20240413T110000
DTEND;TZID=America/New_York:20240413T130000
DTSTAMP:20260425T112647
CREATED:20240321T152731Z
LAST-MODIFIED:20241226T185118Z
UID:7093-1713006000-1713013200@tracylibrary.org
SUMMARY:Writing Group
DESCRIPTION:Bring your notebook/laptop.  Continue your work or write from a prompt.  Have fun!
URL:https://tracylibrary.org/event/writing-group/2024-04-13/
LOCATION:Tracy Memorial Library
CATEGORIES:Adults
ATTACH;FMTTYPE=image/png:https://tracylibrary.org/wp-content/uploads/2024/03/Writing-Pad.png
END:VEVENT
BEGIN:VEVENT
DTSTART;TZID=America/New_York:20240412T090000
DTEND;TZID=America/New_York:20240412T170000
DTSTAMP:20260425T112647
CREATED:20240321T150001Z
LAST-MODIFIED:20250922T144906Z
UID:7090-1712912400-1712941200@tracylibrary.org
SUMMARY:Puzzle Exchange
DESCRIPTION:Join us in the meeting room Friday and take home new-to-you puzzles!  We will be accepting donated puzzles throughout the week.
URL:https://tracylibrary.org/event/puzzle-exchange/2024-04-12/
LOCATION:Tracy Memorial Library
CATEGORIES:All Ages
ATTACH;FMTTYPE=image/png:https://tracylibrary.org/wp-content/uploads/2024/03/Puzzle-Piece.png
END:VEVENT
BEGIN:VEVENT
DTSTART;TZID=America/New_York:20240411T163000
DTEND;TZID=America/New_York:20240411T193000
DTSTAMP:20260425T112647
CREATED:20240223T165200Z
LAST-MODIFIED:20240827T141340Z
UID:6999-1712853000-1712863800@tracylibrary.org
SUMMARY:Dungeons and Dragons at the Library
DESCRIPTION:Join Madeline for Dungeons and Dragons at the Library.  Open to ages 10-18.  Generally this program will meet in the meeting room\, but ask at the circulation desk in case it is booked for another event. \n  \n  \nImage courtesy of Wikimedia via a Creative Commons license: https://commons.wikimedia.org/wiki/File:Dragon_-_2.png
URL:https://tracylibrary.org/event/dungeons-and-dragons-at-the-library-2024-04-11/2024-04-11/
LOCATION:Tracy Memorial Library
CATEGORIES:Youth
ATTACH;FMTTYPE=image/png:https://tracylibrary.org/wp-content/uploads/2024/02/Dragon_-_2-1.png
END:VEVENT
BEGIN:VEVENT
DTSTART;TZID=America/New_York:20240404T163000
DTEND;TZID=America/New_York:20240404T193000
DTSTAMP:20260425T112647
CREATED:20240223T165200Z
LAST-MODIFIED:20240402T182620Z
UID:6996-1712248200-1712259000@tracylibrary.org
SUMMARY:Dungeons and Dragons at the Library
DESCRIPTION:Join Madeline for Dungeons and Dragons at the Library.  Open to ages 10-18.  Generally this program will meet in the meeting room\, but ask at the circulation desk in case it is booked for another event. \n  \n 
URL:https://tracylibrary.org/event/dungeons-and-dragons-at-the-library/
LOCATION:Tracy Memorial Library
CATEGORIES:Youth
ATTACH;FMTTYPE=image/jpeg:https://tracylibrary.org/wp-content/uploads/2024/04/Snow-Cancellation.jpg
END:VEVENT
BEGIN:VEVENT
DTSTART;TZID=America/New_York:20230625T140000
DTEND;TZID=America/New_York:20230625T160000
DTSTAMP:20260425T112647
CREATED:20230420T202900Z
LAST-MODIFIED:20230420T203028Z
UID:5871-1687701600-1687708800@tracylibrary.org
SUMMARY:Annual Garden Party
DESCRIPTION:Hosted by the Garden at Tracy Library organization. \nGarden Party Speaker: John Forti \nTopic: The Heirloom Gardener – Traditional Plants and Skills \nJohn Forti is a garden historian and ethnobotanist who has directed gardens for Plimouth Plantation Museum\, Strawbery Banke Museum\, Massachusetts Horticultural Society and Bedrock Gardens. He is also author of the best-selling book “The Heirloom Garden – Traditional Plants and Skills for the Modern World.” \nThis event is free to the public.
URL:https://tracylibrary.org/event/annual-garden-party-2/
LOCATION:Tracy Memorial Library
ATTACH;FMTTYPE=image/png:https://tracylibrary.org/wp-content/uploads/2022/06/Screenshot_20220203_060111.png
END:VEVENT
BEGIN:VEVENT
DTSTART;TZID=America/New_York:20230516T100000
DTEND;TZID=America/New_York:20230516T120000
DTSTAMP:20260425T112647
CREATED:20230413T200042Z
LAST-MODIFIED:20230413T200316Z
UID:5843-1684231200-1684238400@tracylibrary.org
SUMMARY:Estate Planning Seminar
DESCRIPTION:Tuesday\, May 16\, 10AM-12PM \nEnd-of-Life Planning: Three Keys to Avoiding Financial Ruin\nPresented by Beasley & Ferber\, the Elder & Disability Law Firm \nA long- term care crisis can devastate a family and its finances. Nobody “wants” to go to a nursing home…and almost nobody “needs” to lose their life savings if it happens. At this legal seminar\, Attorney Edward Beasley will discuss how to protect against the potentially catastrophic effects of a nursing-home stay; bullet-proofing trusts from nursing-home costs; shielding inheritance funds from outside creditors and divorcing spouses of adult children; avoiding the costly and public probate process; and more. The seminar is highly engaging\, conversational in nature and is a no-pressure event. Special guest Greg Gagne of Affinity Investment Group will provide important financial and economic insight. \nTo register\, please inquire at the circulation desk\, call 603-526-4656\, or email info@tracylibrary.org.
URL:https://tracylibrary.org/event/estate-planning-seminar/
LOCATION:Tracy Memorial Library
ATTACH;FMTTYPE=image/jpeg:https://tracylibrary.org/wp-content/uploads/2023/04/estate-planning-seminar-calendar-image.jpg
END:VEVENT
BEGIN:VEVENT
DTSTART;TZID=America/New_York:20230415T090000
DTEND;TZID=America/New_York:20230415T150000
DTSTAMP:20260425T112647
CREATED:20230322T194338Z
LAST-MODIFIED:20230411T180803Z
UID:5767-1681549200-1681570800@tracylibrary.org
SUMMARY:Telling Your Story: A Gift to Those You Love
DESCRIPTION:*Program Full – Waitlist Open!* \nSaturday\, April 15\, 9AM-3PM (midday break – please make your own plan for lunch) \nLed by experienced instructor Joan Katz\, this memoir writing workshop offers participants the opportunity for mental stimulation\, understanding family dynamics\, and exploration of their own personal\, social\, and cultural history. It offers a sense of community (team building)\, strengthens self-identity and feelings of self worth\, and provides the opportunity for participants to reflect on what has made them who they are today. \nTo register\, please inquire at the circulation desk\, call 603-526-4656\, or email Justin at jlevesque@tracylibrary.org. Seats are limited.
URL:https://tracylibrary.org/event/memoir-writing-workshop-telling-your-story-a-gift-to-those-you-love-3/
LOCATION:Tracy Memorial Library
ATTACH;FMTTYPE=image/jpeg:https://tracylibrary.org/wp-content/uploads/2023/03/writing.jpg
END:VEVENT
BEGIN:VEVENT
DTSTART;TZID=America/New_York:20221004T183000
DTEND;TZID=America/New_York:20221004T193000
DTSTAMP:20260425T112647
CREATED:20220906T192313Z
LAST-MODIFIED:20220906T192913Z
UID:4979-1664908200-1664911800@tracylibrary.org
SUMMARY:Local Authors in Conversation
DESCRIPTION:Sarah McCraw Crow joins us from Canterbury\, NH\, and has her debut novel “The Wrong Kind of Woman” available in hardcover and paperback. Amy Makechnie joins us from Andover\, NH\, and has written two young adult novels and will publish a third in 2023. \nJoin us at this program for a facilitated exchange where the two will discuss their work\, writing\, and publishing. \nEmail friends@tracylibrary.org by October 2 for a preferred seat. \nSponsored by the Friends of Tracy Memorial Library.
URL:https://tracylibrary.org/event/local-authors-in-conversation/
LOCATION:Tracy Memorial Library
ATTACH;FMTTYPE=image/png:https://tracylibrary.org/wp-content/uploads/2022/09/Screenshot-2022-09-06-152534.png
ORGANIZER;CN="Friends of TML":MAILTO:friends@tracylibrary.org
END:VEVENT
BEGIN:VEVENT
DTSTART;TZID=America/New_York:20220629T100000
DTEND;TZID=America/New_York:20220629T110000
DTSTAMP:20260425T112647
CREATED:20220505T153033Z
LAST-MODIFIED:20220622T190000Z
UID:4349-1656496800-1656500400@tracylibrary.org
SUMMARY:Story Time
DESCRIPTION:Weekly on Wednesdays at 10 AM\nStory Time will be outside reservations are NOT required. However in the case of inclement weather we will do story time in the meeting room and it will be first come first served for space.\nPlease email Ben at bcote@tracylibrary.org with questions.
URL:https://tracylibrary.org/event/story-time-2022-06-29/2022-06-29/
LOCATION:Tracy Memorial Library
CATEGORIES:Youth
ATTACH;FMTTYPE=image/jpeg:https://tracylibrary.org/wp-content/uploads/2022/05/CSLP-Early-Literacy-Slogan-scaled.jpg
ORGANIZER;CN="Ben Cote":MAILTO:bcote@tracylibrary.org
END:VEVENT
BEGIN:VEVENT
DTSTART;TZID=America/New_York:20220626T140000
DTEND;TZID=America/New_York:20220626T160000
DTSTAMP:20260425T112647
CREATED:20220617T153059Z
LAST-MODIFIED:20220617T153059Z
UID:4550-1656252000-1656259200@tracylibrary.org
SUMMARY:Annual Garden Party
DESCRIPTION:Hosted by the Garden at Tracy Library organization. \nFrederick Law Olmsted\, whose acclaimed landscape architectural firm designed the Garden at Tracy\, was born 200 years ago. His other works include New York’s Central Park\, Boston’s Emerald Necklace\, and the grounds of the U.S. Capitol.  We will celebrate the environmental heritage he left the world at our Garden Party.
URL:https://tracylibrary.org/event/annual-garden-party/
LOCATION:Tracy Memorial Library
ATTACH;FMTTYPE=image/png:https://tracylibrary.org/wp-content/uploads/2022/06/Screenshot_20220203_060111.png
END:VEVENT
END:VCALENDAR