BEGIN:VCALENDAR
VERSION:2.0
PRODID:-//Tracy Memorial Library - ECPv6.15.20//NONSGML v1.0//EN
CALSCALE:GREGORIAN
METHOD:PUBLISH
X-WR-CALNAME:Tracy Memorial Library
X-ORIGINAL-URL:https://tracylibrary.org
X-WR-CALDESC:Events for Tracy Memorial Library
REFRESH-INTERVAL;VALUE=DURATION:PT1H
X-Robots-Tag:noindex
X-PUBLISHED-TTL:PT1H
BEGIN:VTIMEZONE
TZID:America/New_York
BEGIN:DAYLIGHT
TZOFFSETFROM:-0500
TZOFFSETTO:-0400
TZNAME:EDT
DTSTART:20230312T070000
END:DAYLIGHT
BEGIN:STANDARD
TZOFFSETFROM:-0400
TZOFFSETTO:-0500
TZNAME:EST
DTSTART:20231105T060000
END:STANDARD
BEGIN:DAYLIGHT
TZOFFSETFROM:-0500
TZOFFSETTO:-0400
TZNAME:EDT
DTSTART:20240310T070000
END:DAYLIGHT
BEGIN:STANDARD
TZOFFSETFROM:-0400
TZOFFSETTO:-0500
TZNAME:EST
DTSTART:20241103T060000
END:STANDARD
BEGIN:DAYLIGHT
TZOFFSETFROM:-0500
TZOFFSETTO:-0400
TZNAME:EDT
DTSTART:20250309T070000
END:DAYLIGHT
BEGIN:STANDARD
TZOFFSETFROM:-0400
TZOFFSETTO:-0500
TZNAME:EST
DTSTART:20251102T060000
END:STANDARD
BEGIN:DAYLIGHT
TZOFFSETFROM:-0500
TZOFFSETTO:-0400
TZNAME:EDT
DTSTART:20260308T070000
END:DAYLIGHT
BEGIN:STANDARD
TZOFFSETFROM:-0400
TZOFFSETTO:-0500
TZNAME:EST
DTSTART:20261101T060000
END:STANDARD
END:VTIMEZONE
BEGIN:VEVENT
DTSTART;TZID=America/New_York:20250925T180000
DTEND;TZID=America/New_York:20250925T200000
DTSTAMP:20260423T182140
CREATED:20240429T190505Z
LAST-MODIFIED:20260423T193100Z
UID:10159-1758823200-1758830400@tracylibrary.org
SUMMARY:Dungeons and Dragons at the Library for Adults
DESCRIPTION:A new D&D adventure is starting in 2026.  Ages 18 and up. Beginners welcome — no prior experience necessary!  If you are interested in participating\, please email Matthew at mgunby@tracylibrary.org to get your character set up and determine which of the two tables will be a better fit.
URL:https://tracylibrary.org/event/dungeons-and-dragons-at-the-library-for-adults/2025-09-25/
LOCATION:Tracy Memorial Library
CATEGORIES:Adults
ATTACH;FMTTYPE=image/png:https://tracylibrary.org/wp-content/uploads/2024/02/Dragon_-_2-1.png
END:VEVENT
BEGIN:VEVENT
DTSTART;TZID=America/New_York:20250904T180000
DTEND;TZID=America/New_York:20250904T200000
DTSTAMP:20260423T182140
CREATED:20240429T190505Z
LAST-MODIFIED:20260423T193059Z
UID:10158-1757008800-1757016000@tracylibrary.org
SUMMARY:Dungeons and Dragons at the Library for Adults
DESCRIPTION:A new D&D adventure is starting in 2026.  Ages 18 and up. Beginners welcome — no prior experience necessary!  If you are interested in participating\, please email Matthew at mgunby@tracylibrary.org to get your character set up and determine which of the two tables will be a better fit.
URL:https://tracylibrary.org/event/dungeons-and-dragons-at-the-library-for-adults/2025-09-04/
LOCATION:Tracy Memorial Library
CATEGORIES:Adults
ATTACH;FMTTYPE=image/png:https://tracylibrary.org/wp-content/uploads/2024/02/Dragon_-_2-1.png
END:VEVENT
BEGIN:VEVENT
DTSTART;TZID=America/New_York:20250828T180000
DTEND;TZID=America/New_York:20250828T200000
DTSTAMP:20260423T182140
CREATED:20240429T190505Z
LAST-MODIFIED:20260423T193058Z
UID:10157-1756404000-1756411200@tracylibrary.org
SUMMARY:Dungeons and Dragons at the Library for Adults
DESCRIPTION:A new D&D adventure is starting in 2026.  Ages 18 and up. Beginners welcome — no prior experience necessary!  If you are interested in participating\, please email Matthew at mgunby@tracylibrary.org to get your character set up and determine which of the two tables will be a better fit.
URL:https://tracylibrary.org/event/dungeons-and-dragons-at-the-library-for-adults/2025-08-28/
LOCATION:Tracy Memorial Library
CATEGORIES:Adults
ATTACH;FMTTYPE=image/png:https://tracylibrary.org/wp-content/uploads/2024/02/Dragon_-_2-1.png
END:VEVENT
BEGIN:VEVENT
DTSTART;TZID=America/New_York:20250807T180000
DTEND;TZID=America/New_York:20250807T200000
DTSTAMP:20260423T182140
CREATED:20240429T190505Z
LAST-MODIFIED:20260423T193057Z
UID:10156-1754589600-1754596800@tracylibrary.org
SUMMARY:Dungeons and Dragons at the Library for Adults
DESCRIPTION:A new D&D adventure is starting in 2026.  Ages 18 and up. Beginners welcome — no prior experience necessary!  If you are interested in participating\, please email Matthew at mgunby@tracylibrary.org to get your character set up and determine which of the two tables will be a better fit.
URL:https://tracylibrary.org/event/dungeons-and-dragons-at-the-library-for-adults/2025-08-07/
LOCATION:Tracy Memorial Library
CATEGORIES:Adults
ATTACH;FMTTYPE=image/png:https://tracylibrary.org/wp-content/uploads/2024/02/Dragon_-_2-1.png
END:VEVENT
BEGIN:VEVENT
DTSTART;TZID=America/New_York:20250724T180000
DTEND;TZID=America/New_York:20250724T200000
DTSTAMP:20260423T182140
CREATED:20240429T190505Z
LAST-MODIFIED:20260423T193056Z
UID:10155-1753380000-1753387200@tracylibrary.org
SUMMARY:Dungeons and Dragons at the Library for Adults
DESCRIPTION:A new D&D adventure is starting in 2026.  Ages 18 and up. Beginners welcome — no prior experience necessary!  If you are interested in participating\, please email Matthew at mgunby@tracylibrary.org to get your character set up and determine which of the two tables will be a better fit.
URL:https://tracylibrary.org/event/dungeons-and-dragons-at-the-library-for-adults/2025-07-24/
LOCATION:Tracy Memorial Library
CATEGORIES:Adults
ATTACH;FMTTYPE=image/png:https://tracylibrary.org/wp-content/uploads/2024/02/Dragon_-_2-1.png
END:VEVENT
BEGIN:VEVENT
DTSTART;TZID=America/New_York:20250703T180000
DTEND;TZID=America/New_York:20250703T200000
DTSTAMP:20260423T182140
CREATED:20240429T190505Z
LAST-MODIFIED:20260423T193055Z
UID:10154-1751565600-1751572800@tracylibrary.org
SUMMARY:Dungeons and Dragons at the Library for Adults
DESCRIPTION:A new D&D adventure is starting in 2026.  Ages 18 and up. Beginners welcome — no prior experience necessary!  If you are interested in participating\, please email Matthew at mgunby@tracylibrary.org to get your character set up and determine which of the two tables will be a better fit.
URL:https://tracylibrary.org/event/dungeons-and-dragons-at-the-library-for-adults/2025-07-03/
LOCATION:Tracy Memorial Library
CATEGORIES:Adults
ATTACH;FMTTYPE=image/png:https://tracylibrary.org/wp-content/uploads/2024/02/Dragon_-_2-1.png
END:VEVENT
BEGIN:VEVENT
DTSTART;TZID=America/New_York:20250626T180000
DTEND;TZID=America/New_York:20250626T200000
DTSTAMP:20260423T182140
CREATED:20240429T190505Z
LAST-MODIFIED:20260423T193053Z
UID:10153-1750960800-1750968000@tracylibrary.org
SUMMARY:Dungeons and Dragons at the Library for Adults
DESCRIPTION:A new D&D adventure is starting in 2026.  Ages 18 and up. Beginners welcome — no prior experience necessary!  If you are interested in participating\, please email Matthew at mgunby@tracylibrary.org to get your character set up and determine which of the two tables will be a better fit.
URL:https://tracylibrary.org/event/dungeons-and-dragons-at-the-library-for-adults/2025-06-26/
LOCATION:Tracy Memorial Library
CATEGORIES:Adults
ATTACH;FMTTYPE=image/png:https://tracylibrary.org/wp-content/uploads/2024/02/Dragon_-_2-1.png
END:VEVENT
BEGIN:VEVENT
DTSTART;TZID=America/New_York:20250605T180000
DTEND;TZID=America/New_York:20250605T200000
DTSTAMP:20260423T182140
CREATED:20240429T190505Z
LAST-MODIFIED:20260423T193052Z
UID:10152-1749146400-1749153600@tracylibrary.org
SUMMARY:Dungeons and Dragons at the Library for Adults
DESCRIPTION:A new D&D adventure is starting in 2026.  Ages 18 and up. Beginners welcome — no prior experience necessary!  If you are interested in participating\, please email Matthew at mgunby@tracylibrary.org to get your character set up and determine which of the two tables will be a better fit.
URL:https://tracylibrary.org/event/dungeons-and-dragons-at-the-library-for-adults/2025-06-05/
LOCATION:Tracy Memorial Library
CATEGORIES:Adults
ATTACH;FMTTYPE=image/png:https://tracylibrary.org/wp-content/uploads/2024/02/Dragon_-_2-1.png
END:VEVENT
BEGIN:VEVENT
DTSTART;TZID=America/New_York:20250522T180000
DTEND;TZID=America/New_York:20250522T200000
DTSTAMP:20260423T182140
CREATED:20240429T190505Z
LAST-MODIFIED:20260423T193051Z
UID:10151-1747936800-1747944000@tracylibrary.org
SUMMARY:Dungeons and Dragons at the Library for Adults
DESCRIPTION:A new D&D adventure is starting in 2026.  Ages 18 and up. Beginners welcome — no prior experience necessary!  If you are interested in participating\, please email Matthew at mgunby@tracylibrary.org to get your character set up and determine which of the two tables will be a better fit.
URL:https://tracylibrary.org/event/dungeons-and-dragons-at-the-library-for-adults/2025-05-22/
LOCATION:Tracy Memorial Library
CATEGORIES:Adults
ATTACH;FMTTYPE=image/png:https://tracylibrary.org/wp-content/uploads/2024/02/Dragon_-_2-1.png
END:VEVENT
BEGIN:VEVENT
DTSTART;TZID=America/New_York:20250501T180000
DTEND;TZID=America/New_York:20250501T200000
DTSTAMP:20260423T182140
CREATED:20240429T190505Z
LAST-MODIFIED:20260423T193050Z
UID:10149-1746122400-1746129600@tracylibrary.org
SUMMARY:Dungeons and Dragons at the Library for Adults
DESCRIPTION:A new D&D adventure is starting in 2026.  Ages 18 and up. Beginners welcome — no prior experience necessary!  If you are interested in participating\, please email Matthew at mgunby@tracylibrary.org to get your character set up and determine which of the two tables will be a better fit.
URL:https://tracylibrary.org/event/dungeons-and-dragons-at-the-library-for-adults/2025-05-01/
LOCATION:Tracy Memorial Library
CATEGORIES:Adults
ATTACH;FMTTYPE=image/png:https://tracylibrary.org/wp-content/uploads/2024/02/Dragon_-_2-1.png
END:VEVENT
BEGIN:VEVENT
DTSTART;TZID=America/New_York:20250424T180000
DTEND;TZID=America/New_York:20250424T200000
DTSTAMP:20260423T182140
CREATED:20240429T190505Z
LAST-MODIFIED:20260423T193050Z
UID:10148-1745517600-1745524800@tracylibrary.org
SUMMARY:Dungeons and Dragons at the Library for Adults
DESCRIPTION:A new D&D adventure is starting in 2026.  Ages 18 and up. Beginners welcome — no prior experience necessary!  If you are interested in participating\, please email Matthew at mgunby@tracylibrary.org to get your character set up and determine which of the two tables will be a better fit.
URL:https://tracylibrary.org/event/dungeons-and-dragons-at-the-library-for-adults/2025-04-24/
LOCATION:Tracy Memorial Library
CATEGORIES:Adults
ATTACH;FMTTYPE=image/png:https://tracylibrary.org/wp-content/uploads/2024/02/Dragon_-_2-1.png
END:VEVENT
BEGIN:VEVENT
DTSTART;TZID=America/New_York:20250403T180000
DTEND;TZID=America/New_York:20250403T200000
DTSTAMP:20260423T182140
CREATED:20240429T190505Z
LAST-MODIFIED:20260423T193049Z
UID:10147-1743703200-1743710400@tracylibrary.org
SUMMARY:Dungeons and Dragons at the Library for Adults
DESCRIPTION:A new D&D adventure is starting in 2026.  Ages 18 and up. Beginners welcome — no prior experience necessary!  If you are interested in participating\, please email Matthew at mgunby@tracylibrary.org to get your character set up and determine which of the two tables will be a better fit.
URL:https://tracylibrary.org/event/dungeons-and-dragons-at-the-library-for-adults/2025-04-03/
LOCATION:Tracy Memorial Library
CATEGORIES:Adults
ATTACH;FMTTYPE=image/png:https://tracylibrary.org/wp-content/uploads/2024/02/Dragon_-_2-1.png
END:VEVENT
BEGIN:VEVENT
DTSTART;TZID=America/New_York:20250327T180000
DTEND;TZID=America/New_York:20250327T200000
DTSTAMP:20260423T182140
CREATED:20240429T190505Z
LAST-MODIFIED:20260423T193044Z
UID:10146-1743098400-1743105600@tracylibrary.org
SUMMARY:Dungeons and Dragons at the Library for Adults
DESCRIPTION:A new D&D adventure is starting in 2026.  Ages 18 and up. Beginners welcome — no prior experience necessary!  If you are interested in participating\, please email Matthew at mgunby@tracylibrary.org to get your character set up and determine which of the two tables will be a better fit.
URL:https://tracylibrary.org/event/dungeons-and-dragons-at-the-library-for-adults/2025-03-27/
LOCATION:Tracy Memorial Library
CATEGORIES:Adults
ATTACH;FMTTYPE=image/png:https://tracylibrary.org/wp-content/uploads/2024/02/Dragon_-_2-1.png
END:VEVENT
BEGIN:VEVENT
DTSTART;TZID=America/New_York:20250314T090000
DTEND;TZID=America/New_York:20250314T170000
DTSTAMP:20260423T182140
CREATED:20240321T150001Z
LAST-MODIFIED:20250922T144925Z
UID:8990-1741942800-1741971600@tracylibrary.org
SUMMARY:Puzzle Exchange
DESCRIPTION:Join us in the meeting room Friday and take home new-to-you puzzles!  We will be accepting donated puzzles throughout the week.
URL:https://tracylibrary.org/event/puzzle-exchange/2025-03-14/
LOCATION:Tracy Memorial Library
CATEGORIES:All Ages
ATTACH;FMTTYPE=image/png:https://tracylibrary.org/wp-content/uploads/2024/03/Puzzle-Piece.png
END:VEVENT
BEGIN:VEVENT
DTSTART;TZID=America/New_York:20250306T180000
DTEND;TZID=America/New_York:20250306T200000
DTSTAMP:20260423T182140
CREATED:20240429T190505Z
LAST-MODIFIED:20260423T193043Z
UID:10145-1741284000-1741291200@tracylibrary.org
SUMMARY:Dungeons and Dragons at the Library for Adults
DESCRIPTION:A new D&D adventure is starting in 2026.  Ages 18 and up. Beginners welcome — no prior experience necessary!  If you are interested in participating\, please email Matthew at mgunby@tracylibrary.org to get your character set up and determine which of the two tables will be a better fit.
URL:https://tracylibrary.org/event/dungeons-and-dragons-at-the-library-for-adults/2025-03-06/
LOCATION:Tracy Memorial Library
CATEGORIES:Adults
ATTACH;FMTTYPE=image/png:https://tracylibrary.org/wp-content/uploads/2024/02/Dragon_-_2-1.png
END:VEVENT
BEGIN:VEVENT
DTSTART;TZID=America/New_York:20250227T180000
DTEND;TZID=America/New_York:20250227T200000
DTSTAMP:20260423T182140
CREATED:20240429T190505Z
LAST-MODIFIED:20260423T193043Z
UID:10144-1740679200-1740686400@tracylibrary.org
SUMMARY:Dungeons and Dragons at the Library for Adults
DESCRIPTION:A new D&D adventure is starting in 2026.  Ages 18 and up. Beginners welcome — no prior experience necessary!  If you are interested in participating\, please email Matthew at mgunby@tracylibrary.org to get your character set up and determine which of the two tables will be a better fit.
URL:https://tracylibrary.org/event/dungeons-and-dragons-at-the-library-for-adults/2025-02-27/
LOCATION:Tracy Memorial Library
CATEGORIES:Adults
ATTACH;FMTTYPE=image/png:https://tracylibrary.org/wp-content/uploads/2024/02/Dragon_-_2-1.png
END:VEVENT
BEGIN:VEVENT
DTSTART;TZID=America/New_York:20250215T110000
DTEND;TZID=America/New_York:20250215T130000
DTSTAMP:20260423T182140
CREATED:20240321T152731Z
LAST-MODIFIED:20240321T152731Z
UID:8829-1739617200-1739624400@tracylibrary.org
SUMMARY:Writing Group
DESCRIPTION:Bring your notebook/laptop.  Continue your work or write from a prompt.  Have fun!
URL:https://tracylibrary.org/event/writing-group/2025-02-15/
LOCATION:Tracy Memorial Library
CATEGORIES:Adults
ATTACH;FMTTYPE=image/png:https://tracylibrary.org/wp-content/uploads/2024/03/Writing-Pad.png
END:VEVENT
BEGIN:VEVENT
DTSTART;TZID=America/New_York:20250206T180000
DTEND;TZID=America/New_York:20250206T200000
DTSTAMP:20260423T182140
CREATED:20240429T190505Z
LAST-MODIFIED:20260423T193042Z
UID:10143-1738864800-1738872000@tracylibrary.org
SUMMARY:Dungeons and Dragons at the Library for Adults
DESCRIPTION:A new D&D adventure is starting in 2026.  Ages 18 and up. Beginners welcome — no prior experience necessary!  If you are interested in participating\, please email Matthew at mgunby@tracylibrary.org to get your character set up and determine which of the two tables will be a better fit.
URL:https://tracylibrary.org/event/dungeons-and-dragons-at-the-library-for-adults/2025-02-06/
LOCATION:Tracy Memorial Library
CATEGORIES:Adults
ATTACH;FMTTYPE=image/png:https://tracylibrary.org/wp-content/uploads/2024/02/Dragon_-_2-1.png
END:VEVENT
BEGIN:VEVENT
DTSTART;TZID=America/New_York:20250123T180000
DTEND;TZID=America/New_York:20250123T200000
DTSTAMP:20260423T182140
CREATED:20240429T190505Z
LAST-MODIFIED:20260423T193042Z
UID:8836-1737655200-1737662400@tracylibrary.org
SUMMARY:Dungeons and Dragons at the Library for Adults
DESCRIPTION:A new D&D adventure is starting in 2026.  Ages 18 and up. Beginners welcome — no prior experience necessary!  If you are interested in participating\, please email Matthew at mgunby@tracylibrary.org to get your character set up and determine which of the two tables will be a better fit.
URL:https://tracylibrary.org/event/dungeons-and-dragons-at-the-library-for-adults/2025-01-23/
LOCATION:Tracy Memorial Library
CATEGORIES:Adults
ATTACH;FMTTYPE=image/png:https://tracylibrary.org/wp-content/uploads/2024/02/Dragon_-_2-1.png
END:VEVENT
BEGIN:VEVENT
DTSTART;TZID=America/New_York:20250118T110000
DTEND;TZID=America/New_York:20250118T130000
DTSTAMP:20260423T182140
CREATED:20240321T152731Z
LAST-MODIFIED:20240321T152731Z
UID:8828-1737198000-1737205200@tracylibrary.org
SUMMARY:Writing Group
DESCRIPTION:Bring your notebook/laptop.  Continue your work or write from a prompt.  Have fun!
URL:https://tracylibrary.org/event/writing-group/2025-01-18/
LOCATION:Tracy Memorial Library
CATEGORIES:Adults
ATTACH;FMTTYPE=image/png:https://tracylibrary.org/wp-content/uploads/2024/03/Writing-Pad.png
END:VEVENT
BEGIN:VEVENT
DTSTART;TZID=America/New_York:20250102T180000
DTEND;TZID=America/New_York:20250102T200000
DTSTAMP:20260423T182140
CREATED:20240429T190505Z
LAST-MODIFIED:20260423T193041Z
UID:10142-1735840800-1735848000@tracylibrary.org
SUMMARY:Dungeons and Dragons at the Library for Adults
DESCRIPTION:A new D&D adventure is starting in 2026.  Ages 18 and up. Beginners welcome — no prior experience necessary!  If you are interested in participating\, please email Matthew at mgunby@tracylibrary.org to get your character set up and determine which of the two tables will be a better fit.
URL:https://tracylibrary.org/event/dungeons-and-dragons-at-the-library-for-adults/2025-01-02/
LOCATION:Tracy Memorial Library
CATEGORIES:Adults
ATTACH;FMTTYPE=image/png:https://tracylibrary.org/wp-content/uploads/2024/02/Dragon_-_2-1.png
END:VEVENT
BEGIN:VEVENT
DTSTART;TZID=America/New_York:20241226T180000
DTEND;TZID=America/New_York:20241226T200000
DTSTAMP:20260423T182140
CREATED:20240429T190505Z
LAST-MODIFIED:20241226T190920Z
UID:8835-1735236000-1735243200@tracylibrary.org
SUMMARY:Dungeons and Dragons at the Library for Adults
DESCRIPTION:Join DM Madeline in the meeting room for Dungeons and Dragons.  For ages 18 and up. This is part of a continuing campaign\, but beginners are welcome.  If you have not previously participated please contact Madeline at the library (mreno@tracylibrary.org).
URL:https://tracylibrary.org/event/dungeons-and-dragons-at-the-library-for-adults-2024-12-26/
LOCATION:Tracy Memorial Library
CATEGORIES:Adults
ATTACH;FMTTYPE=image/png:https://tracylibrary.org/wp-content/uploads/2024/02/Dragon_-_2-1.png
END:VEVENT
BEGIN:VEVENT
DTSTART;TZID=America/New_York:20241219T180000
DTEND;TZID=America/New_York:20241219T200000
DTSTAMP:20260423T182140
CREATED:20240429T190505Z
LAST-MODIFIED:20260423T193041Z
UID:8559-1734631200-1734638400@tracylibrary.org
SUMMARY:Dungeons and Dragons at the Library for Adults
DESCRIPTION:A new D&D adventure is starting in 2026.  Ages 18 and up. Beginners welcome — no prior experience necessary!  If you are interested in participating\, please email Matthew at mgunby@tracylibrary.org to get your character set up and determine which of the two tables will be a better fit.
URL:https://tracylibrary.org/event/dungeons-and-dragons-at-the-library-for-adults/2024-12-19/
LOCATION:Tracy Memorial Library
CATEGORIES:Adults
ATTACH;FMTTYPE=image/png:https://tracylibrary.org/wp-content/uploads/2024/02/Dragon_-_2-1.png
END:VEVENT
BEGIN:VEVENT
DTSTART;TZID=America/New_York:20241205T180000
DTEND;TZID=America/New_York:20241205T200000
DTSTAMP:20260423T182140
CREATED:20240429T190505Z
LAST-MODIFIED:20260423T193040Z
UID:10141-1733421600-1733428800@tracylibrary.org
SUMMARY:Dungeons and Dragons at the Library for Adults
DESCRIPTION:A new D&D adventure is starting in 2026.  Ages 18 and up. Beginners welcome — no prior experience necessary!  If you are interested in participating\, please email Matthew at mgunby@tracylibrary.org to get your character set up and determine which of the two tables will be a better fit.
URL:https://tracylibrary.org/event/dungeons-and-dragons-at-the-library-for-adults/2024-12-05/
LOCATION:Tracy Memorial Library
CATEGORIES:Adults
ATTACH;FMTTYPE=image/png:https://tracylibrary.org/wp-content/uploads/2024/02/Dragon_-_2-1.png
END:VEVENT
BEGIN:VEVENT
DTSTART;TZID=America/New_York:20241128T180000
DTEND;TZID=America/New_York:20241128T200000
DTSTAMP:20260423T182140
CREATED:20240429T190505Z
LAST-MODIFIED:20260423T193039Z
UID:10140-1732816800-1732824000@tracylibrary.org
SUMMARY:Dungeons and Dragons at the Library for Adults
DESCRIPTION:A new D&D adventure is starting in 2026.  Ages 18 and up. Beginners welcome — no prior experience necessary!  If you are interested in participating\, please email Matthew at mgunby@tracylibrary.org to get your character set up and determine which of the two tables will be a better fit.
URL:https://tracylibrary.org/event/dungeons-and-dragons-at-the-library-for-adults/2024-11-28/
LOCATION:Tracy Memorial Library
CATEGORIES:Adults
ATTACH;FMTTYPE=image/png:https://tracylibrary.org/wp-content/uploads/2024/02/Dragon_-_2-1.png
END:VEVENT
BEGIN:VEVENT
DTSTART;TZID=America/New_York:20241121T180000
DTEND;TZID=America/New_York:20241121T200000
DTSTAMP:20260423T182140
CREATED:20240429T190505Z
LAST-MODIFIED:20260423T193037Z
UID:7381-1732212000-1732219200@tracylibrary.org
SUMMARY:Dungeons and Dragons at the Library for Adults
DESCRIPTION:A new D&D adventure is starting in 2026.  Ages 18 and up. Beginners welcome — no prior experience necessary!  If you are interested in participating\, please email Matthew at mgunby@tracylibrary.org to get your character set up and determine which of the two tables will be a better fit.
URL:https://tracylibrary.org/event/dungeons-and-dragons-at-the-library-for-adults/2024-11-21/
LOCATION:Tracy Memorial Library
CATEGORIES:Adults
ATTACH;FMTTYPE=image/png:https://tracylibrary.org/wp-content/uploads/2024/02/Dragon_-_2-1.png
END:VEVENT
BEGIN:VEVENT
DTSTART;TZID=America/New_York:20241019T110000
DTEND;TZID=America/New_York:20241019T130000
DTSTAMP:20260423T182140
CREATED:20240321T152731Z
LAST-MODIFIED:20241226T185146Z
UID:7998-1729335600-1729342800@tracylibrary.org
SUMMARY:Writing Group
DESCRIPTION:Bring your notebook/laptop.  Continue your work or write from a prompt.  Have fun!
URL:https://tracylibrary.org/event/writing-group/2024-10-19/
LOCATION:Tracy Memorial Library
CATEGORIES:Adults
ATTACH;FMTTYPE=image/png:https://tracylibrary.org/wp-content/uploads/2024/03/Writing-Pad.png
END:VEVENT
BEGIN:VEVENT
DTSTART;TZID=America/New_York:20241018T090000
DTEND;TZID=America/New_York:20241018T170000
DTSTAMP:20260423T182140
CREATED:20240321T150001Z
LAST-MODIFIED:20250922T144922Z
UID:7993-1729242000-1729270800@tracylibrary.org
SUMMARY:Puzzle Exchange
DESCRIPTION:Join us in the meeting room Friday and take home new-to-you puzzles!  We will be accepting donated puzzles throughout the week.
URL:https://tracylibrary.org/event/puzzle-exchange/2024-10-18/
LOCATION:Tracy Memorial Library
CATEGORIES:All Ages
ATTACH;FMTTYPE=image/png:https://tracylibrary.org/wp-content/uploads/2024/03/Puzzle-Piece.png
END:VEVENT
BEGIN:VEVENT
DTSTART;TZID=America/New_York:20240926T163000
DTEND;TZID=America/New_York:20240926T180000
DTSTAMP:20260423T182140
CREATED:20240223T165200Z
LAST-MODIFIED:20240223T165200Z
UID:10399-1727368200-1727373600@tracylibrary.org
SUMMARY:Dungeons and Dragons at the Library
DESCRIPTION:Join Madeline for Dungeons and Dragons at the Library.  Open to ages 10-18.  Generally this program will meet in the meeting room\, but ask at the circulation desk in case it is booked for another event. \n  \n  \nImage courtesy of Wikimedia via a Creative Commons license: https://commons.wikimedia.org/wiki/File:Dragon_-_2.png
URL:https://tracylibrary.org/event/dungeons-and-dragons-at-the-library-2024-04-11/2024-09-26/
LOCATION:Tracy Memorial Library
CATEGORIES:Youth
ATTACH;FMTTYPE=image/png:https://tracylibrary.org/wp-content/uploads/2024/02/Dragon_-_2-1.png
END:VEVENT
BEGIN:VEVENT
DTSTART;TZID=America/New_York:20240926T163000
DTEND;TZID=America/New_York:20240926T180000
DTSTAMP:20260423T182140
CREATED:20240223T165200Z
LAST-MODIFIED:20240223T165200Z
UID:8183-1727368200-1727373600@tracylibrary.org
SUMMARY:Dungeons and Dragons at the Library
DESCRIPTION:Join Madeline for Dungeons and Dragons at the Library.  Open to ages 10-18.  Generally this program will meet in the meeting room\, but ask at the circulation desk in case it is booked for another event. \n  \n  \nImage courtesy of Wikimedia via a Creative Commons license: https://commons.wikimedia.org/wiki/File:Dragon_-_2.png
URL:https://tracylibrary.org/event/dungeons-and-dragons-at-the-library-2024-04-11-2024-08-29-2024-09-26/
LOCATION:Tracy Memorial Library
CATEGORIES:Youth
ATTACH;FMTTYPE=image/png:https://tracylibrary.org/wp-content/uploads/2024/02/Dragon_-_2-1.png
END:VEVENT
END:VCALENDAR